From mboxrd@z Thu Jan 1 00:00:00 1970 Return-Path: Received: from mails.dpdk.org (mails.dpdk.org [217.70.189.124]) by inbox.dpdk.org (Postfix) with ESMTP id 9800346BD7 for ; Mon, 21 Jul 2025 13:33:51 +0200 (CEST) Received: from mails.dpdk.org (localhost [127.0.0.1]) by mails.dpdk.org (Postfix) with ESMTP id 9435B4014F; Mon, 21 Jul 2025 13:33:51 +0200 (CEST) Received: from mail-pl1-f225.google.com (mail-pl1-f225.google.com [209.85.214.225]) by mails.dpdk.org (Postfix) with ESMTP id 599C34014F for ; Mon, 21 Jul 2025 13:33:50 +0200 (CEST) Received: by mail-pl1-f225.google.com with SMTP id d9443c01a7336-236470b2dceso32601455ad.0 for ; Mon, 21 Jul 2025 04:33:50 -0700 (PDT) DKIM-Signature: v=1; a=rsa-sha256; c=relaxed/relaxed; d=iol.unh.edu; s=unh-iol; t=1753097629; x=1753702429; darn=dpdk.org; h=references:in-reply-to:cc:to:from:subject:message-id:date:from:to :cc:subject:date:message-id:reply-to; bh=wSHn55+n0CwFysbNuXQ4KvQWeCzTRLcAKhh+F8ai6nw=; b=aYIQHBG9kThBbL8jpbYD3cDmj54MvkkH/coaaZoaERPqRToYqhRrtwSAXfKKrehrV9 UhJWqMcMKH/ZvzNk+z6DwTiAiMCtm0jOtgIAxOWNrtp3NcNdHcekHkD1EQTua3yiTUXT 9KX7pevcKZ0hKFIlI3ZcvonKLBMJyjmSdHwuk= X-Google-DKIM-Signature: v=1; a=rsa-sha256; c=relaxed/relaxed; d=1e100.net; s=20230601; t=1753097629; x=1753702429; h=references:in-reply-to:cc:to:from:subject:message-id:date :x-gm-message-state:from:to:cc:subject:date:message-id:reply-to; bh=wSHn55+n0CwFysbNuXQ4KvQWeCzTRLcAKhh+F8ai6nw=; b=e/Bv2nun5vrwqtG8v7UMXYrnCvrb121ldeaIYLgIee02DJjx5D+vvcc6hs7SsxUoGz 50T3XClTWgAgrGWZhMM1A2H4c0LgxZZy2vQ4KFYQURGXjiNVujLNOBbHU/JOKuNJimE6 M90EqgZLZP6KJn+urgxonQz2XvGtNHTxBFTb1cqbvS6h74pegrkEaah5nK7e0ofFZt+J f019mdo4VYbpW5GacgQ/7Q/NxHaEAmSLfIPsSy7WSgA4T1dPAKaLBT9GDECB79VPrO9d ArDa7MWI+Xyvd4s1Zuk6IdYHU8Brtos2oaH79wfUHRXM3Rmz8MVVT7zDYaO+2KAwEfQo f7NA== X-Gm-Message-State: AOJu0Yysnq6tS0jzSSm0xJrqvUdF86Her0ZTeXElyhi7JLokkRLbEL+v J/BsWuErrwoAZUem4/a53lD8/C+TdSvCTqPy1w8GP5usSQmy9wPQdKvppBlQlekY6gpQ2+Cjg43 dEmha7CBXwlkMqgVU1zrnnybLmzXGz6qKGDkbcgebngAs X-Gm-Gg: ASbGncvyCyVtPjcIKeVoHA0ZjLGwO69USc0KHp1rh1pDo3eGuHwEN3zUUHRzRy1FTDE YbeaRqBuxd/MVdjcruyfmH1SR+504xLzsxi8Au/YKBaf2Q2wMWKsQuoun2ghKr7AbqWzIw+7ic+ RYjz/kNXi0UeSgJNn89xjnbYyItoNwItxwp6NwJIRNuw8zuUUiY3BDOvp2+OWsjiVBY7yZdcLos Vd7HXMm/NHtfZjgwNoWlGxX+QR11aj0lO3izi25VHuDPamv6cYgGb4xVMvcTMT+Jz+16rYl7GIs hB124MRssLJ3C3pivjwjKDcmr78geQD3HsF803EmoDDFcEB/YsH9hkCWJa3fN2+ayBh17BLC X-Google-Smtp-Source: AGHT+IEmkScJqn6b91/Pr4weANm0ve2JaRd/6GSB5qn4R/iT8aENkTHjaVJ+Af7I/NE+04+QUmOIyzRKvvRu X-Received: by 2002:a17:903:1a45:b0:234:c2e7:a102 with SMTP id d9443c01a7336-23e2576c1bfmr270178185ad.43.1753097629552; Mon, 21 Jul 2025 04:33:49 -0700 (PDT) Received: from postal.iol.unh.edu (postal.iol.unh.edu. [132.177.123.84]) by smtp-relay.gmail.com with ESMTPS id d9443c01a7336-23e3b61e24asm4336755ad.31.2025.07.21.04.33.49 (version=TLS1_2 cipher=ECDHE-ECDSA-AES128-GCM-SHA256 bits=128/128); Mon, 21 Jul 2025 04:33:49 -0700 (PDT) X-Relaying-Domain: iol.unh.edu Date: Mon, 21 Jul 2025 04:33:49 -0700 (PDT) Message-ID: <687e259d.170a0220.161cd9.65cdSMTPIN_ADDED_MISSING@mx.google.com> Received: from [172.21.0.3] (unknown [172.18.0.240]) by postal.iol.unh.edu (Postfix) with ESMTP id C88606051830; Mon, 21 Jul 2025 07:33:48 -0400 (EDT) Subject: |SUCCESS| pw155371 [PATCH] [v3] mailmap: add new email to DPDK From: dpdklab@iol.unh.edu To: Test Report Cc: dpdk-test-reports@iol.unh.edu In-Reply-To: <20250719151750.48539-1-pravin.pathak.dev@gmail.com> References: <20250719151750.48539-1-pravin.pathak.dev@gmail.com> Content-Type: text/plain X-BeenThere: test-report@dpdk.org X-Mailman-Version: 2.1.29 Precedence: list List-Id: automatic DPDK test reports List-Unsubscribe: , List-Archive: List-Post: List-Help: List-Subscribe: , Errors-To: test-report-bounces@dpdk.org Test-Label: iol-abi-testing Test-Status: SUCCESS http://dpdk.org/patch/155371 _Testing PASS_ Submitter: Pravin Pathak Date: Saturday, July 19 2025 15:17:50 DPDK git baseline: Repo:dpdk Branch: master CommitID:39f537efd8bc8f86c8a4e667328ab3b4c6cf4b2d 155371 --> testing pass Upstream job id: Generic-DPDK-Compile-ABI#135053 Test environment and result as below: +-------------------------------+----------+ | Environment | abi_test | +===============================+==========+ | Debian GNU/Linux 12 | PASS | +-------------------------------+----------+ | CentOS Stream 10 | PASS | +-------------------------------+----------+ | Fedora Linux 40 | PASS | +-------------------------------+----------+ | Fedora Linux 41 | PASS | +-------------------------------+----------+ | Red Hat Enterprise Linux 8.10 | PASS | +-------------------------------+----------+ | openSUSE Leap 15.6 | PASS | +-------------------------------+----------+ | Red Hat Enterprise Linux 9.5 | PASS | +-------------------------------+----------+ | Ubuntu 22.04 | PASS | +-------------------------------+----------+ | Ubuntu 24.04 | PASS | +-------------------------------+----------+ | CentOS Stream 9 | PASS | +-------------------------------+----------+ Debian GNU/Linux 12 Kernel: 5.15 Compiler: gcc gcc (Debian 12.2.0-14+deb12u1) 12.2.0 CentOS Stream 10 Kernel: 5.15 Compiler: gcc gcc (GCC) 14.2.1 20250110 (Red Hat 14.2.1-8) Fedora Linux 40 Kernel: 5.15 Compiler: clang gcc (GCC) 14.2.1 20240912 (Red Hat 14.2.1-3) Fedora Linux 41 Kernel: 5.15 Compiler: gcc gcc (GCC) 14.3.1 20250523 (Red Hat 14.3.1-1) Red Hat Enterprise Linux 8.10 Kernel: 5.15 Compiler: gcc gcc (GCC) 8.5.0 20210514 (Red Hat 8.5.0-22) openSUSE Leap 15.6 Kernel: 5.15 Compiler: gcc gcc (SUSE Linux) 7.5.0 Red Hat Enterprise Linux 9.5 Kernel: 5.15 Compiler: gcc gcc (GCC) 11.5.0 20240719 (Red Hat 11.5.0-2) Ubuntu 22.04 Kernel: 5.15 Compiler: gcc gcc (Ubuntu 11.4.0-1ubuntu1~22.04) 11.4.0 Ubuntu 24.04 Kernel: 5.15 Compiler: gcc gcc (Ubuntu 13.3.0-6ubuntu2~24.04) 13.3.0 CentOS Stream 9 Kernel: 5.15 Compiler: gcc gcc (GCC) 11.5.0 20240719 (Red Hat 11.5.0-7) To view detailed results, visit: https://lab.dpdk.org/results/dashboard/patchsets/33700/ UNH-IOL DPDK Community Lab To manage your email subscriptions, visit: https://lab.dpdk.org/results/dashboard/preferences/subscriptions/