From mboxrd@z Thu Jan 1 00:00:00 1970 Return-Path: Received: from mails.dpdk.org (mails.dpdk.org [217.70.189.124]) by inbox.dpdk.org (Postfix) with ESMTP id B3D8746BD7 for ; Mon, 21 Jul 2025 13:34:42 +0200 (CEST) Received: from mails.dpdk.org (localhost [127.0.0.1]) by mails.dpdk.org (Postfix) with ESMTP id AE6324014F; Mon, 21 Jul 2025 13:34:42 +0200 (CEST) Received: from mail-oo1-f98.google.com (mail-oo1-f98.google.com [209.85.161.98]) by mails.dpdk.org (Postfix) with ESMTP id D09574014F for ; Mon, 21 Jul 2025 13:34:41 +0200 (CEST) Received: by mail-oo1-f98.google.com with SMTP id 006d021491bc7-611f48c6e30so1992446eaf.0 for ; Mon, 21 Jul 2025 04:34:41 -0700 (PDT) DKIM-Signature: v=1; a=rsa-sha256; c=relaxed/relaxed; d=iol.unh.edu; s=unh-iol; t=1753097681; x=1753702481; darn=dpdk.org; h=references:in-reply-to:cc:to:from:subject:message-id:date:from:to :cc:subject:date:message-id:reply-to; bh=mdKU7iGuhsdSx5sBVFpFnHdS3xKgPxUxiupGoLYLHXg=; b=TUf0fKXRBzfO4zodkT8J41NPB6YhEj06YcGZyAOfi6/VF3J2bDLdAbLb/UpNckH7Xk 6m91YaElFqWPuBB6iGQHg0uZ1QmZC7b2w0FCqxSUOFju49xqgiOwfIBlkO0GYDP4dJ9A PA8q3Rov5OUNXJHE11pUpU5R70rauakhf/owU= X-Google-DKIM-Signature: v=1; a=rsa-sha256; c=relaxed/relaxed; d=1e100.net; s=20230601; t=1753097681; x=1753702481; h=references:in-reply-to:cc:to:from:subject:message-id:date :x-gm-message-state:from:to:cc:subject:date:message-id:reply-to; bh=mdKU7iGuhsdSx5sBVFpFnHdS3xKgPxUxiupGoLYLHXg=; b=J6xkYJI6vX85Uew4NAw9nhT8Cs0XHCN323pXzsB62T5MFZxQcaUcut9DB4mAbLzdnO me8c1cjRsY7hU/YSDU7gATYH3pNq36VZCScxUuQoNw/IzLkXZeU+icxYoFVP+53/gd9m Jn9zscOvgihsMltRiX7SkfMCq4dWUZJ3R4UnDgweVDbv+4lFaLw64tqVoj8d+TJFhU9L lrvXkcG3OE86INFWbOyGhrIJKUrM1dzBJCVrxHipy0pIbqtBPP9r64kfKDqyz3UB+xco BTuiUtwTnNvX+0lNNpA8YypOYYJ8+RIZcSeUW515+FVjRd+lwMdS4KDi/f0xris4ojV4 IJzw== X-Gm-Message-State: AOJu0YybXKBl5euPej/5PH/IQNphA1Iy/0NFkMe2TENT9vcqOqjaO2Wt jqAB/aVGmBzXXF087WSVduTdtN/1BcnWgEG+c5nzHDhMpWTP0ljGkax86D4AS+TkXP4dFxqX/2c G5rkVPWMrew7whUtUSV+7gS9hdmzEMFvy5F0tpipsMkq0 X-Gm-Gg: ASbGncsQa5NSZYWkDbN8f02kNBrgB/6vUFcs/zh6PCZ1vLnHAZNpWPTbLiWOqsbmn10 eK899WTYuzi96jGKxf19tZ1ecJCiqZ5NU+7hGBz//BT/9rk+kY3l4g8mLcI0Tmb4/fW7V5iGAd1 /ROa+wNwAEcA+FAuvsx5RY+1gSmARM7AzhZMjl8L6I6VA8pRVrwwlZeve2s18UPSsKIyJbh2T63 jb1HgrjkOWvGlp6UinfP2K8npHduTy1MwcKI8qH0KYojwYox0Q2i0Q5/cCEdAIDoB3pcSUpVNV7 ZMA3PUSzpjvkymfXKBi/WogpatFha4oSwSXEiniJ0amOLBFhIZQW98gyWHr2SvK666n4q8ZV X-Google-Smtp-Source: AGHT+IGkWKhJRTfVCGBoTppiTaiMgHzsr6IQ1FtAnqrX+etXm2m1QdWXiQceZbuGo1BHoX/n/UZDS6RqZSsD X-Received: by 2002:a05:6820:2018:b0:615:a898:7e52 with SMTP id 006d021491bc7-615ad9d67demr12775973eaf.5.1753097681039; Mon, 21 Jul 2025 04:34:41 -0700 (PDT) Received: from postal.iol.unh.edu (postal.iol.unh.edu. [132.177.123.84]) by smtp-relay.gmail.com with ESMTPS id 006d021491bc7-615bcaafcb2sm212873eaf.6.2025.07.21.04.34.40 (version=TLS1_2 cipher=ECDHE-ECDSA-AES128-GCM-SHA256 bits=128/128); Mon, 21 Jul 2025 04:34:41 -0700 (PDT) X-Relaying-Domain: iol.unh.edu Date: Mon, 21 Jul 2025 04:34:41 -0700 (PDT) Message-ID: <687e25d1.050a0220.32dcb6.aa92SMTPIN_ADDED_MISSING@mx.google.com> Received: from [172.21.0.5] (unknown [172.18.0.240]) by postal.iol.unh.edu (Postfix) with ESMTP id 92CD36051830; Mon, 21 Jul 2025 07:34:40 -0400 (EDT) Subject: |SUCCESS| pw155371 [PATCH] [v3] mailmap: add new email to DPDK From: dpdklab@iol.unh.edu To: Test Report Cc: dpdk-test-reports@iol.unh.edu In-Reply-To: <20250719151750.48539-1-pravin.pathak.dev@gmail.com> References: <20250719151750.48539-1-pravin.pathak.dev@gmail.com> Content-Type: text/plain X-BeenThere: test-report@dpdk.org X-Mailman-Version: 2.1.29 Precedence: list List-Id: automatic DPDK test reports List-Unsubscribe: , List-Archive: List-Post: List-Help: List-Subscribe: , Errors-To: test-report-bounces@dpdk.org Test-Label: iol-abi-testing Test-Status: SUCCESS http://dpdk.org/patch/155371 _Testing PASS_ Submitter: Pravin Pathak Date: Saturday, July 19 2025 15:17:50 DPDK git baseline: Repo:dpdk Branch: master CommitID:39f537efd8bc8f86c8a4e667328ab3b4c6cf4b2d 155371 --> testing pass Upstream job id: Generic-DPDK-Compile-ABI#135064 Test environment and result as below: +-------------------------------+----------+ | Environment | abi_test | +===============================+==========+ | Debian GNU/Linux 12 | PASS | +-------------------------------+----------+ | CentOS Stream 10 | PASS | +-------------------------------+----------+ | Fedora Linux 40 | PASS | +-------------------------------+----------+ | Fedora Linux 41 | PASS | +-------------------------------+----------+ | Red Hat Enterprise Linux 8.10 | PASS | +-------------------------------+----------+ | openSUSE Leap 15.6 | PASS | +-------------------------------+----------+ | Red Hat Enterprise Linux 9.5 | PASS | +-------------------------------+----------+ | Ubuntu 22.04 | PASS | +-------------------------------+----------+ | Ubuntu 24.04 | PASS | +-------------------------------+----------+ | CentOS Stream 9 | PASS | +-------------------------------+----------+ Debian GNU/Linux 12 Kernel: 5.15 Compiler: gcc gcc (Debian 12.2.0-14+deb12u1) 12.2.0 CentOS Stream 10 Kernel: 5.15 Compiler: gcc gcc (GCC) 14.2.1 20250110 (Red Hat 14.2.1-8) Fedora Linux 40 Kernel: 5.15 Compiler: clang gcc (GCC) 14.2.1 20240912 (Red Hat 14.2.1-3) Fedora Linux 41 Kernel: 5.15 Compiler: gcc gcc (GCC) 14.3.1 20250523 (Red Hat 14.3.1-1) Red Hat Enterprise Linux 8.10 Kernel: 5.15 Compiler: gcc gcc (GCC) 8.5.0 20210514 (Red Hat 8.5.0-22) openSUSE Leap 15.6 Kernel: 5.15 Compiler: gcc gcc (SUSE Linux) 7.5.0 Red Hat Enterprise Linux 9.5 Kernel: 5.15 Compiler: gcc gcc (GCC) 11.5.0 20240719 (Red Hat 11.5.0-2) Ubuntu 22.04 Kernel: 5.15 Compiler: gcc gcc (Ubuntu 11.4.0-1ubuntu1~22.04) 11.4.0 Ubuntu 24.04 Kernel: 5.15 Compiler: gcc gcc (Ubuntu 13.3.0-6ubuntu2~24.04) 13.3.0 CentOS Stream 9 Kernel: 5.15 Compiler: gcc gcc (GCC) 11.5.0 20240719 (Red Hat 11.5.0-7) To view detailed results, visit: https://lab.dpdk.org/results/dashboard/patchsets/33700/ UNH-IOL DPDK Community Lab To manage your email subscriptions, visit: https://lab.dpdk.org/results/dashboard/preferences/subscriptions/