From mboxrd@z Thu Jan 1 00:00:00 1970 Return-Path: Received: from mails.dpdk.org (mails.dpdk.org [217.70.189.124]) by inbox.dpdk.org (Postfix) with ESMTP id 829ED46BCD for ; Mon, 21 Jul 2025 13:40:05 +0200 (CEST) Received: from mails.dpdk.org (localhost [127.0.0.1]) by mails.dpdk.org (Postfix) with ESMTP id 7E3BE4060F; Mon, 21 Jul 2025 13:40:05 +0200 (CEST) Received: from mail-yb1-f225.google.com (mail-yb1-f225.google.com [209.85.219.225]) by mails.dpdk.org (Postfix) with ESMTP id 1905B4060F for ; Mon, 21 Jul 2025 13:40:04 +0200 (CEST) Received: by mail-yb1-f225.google.com with SMTP id 3f1490d57ef6-e8d707b9bc2so3005310276.3 for ; Mon, 21 Jul 2025 04:40:04 -0700 (PDT) DKIM-Signature: v=1; a=rsa-sha256; c=relaxed/relaxed; d=iol.unh.edu; s=unh-iol; t=1753098003; x=1753702803; darn=dpdk.org; h=references:in-reply-to:cc:to:from:subject:message-id:date:from:to :cc:subject:date:message-id:reply-to; bh=atpuELKBsggpocWv+TfnQbWQHDtrImw0GER8dDicMi8=; b=NWe/ge796yd53EsmNuM+Hb0UOArjbrXPST8kNwPptPSi2VQqBdJGOGYAS9Y1/e2PyT gd1ZHkPt5E5q8rcZ8zYyNXCsmd2OGDXf9tr9D2cXnw4K3PL8ktBubp6cG///YsfFD3gT 5rM9tns/vUBWGboZpqvoyOKX8Sf1l8zeWkqxI= X-Google-DKIM-Signature: v=1; a=rsa-sha256; c=relaxed/relaxed; d=1e100.net; s=20230601; t=1753098003; x=1753702803; h=references:in-reply-to:cc:to:from:subject:message-id:date :x-gm-message-state:from:to:cc:subject:date:message-id:reply-to; bh=atpuELKBsggpocWv+TfnQbWQHDtrImw0GER8dDicMi8=; b=sI8L6LgucfrwmCHabL0i9S90yADEuJOtVb1rYr49Eou/m9JMKQTDvRXfaia207g2x0 pUvj1eoAUTPmSMX40rq2GMcg4xIR9CvBXdao48fWHgyn8AO5j9Lulw9bPmyoLh45ln1n D/eSBCPFjKIskxIdzlweEzDvBmm2pHwfyY6fSg/KHAcyddCBR27ZCyK3/c3T5r+4gOn8 hoNLT/SPHUqLSsvZyyzqNAikDBHd+SCJSXcjd1Q8oOVH0Qrx1RA3u5GtupoZXiR3eu/9 xDKTRU9XIhWDzMPIGO/L1WeDZTJroR0ZfP+k4tV0dZU3EQtnrZs9QmVnIZO4L5Ry1CCN nMkw== X-Gm-Message-State: AOJu0YzZ20lbNcD7BmOrz1gQ5kvr1TtH5I7Wcdpw3/9speEYquoihhbx VeaGJBOGsyGUSM+LbMbfeLLA/biZjUATm0+lnd/LXHDqQtazPrMKccW7i9WUauEl2iKohaYCBtK 7gImoAZBPT3mW7jAKRIIwKoVBf8NCGjn6uRSGZChBYExAwuQKmWYNEfsn7i93 X-Gm-Gg: ASbGncvFZx5yfosggk3C3DTiKT/W/MzGpQlFHrA0W+y6qPir20J0hMnsZc7eLVXh2EX XfYQQMHg90obm+KzYbQx2OSqm5o9vmTfuoZXxYGOMLgZoIV/R3mghiMZWbWA7nX/2zSsEgI27p1 MXFkVhuwjFUHWwZPrHuKZrTdD6frv23cSC3oA5YQOtutoxk3lP1uJFIuW4MDlO4ulFGxMoo+UVU qZ+AeKs6i4QI4365TDl2X4WAerBrzmrbUN97Njn8WjEm2EcYCQ5x2eqnXqZFuNWDkghgrfoFZwV Cv6aSdlI60u2cdScavPKahjduthXzhejc6aIpWmuH2AigkNeAw== X-Google-Smtp-Source: AGHT+IEE5PJ2/6C7U5Z50J1veSsG1eOYI71spibJDRnGjJXzKU632FL7UcSLzSNgFf9m9pvrP5lx52mW7KPF X-Received: by 2002:a05:690c:4809:b0:6ef:5097:5daa with SMTP id 00721157ae682-71835179fc9mr284043867b3.34.1753098003059; Mon, 21 Jul 2025 04:40:03 -0700 (PDT) Received: from postal.iol.unh.edu (postal.iol.unh.edu. [2606:4100:3880:1234::84]) by smtp-relay.gmail.com with ESMTPS id 3f1490d57ef6-e8d7cc0ee71sm412508276.1.2025.07.21.04.40.03 (version=TLS1_2 cipher=ECDHE-ECDSA-AES128-GCM-SHA256 bits=128/128); Mon, 21 Jul 2025 04:40:03 -0700 (PDT) X-Relaying-Domain: iol.unh.edu Date: Mon, 21 Jul 2025 04:40:03 -0700 (PDT) Message-ID: <687e2713.050a0220.354f65.4201SMTPIN_ADDED_MISSING@mx.google.com> Received: from [172.21.0.2] (unknown [172.18.0.240]) by postal.iol.unh.edu (Postfix) with ESMTP id BB2876051830; Mon, 21 Jul 2025 07:40:02 -0400 (EDT) Subject: |SUCCESS| pw155371 [PATCH] [v3] mailmap: add new email to DPDK From: dpdklab@iol.unh.edu To: Test Report Cc: dpdk-test-reports@iol.unh.edu In-Reply-To: <20250719151750.48539-1-pravin.pathak.dev@gmail.com> References: <20250719151750.48539-1-pravin.pathak.dev@gmail.com> Content-Type: text/plain X-BeenThere: test-report@dpdk.org X-Mailman-Version: 2.1.29 Precedence: list List-Id: automatic DPDK test reports List-Unsubscribe: , List-Archive: List-Post: List-Help: List-Subscribe: , Errors-To: test-report-bounces@dpdk.org Test-Label: iol-unit-amd64-testing Test-Status: SUCCESS http://dpdk.org/patch/155371 _Testing PASS_ Submitter: Pravin Pathak Date: Saturday, July 19 2025 15:17:50 DPDK git baseline: Repo:dpdk Branch: master CommitID:39f537efd8bc8f86c8a4e667328ab3b4c6cf4b2d 155371 --> testing pass Upstream job id: Generic-Unit-Test-DPDK#356811 Test environment and result as below: +-------------------------------+----------------+ | Environment | dpdk_unit_test | +===============================+================+ | CentOS Stream 10 | PASS | +-------------------------------+----------------+ | CentOS Stream 9 | PASS | +-------------------------------+----------------+ | Fedora Linux 40 | PASS | +-------------------------------+----------------+ | Debian GNU/Linux 12 | PASS | +-------------------------------+----------------+ | Red Hat Enterprise Linux 8.10 | PASS | +-------------------------------+----------------+ | Fedora Linux 41 | PASS | +-------------------------------+----------------+ | Ubuntu 20.04 | PASS | +-------------------------------+----------------+ | Ubuntu 22.04 | PASS | +-------------------------------+----------------+ | Red Hat Enterprise Linux 9.5 | PASS | +-------------------------------+----------------+ | Ubuntu 24.04 | PASS | +-------------------------------+----------------+ | Windows Server 2022 | PASS | +-------------------------------+----------------+ CentOS Stream 10 Kernel: 5.15 Compiler: gcc gcc (GCC) 14.2.1 20250110 (Red Hat 14.2.1-8) CentOS Stream 9 Kernel: 5.15 Compiler: gcc gcc (GCC) 11.5.0 20240719 (Red Hat 11.5.0-7) Fedora Linux 40 Kernel: 5.15 Compiler: clang gcc (GCC) 14.2.1 20240912 (Red Hat 14.2.1-3) Debian GNU/Linux 12 Kernel: 5.15 Compiler: gcc gcc (Debian 12.2.0-14+deb12u1) 12.2.0 Red Hat Enterprise Linux 8.10 Kernel: 5.15 Compiler: gcc gcc (GCC) 8.5.0 20210514 (Red Hat 8.5.0-22) Fedora Linux 41 Kernel: 5.15 Compiler: gcc gcc (GCC) 14.3.1 20250523 (Red Hat 14.3.1-1) Ubuntu 20.04 Kernel: 5.15 Compiler: gcc gcc (Ubuntu 9.4.0-1ubuntu1~20.04.2) 9.4.0 Ubuntu 22.04 Kernel: 5.15 Compiler: gcc gcc (Ubuntu 11.4.0-1ubuntu1~22.04) 11.4.0 Red Hat Enterprise Linux 9.5 Kernel: 5.15 Compiler: gcc gcc (GCC) 11.5.0 20240719 (Red Hat 11.5.0-2) Ubuntu 24.04 Kernel: 5.15 Compiler: gcc gcc (Ubuntu 13.3.0-6ubuntu2~24.04) 13.3.0 Windows Server 2022 Kernel: 10.0.20348.2031 Compiler: clang 15.0.7, gcc 14.1.0 (MinGW), and MSVC VS 19.39.33521 To view detailed results, visit: https://lab.dpdk.org/results/dashboard/patchsets/33700/ UNH-IOL DPDK Community Lab To manage your email subscriptions, visit: https://lab.dpdk.org/results/dashboard/preferences/subscriptions/