From mboxrd@z Thu Jan 1 00:00:00 1970 Return-Path: Received: from mails.dpdk.org (mails.dpdk.org [217.70.189.124]) by inbox.dpdk.org (Postfix) with ESMTP id 3BE1B46BD9 for ; Mon, 21 Jul 2025 15:30:31 +0200 (CEST) Received: from mails.dpdk.org (localhost [127.0.0.1]) by mails.dpdk.org (Postfix) with ESMTP id 2817B4014F; Mon, 21 Jul 2025 15:30:31 +0200 (CEST) Received: from mail-io1-f100.google.com (mail-io1-f100.google.com [209.85.166.100]) by mails.dpdk.org (Postfix) with ESMTP id 03A4A4014F for ; Mon, 21 Jul 2025 15:30:29 +0200 (CEST) Received: by mail-io1-f100.google.com with SMTP id ca18e2360f4ac-87c09672708so105639539f.3 for ; Mon, 21 Jul 2025 06:30:29 -0700 (PDT) DKIM-Signature: v=1; a=rsa-sha256; c=relaxed/relaxed; d=iol.unh.edu; s=unh-iol; t=1753104629; x=1753709429; darn=dpdk.org; h=references:in-reply-to:cc:to:from:subject:message-id:date:from:to :cc:subject:date:message-id:reply-to; bh=OLzA2PPE9uBNpe3PwF5ItqNFsN9fWAcNMYQc8GHXJxA=; b=hM5XnYQxX1EX6wNSDqoS3hSkvPS2HpOJlDQ7IqepnajST8SqM2WlODjWUPDYysF+Je dDtm+S9oZYbdbHYGlDSpPyHKerqz/0zucW4bu6FdQnxEMqKJhPnzFlb3dh+4la9DkbSe aHJBDOAWZlcJIrBQ26ahXfwgtr2Th05EX0RFY= X-Google-DKIM-Signature: v=1; a=rsa-sha256; c=relaxed/relaxed; d=1e100.net; s=20230601; t=1753104629; x=1753709429; h=references:in-reply-to:cc:to:from:subject:message-id:date :x-gm-message-state:from:to:cc:subject:date:message-id:reply-to; bh=OLzA2PPE9uBNpe3PwF5ItqNFsN9fWAcNMYQc8GHXJxA=; b=r3uNERibdc/FuzWcWlyDBEDERMsZlzrohqkW0G8JwCj2qdlZxmKBOOND0KBPb3rmhw 3+QR9SF6U4AeopzHGyTxtTedBTCzLejR3T2XtHizcYqD8vDTaMowC6uc/Uc3UGY/N0i6 f4ILLpM3/JTBFVdlTQCvYjLgNLWgF8FsQfrHPy2gFCKi3kS4Xbr8rGn4ln8JWMI4TC8X RHj71KCjwqrUSi8flHx7hRN1cG4640UZi8z2JIcpX2TSC7MI9XcFP8BWjr1DZx6cFLNQ 0nG1/4zXjvkerTs6ok7uqwx0q1oREDWXgN9pVbD5+qf71L1lWY4OqqfJI9sF8krrTgxe z6OQ== X-Gm-Message-State: AOJu0YxyPXjfVTHfpGcUakJj+PFsbfeVVwjzxMVOl0WcpPMLav8R9uBD ZZNDjS8dcCloIgKqLrcGnIJ1toRDE8uyvm1W6TWytzAA9QiCZC/8Rcye+gmaCo7HarczmDb42tu IVT3KX2Z4ZQNJPK0CHoC8xKfhgnHILN+8ugKxQuwiwYpTISlU3zVoFdfWBfqy X-Gm-Gg: ASbGnct0epuKpAv4Wq9eYMvYblD8jf4GyeswFtSxb3cJSd/gcgstf7+1Ri656ya47ya u5rwfCFkmogj6v/92weB9bnWw8lth7v74j6NvoF8Z+0Mw7BqK3ct9T5hkym8wcuuEnKnb96KNKq 0sV1tl/9Ybu8KzDnx3u09KjX9diDgY6WFg5hmletQRsacyB5IqS2018wo+GkbkFaz2+CZPxZaV/ 1cONTAA9miFCXwNJVf5xQ9jC/LEzDSwWLB6OgRP7u8BXppHYayL+kYgeMgUs6WMDgkRv3Dx+L32 +UGiMmIRBiBT+yg+c+GnFDhDyKhCIrr14kmERO6dfj8fVL4mMA== X-Google-Smtp-Source: AGHT+IGw0DW0Vjnxbf0tGz7l8Fl4wYfQM3P9xghZNd7cF1ZK3UAzlkznQDeGsdxm+SueNa0d7jGVBhk682uW X-Received: by 2002:a05:6e02:3786:b0:3e2:9193:f37b with SMTP id e9e14a558f8ab-3e29193f441mr172277145ab.16.1753104629170; Mon, 21 Jul 2025 06:30:29 -0700 (PDT) Received: from postal.iol.unh.edu (postal.iol.unh.edu. [2606:4100:3880:1234::84]) by smtp-relay.gmail.com with ESMTPS id e9e14a558f8ab-3e298201accsm4995175ab.6.2025.07.21.06.30.29 (version=TLS1_2 cipher=ECDHE-ECDSA-AES128-GCM-SHA256 bits=128/128); Mon, 21 Jul 2025 06:30:29 -0700 (PDT) X-Relaying-Domain: iol.unh.edu Date: Mon, 21 Jul 2025 06:30:29 -0700 (PDT) Message-ID: <687e40f5.050a0220.145f6.90d3SMTPIN_ADDED_MISSING@mx.google.com> Received: from [172.21.0.2] (unknown [172.18.0.240]) by postal.iol.unh.edu (Postfix) with ESMTP id A8C92604D420; Mon, 21 Jul 2025 09:30:28 -0400 (EDT) Subject: |SUCCESS| pw155372 [PATCH] net/ice: fix segfault in secondary proces From: dpdklab@iol.unh.edu To: Test Report Cc: dpdk-test-reports@iol.unh.edu In-Reply-To: <20250721105522.1019515-1-14pwcse1224@uetpeshawar.edu.pk> References: <20250721105522.1019515-1-14pwcse1224@uetpeshawar.edu.pk> Content-Type: text/plain X-BeenThere: test-report@dpdk.org X-Mailman-Version: 2.1.29 Precedence: list List-Id: automatic DPDK test reports List-Unsubscribe: , List-Archive: List-Post: List-Help: List-Subscribe: , Errors-To: test-report-bounces@dpdk.org Test-Label: iol-unit-amd64-testing Test-Status: SUCCESS http://dpdk.org/patch/155372 _Testing PASS_ Submitter: Khadem Ullah <14pwcse1224@uetpeshawar.edu.pk> Date: Monday, July 21 2025 10:55:22 DPDK git baseline: Repo:dpdk Branch: master CommitID:a6b10031d251fcc7dadede461f7e1d005024b139 155372 --> testing pass Upstream job id: Generic-Unit-Test-DPDK#356839 Test environment and result as below: +-------------------------------+----------------+ | Environment | dpdk_unit_test | +===============================+================+ | CentOS Stream 9 | PASS | +-------------------------------+----------------+ | Debian GNU/Linux 12 | PASS | +-------------------------------+----------------+ | CentOS Stream 10 | PASS | +-------------------------------+----------------+ | Fedora Linux 40 | PASS | +-------------------------------+----------------+ | Fedora Linux 41 | PASS | +-------------------------------+----------------+ | Ubuntu 22.04 | PASS | +-------------------------------+----------------+ | Red Hat Enterprise Linux 9.5 | PASS | +-------------------------------+----------------+ | Red Hat Enterprise Linux 8.10 | PASS | +-------------------------------+----------------+ | Ubuntu 20.04 | PASS | +-------------------------------+----------------+ | Ubuntu 24.04 | PASS | +-------------------------------+----------------+ | Windows Server 2022 | PASS | +-------------------------------+----------------+ CentOS Stream 9 Kernel: 5.15 Compiler: gcc gcc (GCC) 11.5.0 20240719 (Red Hat 11.5.0-7) Debian GNU/Linux 12 Kernel: 5.15 Compiler: gcc gcc (Debian 12.2.0-14+deb12u1) 12.2.0 CentOS Stream 10 Kernel: 5.15 Compiler: gcc gcc (GCC) 14.2.1 20250110 (Red Hat 14.2.1-8) Fedora Linux 40 Kernel: 5.15 Compiler: clang gcc (GCC) 14.2.1 20240912 (Red Hat 14.2.1-3) Fedora Linux 41 Kernel: 5.15 Compiler: gcc gcc (GCC) 14.3.1 20250523 (Red Hat 14.3.1-1) Ubuntu 22.04 Kernel: 5.15 Compiler: gcc gcc (Ubuntu 11.4.0-1ubuntu1~22.04) 11.4.0 Red Hat Enterprise Linux 9.5 Kernel: 5.15 Compiler: gcc gcc (GCC) 11.5.0 20240719 (Red Hat 11.5.0-2) Red Hat Enterprise Linux 8.10 Kernel: 5.15 Compiler: gcc gcc (GCC) 8.5.0 20210514 (Red Hat 8.5.0-22) Ubuntu 20.04 Kernel: 5.15 Compiler: gcc gcc (Ubuntu 9.4.0-1ubuntu1~20.04.2) 9.4.0 Ubuntu 24.04 Kernel: 5.15 Compiler: gcc gcc (Ubuntu 13.3.0-6ubuntu2~24.04) 13.3.0 Windows Server 2022 Kernel: 10.0.20348.2031 Compiler: clang 15.0.7, gcc 14.1.0 (MinGW), and MSVC VS 19.39.33521 To view detailed results, visit: https://lab.dpdk.org/results/dashboard/patchsets/33701/ UNH-IOL DPDK Community Lab To manage your email subscriptions, visit: https://lab.dpdk.org/results/dashboard/preferences/subscriptions/