From mboxrd@z Thu Jan 1 00:00:00 1970 Return-Path: Received: from mails.dpdk.org (mails.dpdk.org [217.70.189.124]) by inbox.dpdk.org (Postfix) with ESMTP id A31EE46BCD for ; Mon, 21 Jul 2025 16:43:48 +0200 (CEST) Received: from mails.dpdk.org (localhost [127.0.0.1]) by mails.dpdk.org (Postfix) with ESMTP id 8EC1E40297; Mon, 21 Jul 2025 16:43:48 +0200 (CEST) Received: from mail-pj1-f100.google.com (mail-pj1-f100.google.com [209.85.216.100]) by mails.dpdk.org (Postfix) with ESMTP id E05EC40297 for ; Mon, 21 Jul 2025 16:43:46 +0200 (CEST) Received: by mail-pj1-f100.google.com with SMTP id 98e67ed59e1d1-313a188174fso4041511a91.1 for ; Mon, 21 Jul 2025 07:43:46 -0700 (PDT) DKIM-Signature: v=1; a=rsa-sha256; c=relaxed/relaxed; d=iol.unh.edu; s=unh-iol; t=1753109026; x=1753713826; darn=dpdk.org; h=references:in-reply-to:cc:to:from:subject:message-id:date:from:to :cc:subject:date:message-id:reply-to; bh=RrIFPuNlT1s6gGHaDx0A0pBO/YvXXfX+XauyXrBzd3g=; b=IU5TpOOMrlXIPikrSa5s2gy2mR2Z6AZDKYIMXdKCX8zlAwtJ2gE0q9lajHwg6175FP behPetGAfIQiW8pwCH2yN8UapVhlx/j6B6vMQuaOlsfjiPR0MyeNrnKrHhQcmCZc+kkC /1gbLzRsrZIvw4WskKKPOdFl8dK6sW0105Ltg= X-Google-DKIM-Signature: v=1; a=rsa-sha256; c=relaxed/relaxed; d=1e100.net; s=20230601; t=1753109026; x=1753713826; h=references:in-reply-to:cc:to:from:subject:message-id:date :x-gm-message-state:from:to:cc:subject:date:message-id:reply-to; bh=RrIFPuNlT1s6gGHaDx0A0pBO/YvXXfX+XauyXrBzd3g=; b=isDB0A3oU2GlViA+mJHq+Q4FErpBl0RtY6/WzUW9whvZwlgxT7utchlhOFke4KefrW dgXPu3SeBtvYYyK1TRwK72iQJd1e+UFnTaUmuiIYZa4uInGOa7chcrqgE6Ehp9HmBN1u vq39Kj3lRqyBpoOoFVFNP4W2g3ebYPlcFi1X913ovrR9tFwgWcC5nYRhTkmVAWtfxH9t lHFR3qTog/N0MURfsAPJ0dXTuFutiJ0tgbJ2NFWHWXK1WL+XnEvARJ3GyTkEX8Wa6SMA zqulqvnyYDDpKasKOxJY5N2HBxkQ45kjNqRzjrG6q+JIpQhxecHFEdbsEz5n2WUNXueZ LYGA== X-Gm-Message-State: AOJu0Yza7RugGRSr8FCdGORtMPgy8OwDDZf2vev4dbjCQjUmQwuPO+Ch GOMOKtlWhbFyIjoojQ+3HAnKoKCocVDkUzXmU1FrW3JafPK+RuC+HWDhNKfRF9xkpBuJJNXXnzL dV4o9EbIrLLolDIXB4Fu8vqMMIz1NrUaPCBvkqQ1CYDBW X-Gm-Gg: ASbGncstEWhs4E5GDNJOmYQcTmP+bRw5HAuspUbDFqNrYoMoAlH1a/rGuCMtp6JgdM+ bIc2n0kOHPC/RUTnETjcJugA10DZyJQy7GUCJdh+v4FrH6bjFiJZtfIVBHIb8zYAt4hjWjbL8G/ 8T9bu4PcB/zcic6zPdaWj2LuxcrvcY0Qf49KwgsP6W3ryjST5luAv0zEzBDfBINPOR/rlGuS/8A fy/aI7f+sapq2fLO5Z+PT7I1ZHBmun3K7hGVWWj2gpor29S/KyAanSsiLhgPGTsczjiUiMSdl3g EdKmSWa33JkhBP8GtiBEjp7MpPRItX54KqBa2nlqup4uXPPAr1ietXq9k058i5yCvA0gx9pz X-Google-Smtp-Source: AGHT+IEHXsazylcXqwIo4YGhXW0CWVDs4MZeG5hFLt9Mt78A3h9oNKbMzHTqkFnqYeKBZNXc1Sccp63E9oCd X-Received: by 2002:a17:90b:58cb:b0:302:fc48:4f0a with SMTP id 98e67ed59e1d1-31caea8bc31mr25329463a91.0.1753109025853; Mon, 21 Jul 2025 07:43:45 -0700 (PDT) Received: from postal.iol.unh.edu (postal.iol.unh.edu. [132.177.123.84]) by smtp-relay.gmail.com with ESMTPS id 98e67ed59e1d1-31cc3f44a86sm422367a91.13.2025.07.21.07.43.45 (version=TLS1_2 cipher=ECDHE-ECDSA-AES128-GCM-SHA256 bits=128/128); Mon, 21 Jul 2025 07:43:45 -0700 (PDT) X-Relaying-Domain: iol.unh.edu Date: Mon, 21 Jul 2025 07:43:45 -0700 (PDT) Message-ID: <687e5221.170a0220.22f2ea.5a4fSMTPIN_ADDED_MISSING@mx.google.com> Received: from [172.21.0.3] (unknown [172.18.0.240]) by postal.iol.unh.edu (Postfix) with ESMTP id 1DD59604D420; Mon, 21 Jul 2025 10:43:45 -0400 (EDT) Subject: |SUCCESS| pw155372 [PATCH] net/ice: fix segfault in secondary proces From: dpdklab@iol.unh.edu To: Test Report Cc: dpdk-test-reports@iol.unh.edu In-Reply-To: <20250721105522.1019515-1-14pwcse1224@uetpeshawar.edu.pk> References: <20250721105522.1019515-1-14pwcse1224@uetpeshawar.edu.pk> Content-Type: text/plain X-BeenThere: test-report@dpdk.org X-Mailman-Version: 2.1.29 Precedence: list List-Id: automatic DPDK test reports List-Unsubscribe: , List-Archive: List-Post: List-Help: List-Subscribe: , Errors-To: test-report-bounces@dpdk.org Test-Label: iol-abi-testing Test-Status: SUCCESS http://dpdk.org/patch/155372 _Testing PASS_ Submitter: Khadem Ullah <14pwcse1224@uetpeshawar.edu.pk> Date: Monday, July 21 2025 10:55:22 DPDK git baseline: Repo:dpdk Branch: master CommitID:a6b10031d251fcc7dadede461f7e1d005024b139 155372 --> testing pass Upstream job id: Generic-DPDK-Compile-ABI#135073 Test environment and result as below: +-------------------------------+----------+ | Environment | abi_test | +===============================+==========+ | CentOS Stream 9 | PASS | +-------------------------------+----------+ | CentOS Stream 10 | PASS | +-------------------------------+----------+ | Fedora Linux 40 | PASS | +-------------------------------+----------+ | Debian GNU/Linux 12 | PASS | +-------------------------------+----------+ | Fedora Linux 41 | PASS | +-------------------------------+----------+ | Ubuntu 24.04 | PASS | +-------------------------------+----------+ | openSUSE Leap 15.6 | PASS | +-------------------------------+----------+ | Red Hat Enterprise Linux 9.5 | PASS | +-------------------------------+----------+ | Ubuntu 22.04 | PASS | +-------------------------------+----------+ | Red Hat Enterprise Linux 8.10 | PASS | +-------------------------------+----------+ CentOS Stream 9 Kernel: 5.15 Compiler: gcc gcc (GCC) 11.5.0 20240719 (Red Hat 11.5.0-7) CentOS Stream 10 Kernel: 5.15 Compiler: gcc gcc (GCC) 14.2.1 20250110 (Red Hat 14.2.1-8) Fedora Linux 40 Kernel: 5.15 Compiler: clang gcc (GCC) 14.2.1 20240912 (Red Hat 14.2.1-3) Debian GNU/Linux 12 Kernel: 5.15 Compiler: gcc gcc (Debian 12.2.0-14+deb12u1) 12.2.0 Fedora Linux 41 Kernel: 5.15 Compiler: clang gcc (GCC) 14.3.1 20250523 (Red Hat 14.3.1-1) Ubuntu 24.04 Kernel: 5.15 Compiler: gcc gcc (Ubuntu 13.3.0-6ubuntu2~24.04) 13.3.0 openSUSE Leap 15.6 Kernel: 5.15 Compiler: gcc gcc (SUSE Linux) 7.5.0 Red Hat Enterprise Linux 9.5 Kernel: 5.15 Compiler: gcc gcc (GCC) 11.5.0 20240719 (Red Hat 11.5.0-2) Ubuntu 22.04 Kernel: 5.15 Compiler: gcc gcc (Ubuntu 11.4.0-1ubuntu1~22.04) 11.4.0 Red Hat Enterprise Linux 8.10 Kernel: 5.15 Compiler: gcc gcc (GCC) 8.5.0 20210514 (Red Hat 8.5.0-22) To view detailed results, visit: https://lab.dpdk.org/results/dashboard/patchsets/33701/ UNH-IOL DPDK Community Lab To manage your email subscriptions, visit: https://lab.dpdk.org/results/dashboard/preferences/subscriptions/