From mboxrd@z Thu Jan 1 00:00:00 1970 Return-Path: Received: from mails.dpdk.org (mails.dpdk.org [217.70.189.124]) by inbox.dpdk.org (Postfix) with ESMTP id 2B9FF46BCF for ; Mon, 21 Jul 2025 16:47:03 +0200 (CEST) Received: from mails.dpdk.org (localhost [127.0.0.1]) by mails.dpdk.org (Postfix) with ESMTP id 0614240297; Mon, 21 Jul 2025 16:47:03 +0200 (CEST) Received: from mail-pg1-f227.google.com (mail-pg1-f227.google.com [209.85.215.227]) by mails.dpdk.org (Postfix) with ESMTP id 8271740297 for ; Mon, 21 Jul 2025 16:47:01 +0200 (CEST) Received: by mail-pg1-f227.google.com with SMTP id 41be03b00d2f7-879d2e419b9so2866188a12.2 for ; Mon, 21 Jul 2025 07:47:01 -0700 (PDT) DKIM-Signature: v=1; a=rsa-sha256; c=relaxed/relaxed; d=iol.unh.edu; s=unh-iol; t=1753109220; x=1753714020; darn=dpdk.org; h=references:in-reply-to:cc:to:from:subject:message-id:date:from:to :cc:subject:date:message-id:reply-to; bh=/jsgvFujV/o9Se7PJthF1JiGxRmOcVn9nEXTsHpAiko=; b=IeqJKOKpNTwzsItFmABBs8UndpOPxAO3a5tQ4cm+vSZV6juKk9/u9Dy9c8Q/+4jwMv fdBuwfEmQ/5yiEQ/LwdQbmaj6kjaiTjJMqyQNUn9hZqe2bljmDMOLUQJMhhedUTg2Weo KaSGcII8bWT5xir5AZEP48AXDxYBdpxE9vUZw= X-Google-DKIM-Signature: v=1; a=rsa-sha256; c=relaxed/relaxed; d=1e100.net; s=20230601; t=1753109220; x=1753714020; h=references:in-reply-to:cc:to:from:subject:message-id:date :x-gm-message-state:from:to:cc:subject:date:message-id:reply-to; bh=/jsgvFujV/o9Se7PJthF1JiGxRmOcVn9nEXTsHpAiko=; b=YFshmTz26K4OH19AQNvfliHd1MshKGWuCY769fx2u34oLy6S2EbqoioSaT+Z440MyV pM/U4tt8n0wLEtNVFn6cndsuxbgvaD6ot/snZ8NLmILgj08AZA9iDVf5jtuov0F8IYrY paSeQz8WN/cIGXEt4pQJG95O9JaoWFp6JNTl/cpk6MjtxAUCBDB8RqOh2Vp2A7mjMUGx 9iMzAYQseplM0g3/S0ALgdCreqv2hafy+wCMnf7jZ5hSOkxTxSTuGLW4gaYZSeGDWxxA 8d2qeqh7QF/Q/425slppIf72RA5+1sOL6egdOb3R/GnbrHa4BbXwQATlrPCzY+CsIJSW of4A== X-Gm-Message-State: AOJu0YzZpocwsnGidxxen0VzhVKa+enWDVgucNh2G7985OxI6WJO78xQ t/ZaO3hicgwUVVNIlcG8z3Z9PXJ9XVZkWKMea0VpmoaBLp3qoemq0cHBP0S9u01C5OWpGbnbXOZ AU0/yg9b3977CX/cemVxxM4ZCT+DveseU2CY5aJjCr886bblR1Y2yiFPeHubf X-Gm-Gg: ASbGncsSpbSyCzfsBFp8oR58wxSgLsUqxugUl8Oege3M2WpgJqlVnog7sAb55XKJgM3 53Vy6+5spcliw/LMDSsBswzL8aESeGb89N38hlXjmiSb7djyImYEKM4PyHEYkGdVtdqZdcerCMQ Ay2BFqwUEmD4ZhvUl8Ks76QIery/JLvHNAfv6RCR0OOtT1StvXGv/vXsVcsWcg/CQlc6xpuGmXX NoB1dHvaASvvywUZ74NKpDPvN5EsuYtcCjkj3oymBfqR84iJNGXnUgncLri+hice6bHvkC/8z/U xyIn3f4F5CXYdWiFy4UlZxXWuYR6W/URXOOLf5CSvQNhBYU/Gg== X-Google-Smtp-Source: AGHT+IGo0aqfg3MIu2MEALVm9e2okdS/HzEvfs3JIIp8YDTEEY3rmTYgbt6slLkv9s+OwHvsQdrSAUkAreOI X-Received: by 2002:a17:90b:3844:b0:311:f99e:7f4e with SMTP id 98e67ed59e1d1-31c9e75bafamr32133979a91.16.1753109220592; Mon, 21 Jul 2025 07:47:00 -0700 (PDT) Received: from postal.iol.unh.edu (postal.iol.unh.edu. [2606:4100:3880:1234::84]) by smtp-relay.gmail.com with ESMTPS id 98e67ed59e1d1-31c9f4cbd24sm665534a91.9.2025.07.21.07.47.00 (version=TLS1_2 cipher=ECDHE-ECDSA-AES128-GCM-SHA256 bits=128/128); Mon, 21 Jul 2025 07:47:00 -0700 (PDT) X-Relaying-Domain: iol.unh.edu Date: Mon, 21 Jul 2025 07:47:00 -0700 (PDT) Message-ID: <687e52e4.170a0220.14b928.09dcSMTPIN_ADDED_MISSING@mx.google.com> Received: from [172.21.0.3] (unknown [172.18.0.240]) by postal.iol.unh.edu (Postfix) with ESMTP id 67DDA604D420; Mon, 21 Jul 2025 10:46:59 -0400 (EDT) Subject: |SUCCESS| pw155373 [PATCH] ethdev: keep promiscuous/allmulti value b From: dpdklab@iol.unh.edu To: Test Report Cc: dpdk-test-reports@iol.unh.edu In-Reply-To: <20250721115139.46728-1-sunyang.wu@jaguarmicro.com> References: <20250721115139.46728-1-sunyang.wu@jaguarmicro.com> Content-Type: text/plain X-BeenThere: test-report@dpdk.org X-Mailman-Version: 2.1.29 Precedence: list List-Id: automatic DPDK test reports List-Unsubscribe: , List-Archive: List-Post: List-Help: List-Subscribe: , Errors-To: test-report-bounces@dpdk.org Test-Label: iol-unit-amd64-testing Test-Status: SUCCESS http://dpdk.org/patch/155373 _Testing PASS_ Submitter: Sunyang Wu Date: Monday, July 21 2025 11:51:39 DPDK git baseline: Repo:dpdk Branch: master CommitID:9fe9c0b231c8da5435bfccb1963121b4277f961c 155373 --> testing pass Upstream job id: Generic-Unit-Test-DPDK#356858 Test environment and result as below: +-------------------------------+----------------+ | Environment | dpdk_unit_test | +===============================+================+ | CentOS Stream 9 | PASS | +-------------------------------+----------------+ | CentOS Stream 10 | PASS | +-------------------------------+----------------+ | Debian GNU/Linux 12 | PASS | +-------------------------------+----------------+ | Red Hat Enterprise Linux 8.10 | PASS | +-------------------------------+----------------+ | Ubuntu 22.04 | PASS | +-------------------------------+----------------+ | Fedora Linux 40 | PASS | +-------------------------------+----------------+ | Ubuntu 20.04 | PASS | +-------------------------------+----------------+ | Ubuntu 24.04 | PASS | +-------------------------------+----------------+ | Fedora Linux 41 | PASS | +-------------------------------+----------------+ | Red Hat Enterprise Linux 9.5 | PASS | +-------------------------------+----------------+ | Windows Server 2022 | PASS | +-------------------------------+----------------+ CentOS Stream 9 Kernel: 5.15 Compiler: gcc gcc (GCC) 11.5.0 20240719 (Red Hat 11.5.0-7) CentOS Stream 10 Kernel: 5.15 Compiler: gcc gcc (GCC) 14.2.1 20250110 (Red Hat 14.2.1-8) Debian GNU/Linux 12 Kernel: 5.15 Compiler: gcc gcc (Debian 12.2.0-14+deb12u1) 12.2.0 Red Hat Enterprise Linux 8.10 Kernel: 5.15 Compiler: gcc gcc (GCC) 8.5.0 20210514 (Red Hat 8.5.0-22) Ubuntu 22.04 Kernel: 5.15 Compiler: gcc gcc (Ubuntu 11.4.0-1ubuntu1~22.04) 11.4.0 Fedora Linux 40 Kernel: 5.15 Compiler: gcc gcc (GCC) 14.2.1 20240912 (Red Hat 14.2.1-3) Ubuntu 20.04 Kernel: 5.15 Compiler: gcc gcc (Ubuntu 9.4.0-1ubuntu1~20.04.2) 9.4.0 Ubuntu 24.04 Kernel: 5.15 Compiler: gcc gcc (Ubuntu 13.3.0-6ubuntu2~24.04) 13.3.0 Fedora Linux 41 Kernel: 5.15 Compiler: gcc gcc (GCC) 14.3.1 20250523 (Red Hat 14.3.1-1) Red Hat Enterprise Linux 9.5 Kernel: 5.15 Compiler: gcc gcc (GCC) 11.5.0 20240719 (Red Hat 11.5.0-2) Windows Server 2022 Kernel: 10.0.20348.2031 Compiler: clang 15.0.7, gcc 14.1.0 (MinGW), and MSVC VS 19.39.33521 To view detailed results, visit: https://lab.dpdk.org/results/dashboard/patchsets/33702/ UNH-IOL DPDK Community Lab To manage your email subscriptions, visit: https://lab.dpdk.org/results/dashboard/preferences/subscriptions/