From mboxrd@z Thu Jan 1 00:00:00 1970 Return-Path: Received: from mails.dpdk.org (mails.dpdk.org [217.70.189.124]) by inbox.dpdk.org (Postfix) with ESMTP id 3FD4246BCF for ; Mon, 21 Jul 2025 17:59:43 +0200 (CEST) Received: from mails.dpdk.org (localhost [127.0.0.1]) by mails.dpdk.org (Postfix) with ESMTP id 21B7C40297; Mon, 21 Jul 2025 17:59:43 +0200 (CEST) Received: from mail-yb1-f225.google.com (mail-yb1-f225.google.com [209.85.219.225]) by mails.dpdk.org (Postfix) with ESMTP id A8DCD40297 for ; Mon, 21 Jul 2025 17:59:41 +0200 (CEST) Received: by mail-yb1-f225.google.com with SMTP id 3f1490d57ef6-e8d713e64c5so4084546276.0 for ; Mon, 21 Jul 2025 08:59:41 -0700 (PDT) DKIM-Signature: v=1; a=rsa-sha256; c=relaxed/relaxed; d=iol.unh.edu; s=unh-iol; t=1753113581; x=1753718381; darn=dpdk.org; h=references:in-reply-to:cc:to:from:subject:message-id:date:from:to :cc:subject:date:message-id:reply-to; bh=je19W9+EuWS6sTYd3cxIRofpjATQkWjTq1Q8h23wx1I=; b=NkTk29g7N9DsaNe0vPoiXdU5fBtbMgaN9f+7fh5DcIyB/WsxEBFxvjteV21vZ6SL5d q0DrryHEoLtmTZbhTua/tW499ZL7U44Pt35R/e2QI9CwNBmOC1CBPKTGjqw73NUXlYFC GqdCj1McC5fqUHyRliAQ9ipK29gnM5rnJS9cA= X-Google-DKIM-Signature: v=1; a=rsa-sha256; c=relaxed/relaxed; d=1e100.net; s=20230601; t=1753113581; x=1753718381; h=references:in-reply-to:cc:to:from:subject:message-id:date :x-gm-message-state:from:to:cc:subject:date:message-id:reply-to; bh=je19W9+EuWS6sTYd3cxIRofpjATQkWjTq1Q8h23wx1I=; b=cmdJizOsu/adqx9gUL/uVCmsCen9oKT8JmTI+gwm0xJMWARvBdNj6Afg7gbEv9KSkb 8TbefRmpgw3L+IQQ2QnwjEQZhgi+wq2FhReglEYa9ro1TvwggPgRfd/NdLetyUoACor/ QR9D1yC6X4usd5qLGx7lB6VEeNVM3AzowRrw99lRel7fqDcpGtRE9rAh5wvPaeGdyem2 t02jXiAe4hXEugzOXfOJ7TAMrRiJE3jo5muqSBLTjlCmcnyRheml3EHLtYE6DjtnfK4+ rEeCHv4slS9ZJG1ggmRb8dFq00bOiPr9yP5u4toAP87MuOAcQCE9g/cJ2IW2Icj7bgs4 6r8g== X-Gm-Message-State: AOJu0YwQQ3YpkLwKW3cZv6Xcv5mI9skA49TrAnZKApVwdaqxbD9kNoJH 9/g7TbQJyZ7+kP/6Xz2VNMa0VPGgr1mot5yUYdS6BXFcz88Hyige756hRD8K6EOlX1QS0hFcAo2 I1MDiUdTC6yE+kUTyuzivX2aPiYMGjwc2IOHd/+yuuS/T X-Gm-Gg: ASbGnctySU6AhjJFcSvY6zRFBnX/HXHtisBVtTyQQ7dleBl685PO6mzH1L22RgXiuMB iZpBkWHUCsg9AYR2SfLZ+XydWPpNV/5fXClboa8ijUvr3rHdOo5Xf7JQCz9hfplEaMGGmUjoM4F JTXjrmmrAOLQOpF3pV4D6JF/drLq9SjDS0FAPkdsPjAuey8AYmGS0k/y9CbPpgwxTWZXrqfnPUl w+1YSqz++6O/8KxQ8F4xvVMCTPkWr6QyWGs9h4pkje9nM5UcrKw59SOma8S5fg8cNhJ7c1Qfq8N 7Pr05iDOHdYs8PKj7XiEWp4LWGTOilIrIjQLgY5PArtV7a0JhinbHAz/+gkAw8ZDBYRaDemQ X-Google-Smtp-Source: AGHT+IEVnYDRnk5+Z2lE7AqBTgmngxCPSzMuA3xsV5p96ro05Ri3R8d8L9F9un7Qiir/zPPdwvH574/EpZrD X-Received: by 2002:a05:6902:cc3:b0:e8b:a75e:8638 with SMTP id 3f1490d57ef6-e8d7a5c11d3mr13916194276.48.1753113580829; Mon, 21 Jul 2025 08:59:40 -0700 (PDT) Received: from postal.iol.unh.edu (postal.iol.unh.edu. [132.177.123.84]) by smtp-relay.gmail.com with ESMTPS id 3f1490d57ef6-e8d7cdd284dsm451528276.17.2025.07.21.08.59.40 (version=TLS1_2 cipher=ECDHE-ECDSA-AES128-GCM-SHA256 bits=128/128); Mon, 21 Jul 2025 08:59:40 -0700 (PDT) X-Relaying-Domain: iol.unh.edu Date: Mon, 21 Jul 2025 08:59:40 -0700 (PDT) Message-ID: <687e63ec.050a0220.1cbefa.765aSMTPIN_ADDED_MISSING@mx.google.com> Received: from [172.21.0.6] (unknown [172.18.0.240]) by postal.iol.unh.edu (Postfix) with ESMTP id 2137E6050A61; Mon, 21 Jul 2025 11:59:40 -0400 (EDT) Subject: |SUCCESS| pw155373 [PATCH] ethdev: keep promiscuous/allmulti value b From: dpdklab@iol.unh.edu To: Test Report Cc: dpdk-test-reports@iol.unh.edu In-Reply-To: <20250721115139.46728-1-sunyang.wu@jaguarmicro.com> References: <20250721115139.46728-1-sunyang.wu@jaguarmicro.com> Content-Type: text/plain X-BeenThere: test-report@dpdk.org X-Mailman-Version: 2.1.29 Precedence: list List-Id: automatic DPDK test reports List-Unsubscribe: , List-Archive: List-Post: List-Help: List-Subscribe: , Errors-To: test-report-bounces@dpdk.org Test-Label: iol-abi-testing Test-Status: SUCCESS http://dpdk.org/patch/155373 _Testing PASS_ Submitter: Sunyang Wu Date: Monday, July 21 2025 11:51:39 DPDK git baseline: Repo:dpdk Branch: master CommitID:9fe9c0b231c8da5435bfccb1963121b4277f961c 155373 --> testing pass Upstream job id: Generic-DPDK-Compile-ABI#135080 Test environment and result as below: +-------------------------------+----------+ | Environment | abi_test | +===============================+==========+ | CentOS Stream 9 | PASS | +-------------------------------+----------+ | CentOS Stream 10 | PASS | +-------------------------------+----------+ | Debian GNU/Linux 12 | PASS | +-------------------------------+----------+ | Fedora Linux 40 | PASS | +-------------------------------+----------+ | openSUSE Leap 15.6 | PASS | +-------------------------------+----------+ | Fedora Linux 41 | PASS | +-------------------------------+----------+ | Red Hat Enterprise Linux 9.5 | PASS | +-------------------------------+----------+ | Ubuntu 24.04 | PASS | +-------------------------------+----------+ | Red Hat Enterprise Linux 8.10 | PASS | +-------------------------------+----------+ | Ubuntu 22.04 | PASS | +-------------------------------+----------+ CentOS Stream 9 Kernel: 5.15 Compiler: gcc gcc (GCC) 11.5.0 20240719 (Red Hat 11.5.0-7) CentOS Stream 10 Kernel: 5.15 Compiler: gcc gcc (GCC) 14.2.1 20250110 (Red Hat 14.2.1-8) Debian GNU/Linux 12 Kernel: 5.15 Compiler: gcc gcc (Debian 12.2.0-14+deb12u1) 12.2.0 Fedora Linux 40 Kernel: 5.15 Compiler: clang gcc (GCC) 14.2.1 20240912 (Red Hat 14.2.1-3) openSUSE Leap 15.6 Kernel: 5.15 Compiler: gcc gcc (SUSE Linux) 7.5.0 Fedora Linux 41 Kernel: 5.15 Compiler: clang gcc (GCC) 14.3.1 20250523 (Red Hat 14.3.1-1) Red Hat Enterprise Linux 9.5 Kernel: 5.15 Compiler: gcc gcc (GCC) 11.5.0 20240719 (Red Hat 11.5.0-2) Ubuntu 24.04 Kernel: 5.15 Compiler: gcc gcc (Ubuntu 13.3.0-6ubuntu2~24.04) 13.3.0 Red Hat Enterprise Linux 8.10 Kernel: 5.15 Compiler: gcc gcc (GCC) 8.5.0 20210514 (Red Hat 8.5.0-22) Ubuntu 22.04 Kernel: 5.15 Compiler: gcc gcc (Ubuntu 11.4.0-1ubuntu1~22.04) 11.4.0 To view detailed results, visit: https://lab.dpdk.org/results/dashboard/patchsets/33702/ UNH-IOL DPDK Community Lab To manage your email subscriptions, visit: https://lab.dpdk.org/results/dashboard/preferences/subscriptions/