From mboxrd@z Thu Jan 1 00:00:00 1970 Return-Path: Received: from mails.dpdk.org (mails.dpdk.org [217.70.189.124]) by inbox.dpdk.org (Postfix) with ESMTP id 40FE746BD9 for ; Mon, 21 Jul 2025 18:00:05 +0200 (CEST) Received: from mails.dpdk.org (localhost [127.0.0.1]) by mails.dpdk.org (Postfix) with ESMTP id 3D11B40297; Mon, 21 Jul 2025 18:00:05 +0200 (CEST) Received: from mail-oa1-f98.google.com (mail-oa1-f98.google.com [209.85.160.98]) by mails.dpdk.org (Postfix) with ESMTP id F17B840297 for ; Mon, 21 Jul 2025 18:00:03 +0200 (CEST) Received: by mail-oa1-f98.google.com with SMTP id 586e51a60fabf-2efa219b5bbso1408250fac.0 for ; Mon, 21 Jul 2025 09:00:03 -0700 (PDT) DKIM-Signature: v=1; a=rsa-sha256; c=relaxed/relaxed; d=iol.unh.edu; s=unh-iol; t=1753113603; x=1753718403; darn=dpdk.org; h=references:in-reply-to:cc:to:from:subject:message-id:date:from:to :cc:subject:date:message-id:reply-to; bh=BbQxUMgCcXRnYiLFNm5ossJTZ8BKm8GkO+fcePdlEfg=; b=Jck2lIkoAzC/NlfHJP8UBLuX2a/zPJGpPzN6YrFqKE4tz+4Pj9lkVTYIikpbAXQ4ea HRCIGDzEV0HvhXT1uSG2+F1dQZgcbzUxFC26YUtzY2XnCsmr5cDcRUVj1jl/43Kf7ccc Uw8PBbOgBENtqAoSXQjg+5eg3FHJd4TmXt7lc= X-Google-DKIM-Signature: v=1; a=rsa-sha256; c=relaxed/relaxed; d=1e100.net; s=20230601; t=1753113603; x=1753718403; h=references:in-reply-to:cc:to:from:subject:message-id:date :x-gm-message-state:from:to:cc:subject:date:message-id:reply-to; bh=BbQxUMgCcXRnYiLFNm5ossJTZ8BKm8GkO+fcePdlEfg=; b=OaoR2rpPeRZXIRmY5GIWWDux9fILycUVrMo1HQz8p58U4ET68G7GDTu/jpw8KLrO74 S1Cen2BKlN9Ctll+ChGfqxNY258uqgRMP0dZ8XPTdejw9cJVk2aFo+eaxpW1L4bkSPIW FoZvQApyu9WpcKwXN/At3HS/izmW7Z+jARQ7fYs20X17wIvIPXCiHWcwv2/dyN83wtLh 8gGJyn3aHUr8ae65K+QRLcwE1WfeFFqDS68Onc0pkK9OuH6CRYmVaiZ3QaCbW3a1FbUy 3fat3mNRSSUxfQkrTS22VumR2/gRuyQ2thpXZ9/5k/7knNgToBczYbetHlK0wHN+P4ys 7KMQ== X-Gm-Message-State: AOJu0YxVIJSnPOPQgFzhJcRtsHXzz3uHiMp68iBk5vLVSMtCLMQXdbyg rmX4G123uqbweUN5+m/JWP+I6zny8FWG+IgFLwUa3d2e7hEelZuHEoD2YkQnLJ4B+aCKb0K9XMe NrrZ8rGslPYUatYZq3ObfqVjwoXtWaCOy+F4ZjqbP7GhtSuo8FnYW08ME1s59 X-Gm-Gg: ASbGncuS3To4qp3nDbTOo8N3r9s+6I5fxMUGcx4GIQEO6do0qF4NbT+lb9ME0Et8J77 7C2AcxdLj2F5eI07a4kp0ww2tZXmdW7pcUPg66FUkDwYRcCw6KGzzKcF9xsBp+v8YFTMlL4mzbG VqS7oHqjZdU9tVNWn97bxML2mP/kaeXaco6niS2X1o//GIQPeVNq7vJS3Wmgpax7nsgZSmLzVJk OLhrz16hDQ/C2DCmLlQ3O5qVANG1ULpb/r6R4+cnYIyAuld8iHUY9Pqb660/zi5DYW10LeMz8iS HJlvamqSSlqiUVld9iu4j8ypQOSBq04LT+OLd8TZpsYfBdLPuQ== X-Google-Smtp-Source: AGHT+IGXcG2aYqaBdufJ3vt+c5JhM1oDz3kHwrf7eYBW0EHpdaz29si35SzzspKzRJC4bM+Dt4WSVAn3w6Nf X-Received: by 2002:a05:6871:528b:b0:2ff:8a85:fc75 with SMTP id 586e51a60fabf-2ffb24a4f49mr19142390fac.26.1753113603165; Mon, 21 Jul 2025 09:00:03 -0700 (PDT) Received: from postal.iol.unh.edu (postal.iol.unh.edu. [2606:4100:3880:1234::84]) by smtp-relay.gmail.com with ESMTPS id 586e51a60fabf-30104577098sm619631fac.2.2025.07.21.09.00.03 (version=TLS1_2 cipher=ECDHE-ECDSA-AES128-GCM-SHA256 bits=128/128); Mon, 21 Jul 2025 09:00:03 -0700 (PDT) X-Relaying-Domain: iol.unh.edu Date: Mon, 21 Jul 2025 09:00:03 -0700 (PDT) Message-ID: <687e6403.050a0220.e5472.f80eSMTPIN_ADDED_MISSING@mx.google.com> Received: from [172.21.0.2] (unknown [172.18.0.240]) by postal.iol.unh.edu (Postfix) with ESMTP id 39E9B6050A61; Mon, 21 Jul 2025 12:00:02 -0400 (EDT) Subject: |SUCCESS| pw155373 [PATCH] ethdev: keep promiscuous/allmulti value b From: dpdklab@iol.unh.edu To: Test Report Cc: dpdk-test-reports@iol.unh.edu In-Reply-To: <20250721115139.46728-1-sunyang.wu@jaguarmicro.com> References: <20250721115139.46728-1-sunyang.wu@jaguarmicro.com> Content-Type: text/plain X-BeenThere: test-report@dpdk.org X-Mailman-Version: 2.1.29 Precedence: list List-Id: automatic DPDK test reports List-Unsubscribe: , List-Archive: List-Post: List-Help: List-Subscribe: , Errors-To: test-report-bounces@dpdk.org Test-Label: iol-abi-testing Test-Status: SUCCESS http://dpdk.org/patch/155373 _Testing PASS_ Submitter: Sunyang Wu Date: Monday, July 21 2025 11:51:39 DPDK git baseline: Repo:dpdk Branch: master CommitID:9fe9c0b231c8da5435bfccb1963121b4277f961c 155373 --> testing pass Upstream job id: Generic-DPDK-Compile-ABI#135084 Test environment and result as below: +-------------------------------+----------+ | Environment | abi_test | +===============================+==========+ | CentOS Stream 9 | PASS | +-------------------------------+----------+ | CentOS Stream 10 | PASS | +-------------------------------+----------+ | Debian GNU/Linux 12 | PASS | +-------------------------------+----------+ | Fedora Linux 40 | PASS | +-------------------------------+----------+ | openSUSE Leap 15.6 | PASS | +-------------------------------+----------+ | Fedora Linux 41 | PASS | +-------------------------------+----------+ | Red Hat Enterprise Linux 9.5 | PASS | +-------------------------------+----------+ | Ubuntu 24.04 | PASS | +-------------------------------+----------+ | Red Hat Enterprise Linux 8.10 | PASS | +-------------------------------+----------+ | Ubuntu 22.04 | PASS | +-------------------------------+----------+ CentOS Stream 9 Kernel: 5.15 Compiler: gcc gcc (GCC) 11.5.0 20240719 (Red Hat 11.5.0-7) CentOS Stream 10 Kernel: 5.15 Compiler: gcc gcc (GCC) 14.2.1 20250110 (Red Hat 14.2.1-8) Debian GNU/Linux 12 Kernel: 5.15 Compiler: gcc gcc (Debian 12.2.0-14+deb12u1) 12.2.0 Fedora Linux 40 Kernel: 5.15 Compiler: clang gcc (GCC) 14.2.1 20240912 (Red Hat 14.2.1-3) openSUSE Leap 15.6 Kernel: 5.15 Compiler: gcc gcc (SUSE Linux) 7.5.0 Fedora Linux 41 Kernel: 5.15 Compiler: clang gcc (GCC) 14.3.1 20250523 (Red Hat 14.3.1-1) Red Hat Enterprise Linux 9.5 Kernel: 5.15 Compiler: gcc gcc (GCC) 11.5.0 20240719 (Red Hat 11.5.0-2) Ubuntu 24.04 Kernel: 5.15 Compiler: gcc gcc (Ubuntu 13.3.0-6ubuntu2~24.04) 13.3.0 Red Hat Enterprise Linux 8.10 Kernel: 5.15 Compiler: gcc gcc (GCC) 8.5.0 20210514 (Red Hat 8.5.0-22) Ubuntu 22.04 Kernel: 5.15 Compiler: gcc gcc (Ubuntu 11.4.0-1ubuntu1~22.04) 11.4.0 To view detailed results, visit: https://lab.dpdk.org/results/dashboard/patchsets/33702/ UNH-IOL DPDK Community Lab To manage your email subscriptions, visit: https://lab.dpdk.org/results/dashboard/preferences/subscriptions/