From mboxrd@z Thu Jan 1 00:00:00 1970 Return-Path: Received: from mails.dpdk.org (mails.dpdk.org [217.70.189.124]) by inbox.dpdk.org (Postfix) with ESMTP id 50EB746BD9 for ; Mon, 21 Jul 2025 18:00:18 +0200 (CEST) Received: from mails.dpdk.org (localhost [127.0.0.1]) by mails.dpdk.org (Postfix) with ESMTP id 4CB9440297; Mon, 21 Jul 2025 18:00:18 +0200 (CEST) Received: from mail-pl1-f225.google.com (mail-pl1-f225.google.com [209.85.214.225]) by mails.dpdk.org (Postfix) with ESMTP id E15A140297 for ; Mon, 21 Jul 2025 18:00:16 +0200 (CEST) Received: by mail-pl1-f225.google.com with SMTP id d9443c01a7336-234c5b57557so41038025ad.3 for ; Mon, 21 Jul 2025 09:00:16 -0700 (PDT) DKIM-Signature: v=1; a=rsa-sha256; c=relaxed/relaxed; d=iol.unh.edu; s=unh-iol; t=1753113616; x=1753718416; darn=dpdk.org; h=references:in-reply-to:cc:to:from:subject:message-id:date:from:to :cc:subject:date:message-id:reply-to; bh=Ao0oYe3r8im58WKI0rVuj7NaOSMeuqBNvnUbRFmn9/k=; b=Zov4AKemjeP6XMiAcTBorRNlnXRVK/Vqx81pGIqbvRvC+EM8jMP//OEHsNKqA8OrV7 ZbfSL15Ja+atBEcsfj4DS2eGDLjEynAWB9np9WJVJ5i2w3iZyBXcFuGbF+rh+/N48Epm 0poXOMmJmt0sQWRA9aQE9tYZVDmmVi/xb1epI= X-Google-DKIM-Signature: v=1; a=rsa-sha256; c=relaxed/relaxed; d=1e100.net; s=20230601; t=1753113616; x=1753718416; h=references:in-reply-to:cc:to:from:subject:message-id:date :x-gm-message-state:from:to:cc:subject:date:message-id:reply-to; bh=Ao0oYe3r8im58WKI0rVuj7NaOSMeuqBNvnUbRFmn9/k=; b=UEVipl7FMiHUq/gXoq6lxD9pgKvSqd/Qx7BW5U0uumcxz6g8Lr9B87IPlQMasS53D0 GKT0QI+cP2NOEiqvbIkbuc6Sec44sX3K+msHtByc9aAyEcxMKvMpn1GXHl6kTbmlO23e zKxUnxKTcwYoGzYqOCVXZT293bZLv9CJ6YLBpZE7uh3bCqUUUlAb/vTmtgTDAosNgyGY rt1l+Sab3V5vxn8rtLy2KV0dZoz3Hf290eeC00YPX4EH8Shpde8LXJ2oIVdK9BZl+dzK jLN/iRZZ5KvkOhlwj7qFiOTDy7PmqDQjSxnZ03vbjqEbHWPSOVk2WpXl88rNNwivwmHS gePQ== X-Gm-Message-State: AOJu0YwK+JIZkmWxPhTOPM0aPhzrZfiynvDQ6ERdxy98YYStq3ggX58M uT02hD46Rm0gxe00JussOFXUSxbQAfF4Iez/phUQ3AJokPOUJokJZRd2Emai1GeSvpeLqT1U2Vn VadTv5iuRlarlhhIcrdwFx0pXJImj7pn2b/iYzYML3HaZyIgIzXy6E88vNiso X-Gm-Gg: ASbGncsCi7e6yPaSdng0k4nxJuSbF31pJSRHXlnmKvtThE8dSuLKQtGApHp0Cv6hOvO HHvScEjqF8EiD/JGJxa8oKbDWuclFRKL/oDqMtHo98eRoM+HdrAiLFKXsUPQIj7hmbkVA0kTFXD VTbOQKNCzUtm1bRBAEnKtEhOpK8oRlv0F+9K59DNNxdLgG+b9JIjA1CC8pElWeUNdmFbqPPugYQ 7A5p1lP3N3D0cOxzr72/USrUNQn3e+mzlcjtMwlwicndPsoWHVM+5H80ycfwT8fFZrza97wt9w4 3SVMYX358XOBIc+h0t9CGxrRF7+z6RSZK74PxQkmlo/yNXOrOw== X-Google-Smtp-Source: AGHT+IH8ulnh0p6Adf4bPBZd+TR5m1EBOnEI/lRFYMn2bCH1jDbEF6uwQxDpxvMcYXnaCxtU48267vVxTjJ4 X-Received: by 2002:a17:902:c401:b0:234:bca7:2926 with SMTP id d9443c01a7336-23e2572ffbcmr302889235ad.27.1753113615897; Mon, 21 Jul 2025 09:00:15 -0700 (PDT) Received: from postal.iol.unh.edu (postal.iol.unh.edu. [2606:4100:3880:1234::84]) by smtp-relay.gmail.com with ESMTPS id d9443c01a7336-23e3b5f66c1sm4490085ad.7.2025.07.21.09.00.15 (version=TLS1_2 cipher=ECDHE-ECDSA-AES128-GCM-SHA256 bits=128/128); Mon, 21 Jul 2025 09:00:15 -0700 (PDT) X-Relaying-Domain: iol.unh.edu Date: Mon, 21 Jul 2025 09:00:15 -0700 (PDT) Message-ID: <687e640f.170a0220.12e6a.6206SMTPIN_ADDED_MISSING@mx.google.com> Received: from [172.21.0.4] (unknown [172.18.0.240]) by postal.iol.unh.edu (Postfix) with ESMTP id B861E6050A61; Mon, 21 Jul 2025 12:00:14 -0400 (EDT) Subject: |SUCCESS| pw155372 [PATCH] net/ice: fix segfault in secondary proces From: dpdklab@iol.unh.edu To: Test Report Cc: dpdk-test-reports@iol.unh.edu In-Reply-To: <20250721105522.1019515-1-14pwcse1224@uetpeshawar.edu.pk> References: <20250721105522.1019515-1-14pwcse1224@uetpeshawar.edu.pk> Content-Type: text/plain X-BeenThere: test-report@dpdk.org X-Mailman-Version: 2.1.29 Precedence: list List-Id: automatic DPDK test reports List-Unsubscribe: , List-Archive: List-Post: List-Help: List-Subscribe: , Errors-To: test-report-bounces@dpdk.org Test-Label: iol-compile-amd64-testing Test-Status: SUCCESS http://dpdk.org/patch/155372 _Testing PASS_ Submitter: Khadem Ullah <14pwcse1224@uetpeshawar.edu.pk> Date: Monday, July 21 2025 10:55:22 DPDK git baseline: Repo:dpdk Branch: master CommitID:a6b10031d251fcc7dadede461f7e1d005024b139 155372 --> testing pass Upstream job id: Generic-DPDK-Compile-Meson#410470 Test environment and result as below: +-------------------------------+--------------------+-------------------+------------------+-------------------------+-------------------+----------------------+ | Environment | dpdk_meson_compile | dpdk_compile_spdk | dpdk_compile_ovs | dpdk_llvm_clang_compile | dpdk_msvc_compile | dpdk_mingw64_compile | +===============================+====================+===================+==================+=========================+===================+======================+ | CentOS Stream 9 | PASS | PASS | SKIPPED | SKIPPED | SKIPPED | SKIPPED | +-------------------------------+--------------------+-------------------+------------------+-------------------------+-------------------+----------------------+ | CentOS Stream 10 | PASS | SKIPPED | SKIPPED | SKIPPED | SKIPPED | SKIPPED | +-------------------------------+--------------------+-------------------+------------------+-------------------------+-------------------+----------------------+ | Fedora Linux 40 | PASS | PASS | SKIPPED | SKIPPED | SKIPPED | SKIPPED | +-------------------------------+--------------------+-------------------+------------------+-------------------------+-------------------+----------------------+ | Red Hat Enterprise Linux 8.10 | PASS | SKIPPED | SKIPPED | SKIPPED | SKIPPED | SKIPPED | +-------------------------------+--------------------+-------------------+------------------+-------------------------+-------------------+----------------------+ | Fedora Linux 41 | PASS | PASS | PASS | SKIPPED | SKIPPED | SKIPPED | +-------------------------------+--------------------+-------------------+------------------+-------------------------+-------------------+----------------------+ | openSUSE Leap 15.6 | PASS | SKIPPED | SKIPPED | SKIPPED | SKIPPED | SKIPPED | +-------------------------------+--------------------+-------------------+------------------+-------------------------+-------------------+----------------------+ | Ubuntu 20.04 | PASS | SKIPPED | SKIPPED | SKIPPED | SKIPPED | SKIPPED | +-------------------------------+--------------------+-------------------+------------------+-------------------------+-------------------+----------------------+ | Ubuntu 22.04 | PASS | PASS | SKIPPED | SKIPPED | SKIPPED | SKIPPED | +-------------------------------+--------------------+-------------------+------------------+-------------------------+-------------------+----------------------+ | Alpine Linux 3.22.0 | PASS | SKIPPED | SKIPPED | SKIPPED | SKIPPED | SKIPPED | +-------------------------------+--------------------+-------------------+------------------+-------------------------+-------------------+----------------------+ | Red Hat Enterprise Linux 9.5 | PASS | SKIPPED | SKIPPED | SKIPPED | SKIPPED | SKIPPED | +-------------------------------+--------------------+-------------------+------------------+-------------------------+-------------------+----------------------+ | Ubuntu 24.04 | PASS | PASS | PASS | SKIPPED | SKIPPED | SKIPPED | +-------------------------------+--------------------+-------------------+------------------+-------------------------+-------------------+----------------------+ | FreeBSD 14.2 | PASS | SKIPPED | SKIPPED | SKIPPED | SKIPPED | SKIPPED | +-------------------------------+--------------------+-------------------+------------------+-------------------------+-------------------+----------------------+ | Windows Server 2022 | SKIPPED | SKIPPED | SKIPPED | PASS | PASS | PASS | +-------------------------------+--------------------+-------------------+------------------+-------------------------+-------------------+----------------------+ CentOS Stream 9 Kernel: 5.15 Compiler: gcc gcc (GCC) 11.5.0 20240719 (Red Hat 11.5.0-7) CentOS Stream 10 Kernel: 5.15 Compiler: gcc gcc (GCC) 14.2.1 20250110 (Red Hat 14.2.1-8) Fedora Linux 40 Kernel: 5.15 Compiler: clang gcc (GCC) 14.2.1 20240912 (Red Hat 14.2.1-3) Red Hat Enterprise Linux 8.10 Kernel: 5.15 Compiler: gcc gcc (GCC) 8.5.0 20210514 (Red Hat 8.5.0-22) Fedora Linux 41 Kernel: 5.15 Compiler: clang gcc (GCC) 14.3.1 20250523 (Red Hat 14.3.1-1) openSUSE Leap 15.6 Kernel: 5.15 Compiler: gcc gcc (SUSE Linux) 7.5.0 Ubuntu 20.04 Kernel: 5.15 Compiler: gcc gcc (Ubuntu 9.4.0-1ubuntu1~20.04.2) 9.4.0 Ubuntu 22.04 Kernel: 5.15 Compiler: gcc gcc (Ubuntu 11.4.0-1ubuntu1~22.04) 11.4.0 Alpine Linux 3.22.0 Kernel: 5.15 Compiler: gcc gcc (Alpine 14.2.0) 14.2.0 Red Hat Enterprise Linux 9.5 Kernel: 5.15 Compiler: gcc gcc (GCC) 11.5.0 20240719 (Red Hat 11.5.0-2) Ubuntu 24.04 Kernel: 5.15 Compiler: gcc gcc (Ubuntu 13.3.0-6ubuntu2~24.04) 13.3.0 FreeBSD 14.2 Kernel: 14.2-RELEASE Compiler: clang 18.1.6 Windows Server 2022 Kernel: 10.0.20348.2031 Compiler: clang 15.0.7, gcc 14.1.0 (MinGW), and MSVC VS 19.39.33521 To view detailed results, visit: https://lab.dpdk.org/results/dashboard/patchsets/33701/ UNH-IOL DPDK Community Lab To manage your email subscriptions, visit: https://lab.dpdk.org/results/dashboard/preferences/subscriptions/