From mboxrd@z Thu Jan 1 00:00:00 1970 Return-Path: Received: from mails.dpdk.org (mails.dpdk.org [217.70.189.124]) by inbox.dpdk.org (Postfix) with ESMTP id 58F4C46BD9 for ; Mon, 21 Jul 2025 18:00:22 +0200 (CEST) Received: from mails.dpdk.org (localhost [127.0.0.1]) by mails.dpdk.org (Postfix) with ESMTP id 5492B40297; Mon, 21 Jul 2025 18:00:22 +0200 (CEST) Received: from mail-il1-f225.google.com (mail-il1-f225.google.com [209.85.166.225]) by mails.dpdk.org (Postfix) with ESMTP id 0F0BB40297 for ; Mon, 21 Jul 2025 18:00:18 +0200 (CEST) Received: by mail-il1-f225.google.com with SMTP id e9e14a558f8ab-3e2ab85e0b4so7072375ab.1 for ; Mon, 21 Jul 2025 09:00:18 -0700 (PDT) DKIM-Signature: v=1; a=rsa-sha256; c=relaxed/relaxed; d=iol.unh.edu; s=unh-iol; t=1753113617; x=1753718417; darn=dpdk.org; h=references:in-reply-to:cc:to:from:subject:message-id:date:from:to :cc:subject:date:message-id:reply-to; bh=AOFRoSlyiNzjs+ifBGXk+3SMAnVnYE/sGgdQ6TjFxbo=; b=EvtSiKDpesT2oRD0CIaddaY1E5lKjILVbjYNBrm42FFearK/qOye73AiYIdWGxuQP7 +mjhxtuK7oU8wv4xInFG95kA+LbhXhN81r4Uz/Eh8s/W/yk7AWKpAsg/2o0sbCDHYwRe o6IFRUf9JqPJ3LTRVvfxgfExN2wq2X4qgYXQU= X-Google-DKIM-Signature: v=1; a=rsa-sha256; c=relaxed/relaxed; d=1e100.net; s=20230601; t=1753113617; x=1753718417; h=references:in-reply-to:cc:to:from:subject:message-id:date :x-gm-message-state:from:to:cc:subject:date:message-id:reply-to; bh=AOFRoSlyiNzjs+ifBGXk+3SMAnVnYE/sGgdQ6TjFxbo=; b=sI8DyrJCSBqoV6efXm6YZFKFNvUz/HhI4LS9ZjuMiozJwJMdSz6CbT0CRczWnCd2YG M7giCsgDMaXihcgsy/OFs8I0Im8pdrbno19GQW4BmK/xufOgt+r8fm7rKeqPx/glTXWq a6EGF1ZtHow4d0z/sF/vSEb7Sa1m8B6pKJcrhACx9pWmywHYZNZ15yZqKfLqDsxiJ+S8 igiNABFNKhX4cruoQjVqaaoq5VzncdNoqSBGMG6AXPWnK3iWXzyo5/mXeLHQuJwPZ+3S S/0eNveRLO5sSCvVdt9vrATf6A9Ma4rE3CoBJ9w43ebvF0hJ+6bsXmJHwvaVbYg7JhR/ AbpQ== X-Gm-Message-State: AOJu0Yy4nWoDS0YciS+BQHB6INWACsh3GODe9/byT97BcHmbghohowsq JklYGJa5gmWWqpcMvWscuh338xv1hwueSB0Q4ZvScxiyITJmKUbsy1i33f3W8juuIWr1NuTKpO7 WVm05AOhUAUI/kSSvQQSL+opMqig02KtGPc5KmPJQGp9Z X-Gm-Gg: ASbGncuLMUNfPUpas/jMV7u5CAnBQ9IGsxWinj2WZhT6cF0mg9gdg+rih75TBC+bsWT gQ8KgUEPEcgcTFSMzCjsERxQVKRiRx2aDcARSQDD+AVScghhWobFeE6UyC73nbCBvGtP3lq2yWD tOHKw4Ok3qTipp3oiJoxNkPw52PJ76kqI82EaV1YPqEDDMUYoOFCmxExE2pBuu+f5QiIA43j5Nh towdiHJ3qImWHGS2rC92D6/v3GUwjnNxpM+e5Kq8qku5Gpx95TmrkvirrPjQPbflaq/1QpNkHBz 2giZVPL6qzFf5pMeg2JdYVBb8WNQCmYB12Dn0vVypo/MpIHqcsJ0XPJlb1sKeRJbSJOgKFju X-Google-Smtp-Source: AGHT+IHDzQEIG6bxIjfC7pnkzwJBtDoufXzVKsvoaIuwuogjvzV5i7ma8TCVdFWuQ+johDi2w6HxcK6c5qNV X-Received: by 2002:a05:6e02:2162:b0:3d9:2992:671b with SMTP id e9e14a558f8ab-3e2be6d8bf0mr670245ab.4.1753113616297; Mon, 21 Jul 2025 09:00:16 -0700 (PDT) Received: from postal.iol.unh.edu (postal.iol.unh.edu. [132.177.123.84]) by smtp-relay.gmail.com with ESMTPS id 8926c6da1cb9f-5084c772555sm394815173.5.2025.07.21.09.00.16 (version=TLS1_2 cipher=ECDHE-ECDSA-AES128-GCM-SHA256 bits=128/128); Mon, 21 Jul 2025 09:00:16 -0700 (PDT) X-Relaying-Domain: iol.unh.edu Date: Mon, 21 Jul 2025 09:00:16 -0700 (PDT) Message-ID: <687e6410.050a0220.3093ae.3e75SMTPIN_ADDED_MISSING@mx.google.com> Received: from [172.21.0.5] (unknown [172.18.0.240]) by postal.iol.unh.edu (Postfix) with ESMTP id 734AF6050A65; Mon, 21 Jul 2025 12:00:15 -0400 (EDT) Subject: |SUCCESS| pw155373 [PATCH] ethdev: keep promiscuous/allmulti value b From: dpdklab@iol.unh.edu To: Test Report Cc: dpdk-test-reports@iol.unh.edu In-Reply-To: <20250721115139.46728-1-sunyang.wu@jaguarmicro.com> References: <20250721115139.46728-1-sunyang.wu@jaguarmicro.com> Content-Type: text/plain X-BeenThere: test-report@dpdk.org X-Mailman-Version: 2.1.29 Precedence: list List-Id: automatic DPDK test reports List-Unsubscribe: , List-Archive: List-Post: List-Help: List-Subscribe: , Errors-To: test-report-bounces@dpdk.org Test-Label: iol-abi-testing Test-Status: SUCCESS http://dpdk.org/patch/155373 _Testing PASS_ Submitter: Sunyang Wu Date: Monday, July 21 2025 11:51:39 DPDK git baseline: Repo:dpdk Branch: master CommitID:9fe9c0b231c8da5435bfccb1963121b4277f961c 155373 --> testing pass Upstream job id: Generic-DPDK-Compile-ABI#135077 Test environment and result as below: +-------------------------------+----------+ | Environment | abi_test | +===============================+==========+ | CentOS Stream 9 | PASS | +-------------------------------+----------+ | CentOS Stream 10 | PASS | +-------------------------------+----------+ | Debian GNU/Linux 12 | PASS | +-------------------------------+----------+ | Fedora Linux 40 | PASS | +-------------------------------+----------+ | openSUSE Leap 15.6 | PASS | +-------------------------------+----------+ | Fedora Linux 41 | PASS | +-------------------------------+----------+ | Red Hat Enterprise Linux 9.5 | PASS | +-------------------------------+----------+ | Ubuntu 24.04 | PASS | +-------------------------------+----------+ | Red Hat Enterprise Linux 8.10 | PASS | +-------------------------------+----------+ | Ubuntu 22.04 | PASS | +-------------------------------+----------+ CentOS Stream 9 Kernel: 5.15 Compiler: gcc gcc (GCC) 11.5.0 20240719 (Red Hat 11.5.0-7) CentOS Stream 10 Kernel: 5.15 Compiler: gcc gcc (GCC) 14.2.1 20250110 (Red Hat 14.2.1-8) Debian GNU/Linux 12 Kernel: 5.15 Compiler: gcc gcc (Debian 12.2.0-14+deb12u1) 12.2.0 Fedora Linux 40 Kernel: 5.15 Compiler: clang gcc (GCC) 14.2.1 20240912 (Red Hat 14.2.1-3) openSUSE Leap 15.6 Kernel: 5.15 Compiler: gcc gcc (SUSE Linux) 7.5.0 Fedora Linux 41 Kernel: 5.15 Compiler: clang gcc (GCC) 14.3.1 20250523 (Red Hat 14.3.1-1) Red Hat Enterprise Linux 9.5 Kernel: 5.15 Compiler: gcc gcc (GCC) 11.5.0 20240719 (Red Hat 11.5.0-2) Ubuntu 24.04 Kernel: 5.15 Compiler: gcc gcc (Ubuntu 13.3.0-6ubuntu2~24.04) 13.3.0 Red Hat Enterprise Linux 8.10 Kernel: 5.15 Compiler: gcc gcc (GCC) 8.5.0 20210514 (Red Hat 8.5.0-22) Ubuntu 22.04 Kernel: 5.15 Compiler: gcc gcc (Ubuntu 11.4.0-1ubuntu1~22.04) 11.4.0 To view detailed results, visit: https://lab.dpdk.org/results/dashboard/patchsets/33702/ UNH-IOL DPDK Community Lab To manage your email subscriptions, visit: https://lab.dpdk.org/results/dashboard/preferences/subscriptions/