From mboxrd@z Thu Jan 1 00:00:00 1970 Return-Path: Received: from mails.dpdk.org (mails.dpdk.org [217.70.189.124]) by inbox.dpdk.org (Postfix) with ESMTP id 86F7146BD9 for ; Mon, 21 Jul 2025 18:00:48 +0200 (CEST) Received: from mails.dpdk.org (localhost [127.0.0.1]) by mails.dpdk.org (Postfix) with ESMTP id 82BCB40297; Mon, 21 Jul 2025 18:00:48 +0200 (CEST) Received: from mail-qt1-f227.google.com (mail-qt1-f227.google.com [209.85.160.227]) by mails.dpdk.org (Postfix) with ESMTP id 35AAB40297 for ; Mon, 21 Jul 2025 18:00:48 +0200 (CEST) Received: by mail-qt1-f227.google.com with SMTP id d75a77b69052e-4aaaf1a63c1so34430691cf.3 for ; Mon, 21 Jul 2025 09:00:48 -0700 (PDT) DKIM-Signature: v=1; a=rsa-sha256; c=relaxed/relaxed; d=iol.unh.edu; s=unh-iol; t=1753113647; x=1753718447; darn=dpdk.org; h=references:in-reply-to:cc:to:from:subject:message-id:date:from:to :cc:subject:date:message-id:reply-to; bh=fzv8Xi/KxjfK8fOSibDCHfdembwqSw/NxxIqteKpTWM=; b=hep0jI+pRBKjchGXiYBjmQ3wecSDXj6Dnt7VwMDR4cMf3jbDej/uNmfMhNEBR+KrdX 2ZHxs9gjwaYwWY45C2YOrcQ88qJCMX6e4SDm6JBIjRLTFNWC138fENGJNEjI8h5CiKtj euhysIIm3VcchrWCXLRJSRK8SVgRCYSebfVkE= X-Google-DKIM-Signature: v=1; a=rsa-sha256; c=relaxed/relaxed; d=1e100.net; s=20230601; t=1753113647; x=1753718447; h=references:in-reply-to:cc:to:from:subject:message-id:date :x-gm-message-state:from:to:cc:subject:date:message-id:reply-to; bh=fzv8Xi/KxjfK8fOSibDCHfdembwqSw/NxxIqteKpTWM=; b=N54xZ5PGNViLMxYEFC0Uuw5yi6ysVg6gss6mZMPIhO0g+EtbGF3Kl+L8mJ4vu6M8M2 qbSP9fmPkc3ZEnmmhEoeSblApnvapJDjOTfZQjs5OG5PVLG8ETzvYgtyLqFLyqfmrzy/ riJo+yyKs3t5bNywDPKKLn1RvzyNitbaTtKkxUGChCFa/hQubn1ZKK/oTcKMEDDVU+XU LyXBKJsv0w14bNG30D9A6PmEhqthM/4xNb4SDYTP+T55lXXQrNl9yKBjFICW39VfXfn1 fXN+JVjyENnR3D3OMBEYDjv3jAr0YRWzn6n2hwZSce+eP3uhjXOijT15NlFDgHeyvsjE KJWQ== X-Gm-Message-State: AOJu0YytFjFzcfpBi71+glkSRFWTiDMud1B5qb9LX+TU6yWYJfUqBLmH F18yIcXS1sJbUT2ukTDd17SpriVfV/8Xz6ltLyffmj3M7nPSMW+Ybr+zxw5NTCbdycE7vWK5fen 9U0U08pfqTTdgh/BElGYPGxhVqhsviKER5a8pOyuGqUpWGyEW9YqLewZRsBa/ X-Gm-Gg: ASbGnctC0sJ0RCEIXA4i9LxO6y57KquuT2KuLkFv527z3WAjK+S5OF+oyTxPRRCAodL db78R6aZ/jrFesrHbpXrJYKwaIVfiKuCE8YnTF5ao+GCuT6Aje5ce2MXlQHOftOYPahIFmlM6p5 ggwp/beH0AR5TyAjip5BhgGQlgdjfFCF6TEPe2xBOpJAgiDhVZczKAKP/vDv48Qil4lr/sYXnVV NAVEUj4sVXYCTsofMpxudjMn44zXKP6sw4fAFhuhV5pwWJ8QufJUKVo2924lEBGYpty7fauUA4C 8nB0j8o3FhcCic8k0DksY1TqJXvml5ba806gLi59cDCB58nr2Q== X-Google-Smtp-Source: AGHT+IHhY2t5lCyN5oBmhJEKew+CCKFSzcfhqcKWCO/P645GQZdLFzZeaPLJ2a2FCaIuhrXMSephgX0pz/ZH X-Received: by 2002:a05:622a:1448:b0:4a9:cff3:68a2 with SMTP id d75a77b69052e-4ab93d88915mr315690661cf.37.1753113647016; Mon, 21 Jul 2025 09:00:47 -0700 (PDT) Received: from postal.iol.unh.edu (postal.iol.unh.edu. [2606:4100:3880:1234::84]) by smtp-relay.gmail.com with ESMTPS id d75a77b69052e-4abb4a696ccsm3758671cf.22.2025.07.21.09.00.46 (version=TLS1_2 cipher=ECDHE-ECDSA-AES128-GCM-SHA256 bits=128/128); Mon, 21 Jul 2025 09:00:47 -0700 (PDT) X-Relaying-Domain: iol.unh.edu Date: Mon, 21 Jul 2025 09:00:47 -0700 (PDT) Message-ID: <687e642f.c80a0220.381c0e.2535SMTPIN_ADDED_MISSING@mx.google.com> Received: from [172.21.0.2] (unknown [172.18.0.240]) by postal.iol.unh.edu (Postfix) with ESMTP id 57A046050A61; Mon, 21 Jul 2025 12:00:46 -0400 (EDT) Subject: |SUCCESS| pw155372 [PATCH] net/ice: fix segfault in secondary proces From: dpdklab@iol.unh.edu To: Test Report Cc: dpdk-test-reports@iol.unh.edu In-Reply-To: <20250721105522.1019515-1-14pwcse1224@uetpeshawar.edu.pk> References: <20250721105522.1019515-1-14pwcse1224@uetpeshawar.edu.pk> Content-Type: text/plain X-BeenThere: test-report@dpdk.org X-Mailman-Version: 2.1.29 Precedence: list List-Id: automatic DPDK test reports List-Unsubscribe: , List-Archive: List-Post: List-Help: List-Subscribe: , Errors-To: test-report-bounces@dpdk.org Test-Label: iol-compile-amd64-testing Test-Status: SUCCESS http://dpdk.org/patch/155372 _Testing PASS_ Submitter: Khadem Ullah <14pwcse1224@uetpeshawar.edu.pk> Date: Monday, July 21 2025 10:55:22 DPDK git baseline: Repo:dpdk Branch: master CommitID:a6b10031d251fcc7dadede461f7e1d005024b139 155372 --> testing pass Upstream job id: Generic-DPDK-Compile-Meson#410469 Test environment and result as below: +-------------------------------+--------------------+-------------------+------------------+-------------------------+-------------------+----------------------+ | Environment | dpdk_meson_compile | dpdk_compile_spdk | dpdk_compile_ovs | dpdk_llvm_clang_compile | dpdk_msvc_compile | dpdk_mingw64_compile | +===============================+====================+===================+==================+=========================+===================+======================+ | CentOS Stream 9 | PASS | PASS | SKIPPED | SKIPPED | SKIPPED | SKIPPED | +-------------------------------+--------------------+-------------------+------------------+-------------------------+-------------------+----------------------+ | CentOS Stream 10 | PASS | SKIPPED | SKIPPED | SKIPPED | SKIPPED | SKIPPED | +-------------------------------+--------------------+-------------------+------------------+-------------------------+-------------------+----------------------+ | Fedora Linux 40 | PASS | PASS | SKIPPED | SKIPPED | SKIPPED | SKIPPED | +-------------------------------+--------------------+-------------------+------------------+-------------------------+-------------------+----------------------+ | Red Hat Enterprise Linux 8.10 | PASS | SKIPPED | SKIPPED | SKIPPED | SKIPPED | SKIPPED | +-------------------------------+--------------------+-------------------+------------------+-------------------------+-------------------+----------------------+ | Fedora Linux 41 | PASS | PASS | PASS | SKIPPED | SKIPPED | SKIPPED | +-------------------------------+--------------------+-------------------+------------------+-------------------------+-------------------+----------------------+ | openSUSE Leap 15.6 | PASS | SKIPPED | SKIPPED | SKIPPED | SKIPPED | SKIPPED | +-------------------------------+--------------------+-------------------+------------------+-------------------------+-------------------+----------------------+ | Ubuntu 20.04 | PASS | SKIPPED | SKIPPED | SKIPPED | SKIPPED | SKIPPED | +-------------------------------+--------------------+-------------------+------------------+-------------------------+-------------------+----------------------+ | Ubuntu 22.04 | PASS | PASS | SKIPPED | SKIPPED | SKIPPED | SKIPPED | +-------------------------------+--------------------+-------------------+------------------+-------------------------+-------------------+----------------------+ | Alpine Linux 3.22.0 | PASS | SKIPPED | SKIPPED | SKIPPED | SKIPPED | SKIPPED | +-------------------------------+--------------------+-------------------+------------------+-------------------------+-------------------+----------------------+ | Red Hat Enterprise Linux 9.5 | PASS | SKIPPED | SKIPPED | SKIPPED | SKIPPED | SKIPPED | +-------------------------------+--------------------+-------------------+------------------+-------------------------+-------------------+----------------------+ | Ubuntu 24.04 | PASS | PASS | PASS | SKIPPED | SKIPPED | SKIPPED | +-------------------------------+--------------------+-------------------+------------------+-------------------------+-------------------+----------------------+ | FreeBSD 14.2 | PASS | SKIPPED | SKIPPED | SKIPPED | SKIPPED | SKIPPED | +-------------------------------+--------------------+-------------------+------------------+-------------------------+-------------------+----------------------+ | Windows Server 2022 | SKIPPED | SKIPPED | SKIPPED | PASS | PASS | PASS | +-------------------------------+--------------------+-------------------+------------------+-------------------------+-------------------+----------------------+ CentOS Stream 9 Kernel: 5.15 Compiler: gcc gcc (GCC) 11.5.0 20240719 (Red Hat 11.5.0-7) CentOS Stream 10 Kernel: 5.15 Compiler: gcc gcc (GCC) 14.2.1 20250110 (Red Hat 14.2.1-8) Fedora Linux 40 Kernel: 5.15 Compiler: clang gcc (GCC) 14.2.1 20240912 (Red Hat 14.2.1-3) Red Hat Enterprise Linux 8.10 Kernel: 5.15 Compiler: gcc gcc (GCC) 8.5.0 20210514 (Red Hat 8.5.0-22) Fedora Linux 41 Kernel: 5.15 Compiler: clang gcc (GCC) 14.3.1 20250523 (Red Hat 14.3.1-1) openSUSE Leap 15.6 Kernel: 5.15 Compiler: gcc gcc (SUSE Linux) 7.5.0 Ubuntu 20.04 Kernel: 5.15 Compiler: gcc gcc (Ubuntu 9.4.0-1ubuntu1~20.04.2) 9.4.0 Ubuntu 22.04 Kernel: 5.15 Compiler: gcc gcc (Ubuntu 11.4.0-1ubuntu1~22.04) 11.4.0 Alpine Linux 3.22.0 Kernel: 5.15 Compiler: gcc gcc (Alpine 14.2.0) 14.2.0 Red Hat Enterprise Linux 9.5 Kernel: 5.15 Compiler: gcc gcc (GCC) 11.5.0 20240719 (Red Hat 11.5.0-2) Ubuntu 24.04 Kernel: 5.15 Compiler: gcc gcc (Ubuntu 13.3.0-6ubuntu2~24.04) 13.3.0 FreeBSD 14.2 Kernel: 14.2-RELEASE Compiler: clang 18.1.6 Windows Server 2022 Kernel: 10.0.20348.2031 Compiler: clang 15.0.7, gcc 14.1.0 (MinGW), and MSVC VS 19.39.33521 To view detailed results, visit: https://lab.dpdk.org/results/dashboard/patchsets/33701/ UNH-IOL DPDK Community Lab To manage your email subscriptions, visit: https://lab.dpdk.org/results/dashboard/preferences/subscriptions/