From mboxrd@z Thu Jan 1 00:00:00 1970 Return-Path: Received: from mails.dpdk.org (mails.dpdk.org [217.70.189.124]) by inbox.dpdk.org (Postfix) with ESMTP id E67A846BD9 for ; Mon, 21 Jul 2025 18:03:48 +0200 (CEST) Received: from mails.dpdk.org (localhost [127.0.0.1]) by mails.dpdk.org (Postfix) with ESMTP id E15A940297; Mon, 21 Jul 2025 18:03:48 +0200 (CEST) Received: from mail-qv1-f99.google.com (mail-qv1-f99.google.com [209.85.219.99]) by mails.dpdk.org (Postfix) with ESMTP id 2BC1F40297 for ; Mon, 21 Jul 2025 18:03:48 +0200 (CEST) Received: by mail-qv1-f99.google.com with SMTP id 6a1803df08f44-6facf4d8ea8so34600436d6.0 for ; Mon, 21 Jul 2025 09:03:48 -0700 (PDT) DKIM-Signature: v=1; a=rsa-sha256; c=relaxed/relaxed; d=iol.unh.edu; s=unh-iol; t=1753113827; x=1753718627; darn=dpdk.org; h=references:in-reply-to:cc:to:from:subject:message-id:date:from:to :cc:subject:date:message-id:reply-to; bh=xMqNMIBx6yGNhNCDpSrkF7dqU8PJZdeeTt0F92j6n0Y=; b=Pxgpysw2Hwpyo+bgFw1ETOEaIXULZ3IP9eesWkG8bdnpnAnWrN5P+C96JB62QKGXyx qDMq1nGiY9Z8f4n/mZ6uotHxlnyQxsFfh4eZNl+GPyvBGdkr7XgML474k7V8co3ASps/ FFRslfHoTXmw5cWy5YE5kTB1IJ3RUkLklF2zo= X-Google-DKIM-Signature: v=1; a=rsa-sha256; c=relaxed/relaxed; d=1e100.net; s=20230601; t=1753113827; x=1753718627; h=references:in-reply-to:cc:to:from:subject:message-id:date :x-gm-message-state:from:to:cc:subject:date:message-id:reply-to; bh=xMqNMIBx6yGNhNCDpSrkF7dqU8PJZdeeTt0F92j6n0Y=; b=G/UJD8bATbsYWS6cLb6DhBiiSUv1ICrcg2WtHvpaqMepLXUs0JdLiiJMbA9C/78Tjo QCaKG6FUf2b5TXX9y2efBKhvtsDRamFzJyEQs0nvDWSKTDgU5UUuQ7KcxEvhUUnbGTD4 ZXG/8QDNYnd0TpHhe6ehNSwJtqt0XIBlyBE9r3z6nnjrjAtvusRyKKdOlIkBN3YgNKd5 jjsOGAxA7PnKyOmj212rW+Tub52mrtwQ8l3CoUMEuHxHYAh9cd4EYgc+P44Kf1RDImzz FxyjI6LkYdgXAtMHz4Ldt/zQosZiy7/Ft6DsvN78oHXFUZ2dVDd8ZuqIXOvqDfgv6jw6 7ikw== X-Gm-Message-State: AOJu0YwE4t1DFS2KhLte2QevsjM7UlgPBC5G+6CCpIqfVdUgv3XSN+eQ jkKYle9kDsSQVdLRV6UJ3pRC8RHg6YPwoyA7UqrUBSSy7H6wv/Tk9u7MYiU1XkrL07DhXDD/mmT jaQCJAmld4YV3Y5tKrbF0hPK0lmw6ENpF3fbwed2804W7 X-Gm-Gg: ASbGncuE6vKULrGeLvb7dQL9TBrVTxx9AX3QqsuG0rAoy873S3c8Spa4He+oNgfjPKU XjkH0w72KDY9sbGcyTFCiBxj7eTtikxJtHJEePkXUvVELCv9ZGkf6runwu0H4jLdAS8cEStLHMo hS7xfaRMIx3RhwdaeaeSRysaDsT+1qx0MvkhhIFKKmPJAZvl/FPWpu9J6QS3s47v0z2C6l0kptA cvCu/QJkJ8+K4bm1XjriKnvhOXzb0V/SC7HAf1+eXCZIIT5JUhZzCMbxPmKja2JdXAPWtPGI1Yj rvnvNI5QJX5roW+H9YXjev6I/Z4xmwbdk1Twvj/mJ4npdzByJwgcoO1gQZEnlV+y6SJPzs3T X-Google-Smtp-Source: AGHT+IES/eojq9gViPJ7Z7WP/ZAhunAAdAmrIh0R+MaxZYryvPCs8E/lgzz/9NDsBcbmoNZVcooaI1wXVbRK X-Received: by 2002:a05:6214:e88:b0:704:9581:cb23 with SMTP id 6a1803df08f44-704f4b00efemr309096966d6.35.1753113827232; Mon, 21 Jul 2025 09:03:47 -0700 (PDT) Received: from postal.iol.unh.edu (postal.iol.unh.edu. [132.177.123.84]) by smtp-relay.gmail.com with ESMTPS id 6a1803df08f44-7051bd679edsm4146886d6.55.2025.07.21.09.03.47 (version=TLS1_2 cipher=ECDHE-ECDSA-AES128-GCM-SHA256 bits=128/128); Mon, 21 Jul 2025 09:03:47 -0700 (PDT) X-Relaying-Domain: iol.unh.edu Date: Mon, 21 Jul 2025 09:03:47 -0700 (PDT) Message-ID: <687e64e3.050a0220.3a479d.484fSMTPIN_ADDED_MISSING@mx.google.com> Received: from [172.21.0.5] (unknown [172.18.0.240]) by postal.iol.unh.edu (Postfix) with ESMTP id 8AD536050A61; Mon, 21 Jul 2025 12:03:46 -0400 (EDT) Subject: |SUCCESS| pw155373 [PATCH] ethdev: keep promiscuous/allmulti value b From: dpdklab@iol.unh.edu To: Test Report Cc: dpdk-test-reports@iol.unh.edu In-Reply-To: <20250721115139.46728-1-sunyang.wu@jaguarmicro.com> References: <20250721115139.46728-1-sunyang.wu@jaguarmicro.com> Content-Type: text/plain X-BeenThere: test-report@dpdk.org X-Mailman-Version: 2.1.29 Precedence: list List-Id: automatic DPDK test reports List-Unsubscribe: , List-Archive: List-Post: List-Help: List-Subscribe: , Errors-To: test-report-bounces@dpdk.org Test-Label: iol-abi-testing Test-Status: SUCCESS http://dpdk.org/patch/155373 _Testing PASS_ Submitter: Sunyang Wu Date: Monday, July 21 2025 11:51:39 DPDK git baseline: Repo:dpdk Branch: master CommitID:9fe9c0b231c8da5435bfccb1963121b4277f961c 155373 --> testing pass Upstream job id: Generic-DPDK-Compile-ABI#135085 Test environment and result as below: +-------------------------------+----------+ | Environment | abi_test | +===============================+==========+ | CentOS Stream 9 | PASS | +-------------------------------+----------+ | CentOS Stream 10 | PASS | +-------------------------------+----------+ | Debian GNU/Linux 12 | PASS | +-------------------------------+----------+ | Fedora Linux 40 | PASS | +-------------------------------+----------+ | openSUSE Leap 15.6 | PASS | +-------------------------------+----------+ | Fedora Linux 41 | PASS | +-------------------------------+----------+ | Red Hat Enterprise Linux 9.5 | PASS | +-------------------------------+----------+ | Ubuntu 24.04 | PASS | +-------------------------------+----------+ | Red Hat Enterprise Linux 8.10 | PASS | +-------------------------------+----------+ | Ubuntu 22.04 | PASS | +-------------------------------+----------+ CentOS Stream 9 Kernel: 5.15 Compiler: gcc gcc (GCC) 11.5.0 20240719 (Red Hat 11.5.0-7) CentOS Stream 10 Kernel: 5.15 Compiler: gcc gcc (GCC) 14.2.1 20250110 (Red Hat 14.2.1-8) Debian GNU/Linux 12 Kernel: 5.15 Compiler: gcc gcc (Debian 12.2.0-14+deb12u1) 12.2.0 Fedora Linux 40 Kernel: 5.15 Compiler: clang gcc (GCC) 14.2.1 20240912 (Red Hat 14.2.1-3) openSUSE Leap 15.6 Kernel: 5.15 Compiler: gcc gcc (SUSE Linux) 7.5.0 Fedora Linux 41 Kernel: 5.15 Compiler: clang gcc (GCC) 14.3.1 20250523 (Red Hat 14.3.1-1) Red Hat Enterprise Linux 9.5 Kernel: 5.15 Compiler: gcc gcc (GCC) 11.5.0 20240719 (Red Hat 11.5.0-2) Ubuntu 24.04 Kernel: 5.15 Compiler: gcc gcc (Ubuntu 13.3.0-6ubuntu2~24.04) 13.3.0 Red Hat Enterprise Linux 8.10 Kernel: 5.15 Compiler: gcc gcc (GCC) 8.5.0 20210514 (Red Hat 8.5.0-22) Ubuntu 22.04 Kernel: 5.15 Compiler: gcc gcc (Ubuntu 11.4.0-1ubuntu1~22.04) 11.4.0 To view detailed results, visit: https://lab.dpdk.org/results/dashboard/patchsets/33702/ UNH-IOL DPDK Community Lab To manage your email subscriptions, visit: https://lab.dpdk.org/results/dashboard/preferences/subscriptions/