From mboxrd@z Thu Jan 1 00:00:00 1970 Return-Path: Received: from mails.dpdk.org (mails.dpdk.org [217.70.189.124]) by inbox.dpdk.org (Postfix) with ESMTP id 09BDF46BD9 for ; Mon, 21 Jul 2025 18:03:58 +0200 (CEST) Received: from mails.dpdk.org (localhost [127.0.0.1]) by mails.dpdk.org (Postfix) with ESMTP id 0271E40297; Mon, 21 Jul 2025 18:03:58 +0200 (CEST) Received: from mail-yw1-f225.google.com (mail-yw1-f225.google.com [209.85.128.225]) by mails.dpdk.org (Postfix) with ESMTP id D3D1540297 for ; Mon, 21 Jul 2025 18:03:56 +0200 (CEST) Received: by mail-yw1-f225.google.com with SMTP id 00721157ae682-7184015180fso52290517b3.2 for ; Mon, 21 Jul 2025 09:03:56 -0700 (PDT) DKIM-Signature: v=1; a=rsa-sha256; c=relaxed/relaxed; d=iol.unh.edu; s=unh-iol; t=1753113836; x=1753718636; darn=dpdk.org; h=references:in-reply-to:cc:to:from:subject:message-id:date:from:to :cc:subject:date:message-id:reply-to; bh=8MXBtOFqBkMabXZwoBHlnRJGM6Lbqj9myBjQt+rLPfw=; b=IiPjCzEXz4+gm42lrrcSFQcRtHew3Sgbq//oox2lXPK1tD2Nc/oLnmYTRpsAsrMACD RbXAbFb3QSbiws2/WiYUxiEA1g6PLsN8xTrI22E9SmHn6Tx6KGk2bw9H3GMgScW/JijQ LiMAxmcQobfFCamt5nVkNcG+asCbaTtA9ZSrE= X-Google-DKIM-Signature: v=1; a=rsa-sha256; c=relaxed/relaxed; d=1e100.net; s=20230601; t=1753113836; x=1753718636; h=references:in-reply-to:cc:to:from:subject:message-id:date :x-gm-message-state:from:to:cc:subject:date:message-id:reply-to; bh=8MXBtOFqBkMabXZwoBHlnRJGM6Lbqj9myBjQt+rLPfw=; b=DtKnD/YPeoG1SkJlnEngi9wTAm7dylfbvJf38Ovm7Ur3EPqC4Ht4PQ0Ct5Gs+NAmpO eRyFVzZdzID+jYx5ggjkbJLO+HLoVaP61mBvv/d56x/E7Cpp4OH893R/aRtO9dNdLY+G 5QjKtAWYRe3mL7Plm4fCtm2VRTMvbiOXz9pS9H6hS3XwGkypMUCigDGlhTyBCUauVPk7 tOz9V5wOgEOo8unXe95mjTWRu4CNVg1ATXU87drhjnu1Be/+nlRYPOvflPdbmlP71m3a ReOexg7krZq2sh6mXPRB5wgLryhaME7U8L6EGh2p/630M/Nl8zLhz1uvdCP0Y8Itb6yQ b0DQ== X-Gm-Message-State: AOJu0YwH5vQjYsvOjjHlSECZbYzg9ANOh1+5R5hCN376J37Ny81RIHs3 tnkcJIZZs2Ir4/iN9nbXH+Vh0Xk94x0Dk8TW8Jq8wggOaELkkqqall9gUY7S4HVWtnKMUsSkOUS sMbPnpCfNIBMYSGgPeL/Js8UeLz4XoVGOec9LA8+H30Rq X-Gm-Gg: ASbGnctGRD1HkuCk2Damb8G1D781SQrEuf1jcBq8+AvLu/6yTKJLWbOorGab1NlQWQS edF01IcvE5+LcZ3QWz1+Sjg2SYmb1pHk9jIpd5I44fRXDa6QqQL67sPP8da+g3hgH5wRmmY7wMq 5tkDCwklAF8UVacGSu7q7B9Ucq4EY2xQZ8ZokfeHijE8eY/e+CQuR1i3Qpsgy5+fE2D4vGZVAnT RlOuXRvLMD0Ils54R8ytxkfYDYjNQQvrvGwyvrjiy6y2Zg0nVIOpS/SEoMovSTWgM14TQLGWIhk KFi4EfRP3yBND5JZ7CLdDJf+XrmPdJBBIOm2D+dn7m9Wi3S3037KcIngci2Rja7AjY2fC4g3 X-Google-Smtp-Source: AGHT+IGufkxIx37LqHU7YnHTZz2eTV9Wsb0NYopLjOnBbIvIH0DvimGEnnKwk7iubUC221GMkYfI1AhcOVAt X-Received: by 2002:a05:690c:9b10:b0:70f:8884:a5fc with SMTP id 00721157ae682-718370ee6e1mr239061387b3.4.1753113836174; Mon, 21 Jul 2025 09:03:56 -0700 (PDT) Received: from postal.iol.unh.edu (postal.iol.unh.edu. [132.177.123.84]) by smtp-relay.gmail.com with ESMTPS id 00721157ae682-719533605dfsm2230377b3.54.2025.07.21.09.03.56 (version=TLS1_2 cipher=ECDHE-ECDSA-AES128-GCM-SHA256 bits=128/128); Mon, 21 Jul 2025 09:03:56 -0700 (PDT) X-Relaying-Domain: iol.unh.edu Date: Mon, 21 Jul 2025 09:03:56 -0700 (PDT) Message-ID: <687e64ec.050a0220.8384.af83SMTPIN_ADDED_MISSING@mx.google.com> Received: from [172.21.0.6] (unknown [172.18.0.240]) by postal.iol.unh.edu (Postfix) with ESMTP id 83BB56050A61; Mon, 21 Jul 2025 12:03:55 -0400 (EDT) Subject: |SUCCESS| pw155373 [PATCH] ethdev: keep promiscuous/allmulti value b From: dpdklab@iol.unh.edu To: Test Report Cc: dpdk-test-reports@iol.unh.edu In-Reply-To: <20250721115139.46728-1-sunyang.wu@jaguarmicro.com> References: <20250721115139.46728-1-sunyang.wu@jaguarmicro.com> Content-Type: text/plain X-BeenThere: test-report@dpdk.org X-Mailman-Version: 2.1.29 Precedence: list List-Id: automatic DPDK test reports List-Unsubscribe: , List-Archive: List-Post: List-Help: List-Subscribe: , Errors-To: test-report-bounces@dpdk.org Test-Label: iol-abi-testing Test-Status: SUCCESS http://dpdk.org/patch/155373 _Testing PASS_ Submitter: Sunyang Wu Date: Monday, July 21 2025 11:51:39 DPDK git baseline: Repo:dpdk Branch: master CommitID:9fe9c0b231c8da5435bfccb1963121b4277f961c 155373 --> testing pass Upstream job id: Generic-DPDK-Compile-ABI#135087 Test environment and result as below: +-------------------------------+----------+ | Environment | abi_test | +===============================+==========+ | CentOS Stream 9 | PASS | +-------------------------------+----------+ | CentOS Stream 10 | PASS | +-------------------------------+----------+ | Debian GNU/Linux 12 | PASS | +-------------------------------+----------+ | Fedora Linux 40 | PASS | +-------------------------------+----------+ | openSUSE Leap 15.6 | PASS | +-------------------------------+----------+ | Fedora Linux 41 | PASS | +-------------------------------+----------+ | Red Hat Enterprise Linux 9.5 | PASS | +-------------------------------+----------+ | Ubuntu 24.04 | PASS | +-------------------------------+----------+ | Red Hat Enterprise Linux 8.10 | PASS | +-------------------------------+----------+ | Ubuntu 22.04 | PASS | +-------------------------------+----------+ CentOS Stream 9 Kernel: 5.15 Compiler: gcc gcc (GCC) 11.5.0 20240719 (Red Hat 11.5.0-7) CentOS Stream 10 Kernel: 5.15 Compiler: gcc gcc (GCC) 14.2.1 20250110 (Red Hat 14.2.1-8) Debian GNU/Linux 12 Kernel: 5.15 Compiler: gcc gcc (Debian 12.2.0-14+deb12u1) 12.2.0 Fedora Linux 40 Kernel: 5.15 Compiler: clang gcc (GCC) 14.2.1 20240912 (Red Hat 14.2.1-3) openSUSE Leap 15.6 Kernel: 5.15 Compiler: gcc gcc (SUSE Linux) 7.5.0 Fedora Linux 41 Kernel: 5.15 Compiler: clang gcc (GCC) 14.3.1 20250523 (Red Hat 14.3.1-1) Red Hat Enterprise Linux 9.5 Kernel: 5.15 Compiler: gcc gcc (GCC) 11.5.0 20240719 (Red Hat 11.5.0-2) Ubuntu 24.04 Kernel: 5.15 Compiler: gcc gcc (Ubuntu 13.3.0-6ubuntu2~24.04) 13.3.0 Red Hat Enterprise Linux 8.10 Kernel: 5.15 Compiler: gcc gcc (GCC) 8.5.0 20210514 (Red Hat 8.5.0-22) Ubuntu 22.04 Kernel: 5.15 Compiler: gcc gcc (Ubuntu 11.4.0-1ubuntu1~22.04) 11.4.0 To view detailed results, visit: https://lab.dpdk.org/results/dashboard/patchsets/33702/ UNH-IOL DPDK Community Lab To manage your email subscriptions, visit: https://lab.dpdk.org/results/dashboard/preferences/subscriptions/