From mboxrd@z Thu Jan 1 00:00:00 1970 Return-Path: Received: from mails.dpdk.org (mails.dpdk.org [217.70.189.124]) by inbox.dpdk.org (Postfix) with ESMTP id 16A1146BD9 for ; Mon, 21 Jul 2025 18:04:03 +0200 (CEST) Received: from mails.dpdk.org (localhost [127.0.0.1]) by mails.dpdk.org (Postfix) with ESMTP id 116A0402DC; Mon, 21 Jul 2025 18:04:03 +0200 (CEST) Received: from mail-pl1-f225.google.com (mail-pl1-f225.google.com [209.85.214.225]) by mails.dpdk.org (Postfix) with ESMTP id 4A16E40297 for ; Mon, 21 Jul 2025 18:04:00 +0200 (CEST) Received: by mail-pl1-f225.google.com with SMTP id d9443c01a7336-235e1d710d8so48293285ad.1 for ; Mon, 21 Jul 2025 09:04:00 -0700 (PDT) DKIM-Signature: v=1; a=rsa-sha256; c=relaxed/relaxed; d=iol.unh.edu; s=unh-iol; t=1753113839; x=1753718639; darn=dpdk.org; h=references:in-reply-to:cc:to:from:subject:message-id:date:from:to :cc:subject:date:message-id:reply-to; bh=17gz0Tb1KyTXjiDi8/bPvYtNP60QJwsw4V1G18JJyD4=; b=G+Q2o58MJ1Ws1sFD6mieqp7crsonaACI7OR6sJGZve2i5JuKzesq7zfwfNGwPcOjHz 9fVVNq63HEr1xl5GkHqxQtlv2Ukpv3Gjq3wwxOGMB2KLe//FbWcCW0KJazeTcnvei3fa z+61QZYo2yyw5v3LBmyyEAIsj908Ix72sadxo= X-Google-DKIM-Signature: v=1; a=rsa-sha256; c=relaxed/relaxed; d=1e100.net; s=20230601; t=1753113839; x=1753718639; h=references:in-reply-to:cc:to:from:subject:message-id:date :x-gm-message-state:from:to:cc:subject:date:message-id:reply-to; bh=17gz0Tb1KyTXjiDi8/bPvYtNP60QJwsw4V1G18JJyD4=; b=EgMWKx/nyrAGyQijdZ1RLsi9YH5gtwvYhJicKAx5iA7PccOAOKewJudQGTwXZPS54f sDR3K8OmM0W/RznE56pQ5RkUO73PGOJTEgnNLPNW8NKUAa+KGD5+6ey+X+M5hNRJV/LW D8oLeVrpAPCye9ZMFMHw/d7hOArtrzJMYnpmVQKZfF/2L9RVXVsIo28F8eSgi609W4/u Gm5M3tPhwTrOb3YUQnWTVfiIO6RoarGs1w/kf964A/yDag7EuwedvlPL8L+Br79IQFyN 1ONrpue5KcD7cf7CEPtpietFmLuFlwv8ox3K0x+P/RF9+OzLlOStGpX6xE6MpNT5IoH1 XAWg== X-Gm-Message-State: AOJu0YxRFaCEUtMTyF8guFHn0K7iUf0F6+cqNlGSs8HJJI353l/FhWkE O8nXuNhKdokGAygrfCmdOK4S6lR4gTH1S1J2BHM6njvDtB1NgvfTyUP5NG9KLUUTtAyRRaHf9Pp wewHdeBKL9yYpH3NWAj53rRDcJzuQXEhEdC1H8lrUwdiz X-Gm-Gg: ASbGnct+qorWfhMHiVGVoIABrdvB0JEiGzvNHNzrPlf0bYdTzlPhzn9zCtgOcv0ZW0J pWLHjL6GCnPxoO6LU1v4OVvW0FSmGyCr3DgAEPNoK9ADYFmL1jyUiBpWw2QazCBiYlxJT2DzwtC AfyTldiic2nyL4AmF00tt7s26jPjDZ16j4lR9VpQjUr69Q7KHVAUjSSVI2qWovDK0eg14jE+l+/ dUzIYgZHzcv1fdOc9viAKNJ2bSf+U+Pk63ktELJpCO3oOSlDkC0WgNIujRUO/jHiqfubFtuSoMK PoLAUOF6/XGfQBLr3L5+fdhEAPHhqVPPGgtrDJG99JRqsshH6S+OnVaCosmyeUe26GqKJ0cQ X-Google-Smtp-Source: AGHT+IEWCt4Io1gQm20udwafp4LhL++uNCkNti65k/6E0sW1tTxv70Ym9nZGgsGtxhNpzVRV7Txyq7ECIZZb X-Received: by 2002:a17:902:e88e:b0:235:caa8:1a72 with SMTP id d9443c01a7336-23e303387e1mr220696625ad.30.1753113839400; Mon, 21 Jul 2025 09:03:59 -0700 (PDT) Received: from postal.iol.unh.edu (postal.iol.unh.edu. [132.177.123.84]) by smtp-relay.gmail.com with ESMTPS id d9443c01a7336-23e3b6f5a0bsm4307805ad.106.2025.07.21.09.03.59 (version=TLS1_2 cipher=ECDHE-ECDSA-AES128-GCM-SHA256 bits=128/128); Mon, 21 Jul 2025 09:03:59 -0700 (PDT) X-Relaying-Domain: iol.unh.edu Date: Mon, 21 Jul 2025 09:03:59 -0700 (PDT) Message-ID: <687e64ef.170a0220.2a8563.6c7cSMTPIN_ADDED_MISSING@mx.google.com> Received: from [172.21.0.7] (unknown [172.18.0.240]) by postal.iol.unh.edu (Postfix) with ESMTP id 456176050A61; Mon, 21 Jul 2025 12:03:58 -0400 (EDT) Subject: |SUCCESS| pw155373 [PATCH] ethdev: keep promiscuous/allmulti value b From: dpdklab@iol.unh.edu To: Test Report Cc: dpdk-test-reports@iol.unh.edu In-Reply-To: <20250721115139.46728-1-sunyang.wu@jaguarmicro.com> References: <20250721115139.46728-1-sunyang.wu@jaguarmicro.com> Content-Type: text/plain X-BeenThere: test-report@dpdk.org X-Mailman-Version: 2.1.29 Precedence: list List-Id: automatic DPDK test reports List-Unsubscribe: , List-Archive: List-Post: List-Help: List-Subscribe: , Errors-To: test-report-bounces@dpdk.org Test-Label: iol-abi-testing Test-Status: SUCCESS http://dpdk.org/patch/155373 _Testing PASS_ Submitter: Sunyang Wu Date: Monday, July 21 2025 11:51:39 DPDK git baseline: Repo:dpdk Branch: master CommitID:9fe9c0b231c8da5435bfccb1963121b4277f961c 155373 --> testing pass Upstream job id: Generic-DPDK-Compile-ABI#135088 Test environment and result as below: +-------------------------------+----------+ | Environment | abi_test | +===============================+==========+ | CentOS Stream 9 | PASS | +-------------------------------+----------+ | CentOS Stream 10 | PASS | +-------------------------------+----------+ | Debian GNU/Linux 12 | PASS | +-------------------------------+----------+ | Fedora Linux 40 | PASS | +-------------------------------+----------+ | openSUSE Leap 15.6 | PASS | +-------------------------------+----------+ | Fedora Linux 41 | PASS | +-------------------------------+----------+ | Red Hat Enterprise Linux 9.5 | PASS | +-------------------------------+----------+ | Ubuntu 24.04 | PASS | +-------------------------------+----------+ | Red Hat Enterprise Linux 8.10 | PASS | +-------------------------------+----------+ | Ubuntu 22.04 | PASS | +-------------------------------+----------+ CentOS Stream 9 Kernel: 5.15 Compiler: gcc gcc (GCC) 11.5.0 20240719 (Red Hat 11.5.0-7) CentOS Stream 10 Kernel: 5.15 Compiler: gcc gcc (GCC) 14.2.1 20250110 (Red Hat 14.2.1-8) Debian GNU/Linux 12 Kernel: 5.15 Compiler: gcc gcc (Debian 12.2.0-14+deb12u1) 12.2.0 Fedora Linux 40 Kernel: 5.15 Compiler: clang gcc (GCC) 14.2.1 20240912 (Red Hat 14.2.1-3) openSUSE Leap 15.6 Kernel: 5.15 Compiler: gcc gcc (SUSE Linux) 7.5.0 Fedora Linux 41 Kernel: 5.15 Compiler: clang gcc (GCC) 14.3.1 20250523 (Red Hat 14.3.1-1) Red Hat Enterprise Linux 9.5 Kernel: 5.15 Compiler: gcc gcc (GCC) 11.5.0 20240719 (Red Hat 11.5.0-2) Ubuntu 24.04 Kernel: 5.15 Compiler: gcc gcc (Ubuntu 13.3.0-6ubuntu2~24.04) 13.3.0 Red Hat Enterprise Linux 8.10 Kernel: 5.15 Compiler: gcc gcc (GCC) 8.5.0 20210514 (Red Hat 8.5.0-22) Ubuntu 22.04 Kernel: 5.15 Compiler: gcc gcc (Ubuntu 11.4.0-1ubuntu1~22.04) 11.4.0 To view detailed results, visit: https://lab.dpdk.org/results/dashboard/patchsets/33702/ UNH-IOL DPDK Community Lab To manage your email subscriptions, visit: https://lab.dpdk.org/results/dashboard/preferences/subscriptions/