From mboxrd@z Thu Jan 1 00:00:00 1970 Return-Path: Received: from mails.dpdk.org (mails.dpdk.org [217.70.189.124]) by inbox.dpdk.org (Postfix) with ESMTP id 20C8C46BD9 for ; Mon, 21 Jul 2025 18:04:06 +0200 (CEST) Received: from mails.dpdk.org (localhost [127.0.0.1]) by mails.dpdk.org (Postfix) with ESMTP id 1BA3D40297; Mon, 21 Jul 2025 18:04:06 +0200 (CEST) Received: from mail-pf1-f228.google.com (mail-pf1-f228.google.com [209.85.210.228]) by mails.dpdk.org (Postfix) with ESMTP id CFF1A40297 for ; Mon, 21 Jul 2025 18:04:02 +0200 (CEST) Received: by mail-pf1-f228.google.com with SMTP id d2e1a72fcca58-75ab31c426dso2092030b3a.3 for ; Mon, 21 Jul 2025 09:04:02 -0700 (PDT) DKIM-Signature: v=1; a=rsa-sha256; c=relaxed/relaxed; d=iol.unh.edu; s=unh-iol; t=1753113842; x=1753718642; darn=dpdk.org; h=references:in-reply-to:cc:to:from:subject:message-id:date:from:to :cc:subject:date:message-id:reply-to; bh=ZtnZjdgedOYtj5pHMqGes3lr0W96+JcPrLeOJGyUlDE=; b=J4eN+h2grL8AysSej7+IeFZ0aYtRmIBva1ynUSgMQsqoB4yIoV+zhomkCVuUj9epBv rybbP/9cCwmj9TBHVEg/L3UHyeiOSgke5/bZeECMUMT3rAE+6zyUTeZaeaheSKSMwRWJ EzYM7hoTitS5Q7BCWoBa/qk39ITL2CqBGJDVk= X-Google-DKIM-Signature: v=1; a=rsa-sha256; c=relaxed/relaxed; d=1e100.net; s=20230601; t=1753113842; x=1753718642; h=references:in-reply-to:cc:to:from:subject:message-id:date :x-gm-message-state:from:to:cc:subject:date:message-id:reply-to; bh=ZtnZjdgedOYtj5pHMqGes3lr0W96+JcPrLeOJGyUlDE=; b=F/7V0prQ2BhDlcwhwkG/F0KO+Of/N4YH7xgxFONCqXyUQ30v09cYayQC6vXTqtUMkZ c6iYffu9v5nhD2YQsCRtRdasekwNeEbKH1mq02eyewHiXujj+ATec1HFOgOShhvtO7I6 9H9TBzbVyWCSyZ8tDPDA8n6sglHxhnpHt1g4TAXRhTuGXQubnDDgwzRns+Cx2M1n8mgm Ll8a7oTet9ypA2Po14FNvOc4UcWS1GVmMBZgvIAZAy0OM9mTkdoP/Z+m+7fW5aM9lilL G7EAJZJsMBdpxEXHVlZ1KzbQUfY92l7yhnYNY+DONQNXXRynneT/Nzsv2LVg4Bx+B/OW B6Gw== X-Gm-Message-State: AOJu0YwBWrbNfrDgGTETEOdfqYDxHPmfR8chpJHwXdPrO4UTirWG67Ho wS+JtCNAskH0UWmC+U1htlVooLfXPsKQoQ5XiMZKAVGdoXxsCX6XhxOFA+7x8gYP7+gDtj0Wupn vOR95PuXDj6Fkc2pHwsQJGSWIQUZX9HC/qiqgXWHFu8Gb X-Gm-Gg: ASbGncuUKT9nDcQp03q+ys1KRYdvL63OB8ljkGEa684L8sYmrCRjepL+vqV8Us2HyA0 jjvuhKjkrh2COIp05nkEH1vL2hQ7d28cwfwdSgqFeI9K26OJk1HX3it+f7JgGiIyjihQR/36YVp Myqro61I0egdTUXseOIfRfwjsffCTlLsbam9rMKRaR9gX4ZRYSsy5h4BRqipHytJJqREl1z01q7 /J0bitaDDoCZDLa9ETk3l3d/WEA5fw/WGpsl7EiOgh3GnWmBY08NkUHCxsoamlKJEbGsFLoe8lb trUYsG4ucaKJUevFfvqxAy+BdYa4nioDEuu9cC398OtbOx08ArhvqkQDC/692NLMUKfJmksa X-Google-Smtp-Source: AGHT+IGJwTEFaneJwTVtphfJ5oCkt82w/AgxqB07JTsF2pDSJ8SjusMiQCqyGM8HLR3JZd7gOT98TekyeSBD X-Received: by 2002:a05:6a00:3c88:b0:74b:f639:33a6 with SMTP id d2e1a72fcca58-75722773326mr28876502b3a.2.1753113841845; Mon, 21 Jul 2025 09:04:01 -0700 (PDT) Received: from postal.iol.unh.edu (postal.iol.unh.edu. [132.177.123.84]) by smtp-relay.gmail.com with ESMTPS id 41be03b00d2f7-b3f2ff7d7b2sm479117a12.20.2025.07.21.09.04.01 (version=TLS1_2 cipher=ECDHE-ECDSA-AES128-GCM-SHA256 bits=128/128); Mon, 21 Jul 2025 09:04:01 -0700 (PDT) X-Relaying-Domain: iol.unh.edu Date: Mon, 21 Jul 2025 09:04:01 -0700 (PDT) Message-ID: <687e64f1.050a0220.34e9d2.9b75SMTPIN_ADDED_MISSING@mx.google.com> Received: from [172.21.0.9] (unknown [172.18.0.240]) by postal.iol.unh.edu (Postfix) with ESMTP id B2F6C6050A61; Mon, 21 Jul 2025 12:04:00 -0400 (EDT) Subject: |SUCCESS| pw155373 [PATCH] ethdev: keep promiscuous/allmulti value b From: dpdklab@iol.unh.edu To: Test Report Cc: dpdk-test-reports@iol.unh.edu In-Reply-To: <20250721115139.46728-1-sunyang.wu@jaguarmicro.com> References: <20250721115139.46728-1-sunyang.wu@jaguarmicro.com> Content-Type: text/plain X-BeenThere: test-report@dpdk.org X-Mailman-Version: 2.1.29 Precedence: list List-Id: automatic DPDK test reports List-Unsubscribe: , List-Archive: List-Post: List-Help: List-Subscribe: , Errors-To: test-report-bounces@dpdk.org Test-Label: iol-abi-testing Test-Status: SUCCESS http://dpdk.org/patch/155373 _Testing PASS_ Submitter: Sunyang Wu Date: Monday, July 21 2025 11:51:39 DPDK git baseline: Repo:dpdk Branch: master CommitID:9fe9c0b231c8da5435bfccb1963121b4277f961c 155373 --> testing pass Upstream job id: Generic-DPDK-Compile-ABI#135081 Test environment and result as below: +-------------------------------+----------+ | Environment | abi_test | +===============================+==========+ | CentOS Stream 9 | PASS | +-------------------------------+----------+ | CentOS Stream 10 | PASS | +-------------------------------+----------+ | Debian GNU/Linux 12 | PASS | +-------------------------------+----------+ | Fedora Linux 40 | PASS | +-------------------------------+----------+ | openSUSE Leap 15.6 | PASS | +-------------------------------+----------+ | Fedora Linux 41 | PASS | +-------------------------------+----------+ | Red Hat Enterprise Linux 9.5 | PASS | +-------------------------------+----------+ | Ubuntu 24.04 | PASS | +-------------------------------+----------+ | Red Hat Enterprise Linux 8.10 | PASS | +-------------------------------+----------+ | Ubuntu 22.04 | PASS | +-------------------------------+----------+ CentOS Stream 9 Kernel: 5.15 Compiler: gcc gcc (GCC) 11.5.0 20240719 (Red Hat 11.5.0-7) CentOS Stream 10 Kernel: 5.15 Compiler: gcc gcc (GCC) 14.2.1 20250110 (Red Hat 14.2.1-8) Debian GNU/Linux 12 Kernel: 5.15 Compiler: gcc gcc (Debian 12.2.0-14+deb12u1) 12.2.0 Fedora Linux 40 Kernel: 5.15 Compiler: clang gcc (GCC) 14.2.1 20240912 (Red Hat 14.2.1-3) openSUSE Leap 15.6 Kernel: 5.15 Compiler: gcc gcc (SUSE Linux) 7.5.0 Fedora Linux 41 Kernel: 5.15 Compiler: clang gcc (GCC) 14.3.1 20250523 (Red Hat 14.3.1-1) Red Hat Enterprise Linux 9.5 Kernel: 5.15 Compiler: gcc gcc (GCC) 11.5.0 20240719 (Red Hat 11.5.0-2) Ubuntu 24.04 Kernel: 5.15 Compiler: gcc gcc (Ubuntu 13.3.0-6ubuntu2~24.04) 13.3.0 Red Hat Enterprise Linux 8.10 Kernel: 5.15 Compiler: gcc gcc (GCC) 8.5.0 20210514 (Red Hat 8.5.0-22) Ubuntu 22.04 Kernel: 5.15 Compiler: gcc gcc (Ubuntu 11.4.0-1ubuntu1~22.04) 11.4.0 To view detailed results, visit: https://lab.dpdk.org/results/dashboard/patchsets/33702/ UNH-IOL DPDK Community Lab To manage your email subscriptions, visit: https://lab.dpdk.org/results/dashboard/preferences/subscriptions/