From mboxrd@z Thu Jan 1 00:00:00 1970 Return-Path: Received: from mails.dpdk.org (mails.dpdk.org [217.70.189.124]) by inbox.dpdk.org (Postfix) with ESMTP id 2A4BB46BD9 for ; Mon, 21 Jul 2025 18:04:09 +0200 (CEST) Received: from mails.dpdk.org (localhost [127.0.0.1]) by mails.dpdk.org (Postfix) with ESMTP id 25B5E402DC; Mon, 21 Jul 2025 18:04:09 +0200 (CEST) Received: from mail-pl1-f227.google.com (mail-pl1-f227.google.com [209.85.214.227]) by mails.dpdk.org (Postfix) with ESMTP id 5D4B940297 for ; Mon, 21 Jul 2025 18:04:05 +0200 (CEST) Received: by mail-pl1-f227.google.com with SMTP id d9443c01a7336-236470b2dceso36106595ad.0 for ; Mon, 21 Jul 2025 09:04:05 -0700 (PDT) DKIM-Signature: v=1; a=rsa-sha256; c=relaxed/relaxed; d=iol.unh.edu; s=unh-iol; t=1753113844; x=1753718644; darn=dpdk.org; h=references:in-reply-to:cc:to:from:subject:message-id:date:from:to :cc:subject:date:message-id:reply-to; bh=L/L3q/2Cz9SCADlNxFVCmGBLwzolB4ydaR1T/PKoZlU=; b=GSFkeusyO4fZA//qw5bRcVuTIWdAZQALm2orl27lfh2OlVYktPb45QQ8OK4LX6daFw q+WHHy5I3ychWNrtPyuTyWaX6XJ2RUyHl4HsgU9G2+3+e63uouDcciLgdIj0T2eyn2n/ v23TGNdrym9yidXHatAwmkEekc7D9aClLvIf4= X-Google-DKIM-Signature: v=1; a=rsa-sha256; c=relaxed/relaxed; d=1e100.net; s=20230601; t=1753113844; x=1753718644; h=references:in-reply-to:cc:to:from:subject:message-id:date :x-gm-message-state:from:to:cc:subject:date:message-id:reply-to; bh=L/L3q/2Cz9SCADlNxFVCmGBLwzolB4ydaR1T/PKoZlU=; b=TtASuhlJbUYQMgej6cJDNNugGvPZ+bEaPPPt8c+16vT4ftQR37qx3yr8Eww7p8zMFJ 5wnXULlH1SM/6M9VJJTo0CWG7EspITps2rTC1lBzsxuUFL9Mvlf1DgpYiUNxnrXt/NEG yjsA+PTb46/fSgMylWEre4wV7aw6QNb8CcFsEZPDQPUrsEEjrVq7mJl9qhRVVXofM2os Py26STw7m5J9tYAI1i2QC1S1Kh5PUR5ElDH9tDdWufJantAAjhQIKa1Nr5vg8vCMV1/D JDxfjecsU1yLKnprVZuuFIbrXT3b9C9MtnxN+SCCEaZoRfG9+qU3gWfW5IPsosLYOFWC WNNg== X-Gm-Message-State: AOJu0YxXtoGRrxS+PgBXrmqsuw+b2NBxpjrR8cIPndscBudju7wVSy6n zygCHUCSmhgnoP0K4/ZOK7McaYIh7bdZvaQEgCWgox1pfWdcqtXHnNWrlc69tVYR74Z3bvgcFkP NsHZRISKmHJEMc2NTXxjV5oFo6TraR2TizJjSFKDGPQio X-Gm-Gg: ASbGnctHjLp8rQkbFJoSwxVKeUx7D7QeNtfDO9Jzu8SFe4m1TRyRCeGeLkNrhlvA0Nc RGYoJEXm6HYG0/XqYS7U2sCk1OAAJSrhBYihoZ2ywxirN07DWykESnr7brk3y+qrGQ5U2D1FaS1 ZGwGQfXmcW3jpt1rVc7A9RPpdxFwJRIoQHXVlgFxVN7dUnFhn3e6O1xV6g6z4R6p4tg+dhyOoyJ 4y8fvP2bun82suAn/FlIx2eIVK4LCkHOzB/8PlpHRnLAVXfDd4Q9+zi3pTrUtVjUkak78ars4RZ BZY1T0gH40EZ4/38PgmFjt197egFIhTqFmM3L8UYRVRx8FMHiVvpHLMSY7bhAY9QQrnyU2Fs X-Google-Smtp-Source: AGHT+IF5aw/zYYSqZ3LF18CHiwHMLUGCrcEtLbWX5ykXXCdCOo9OTQBINY1Z1uUeJUz1FsW2LpPRL95KL5wK X-Received: by 2002:a17:902:ceca:b0:22e:4d50:4f58 with SMTP id d9443c01a7336-23e2572af3amr328989655ad.31.1753113844523; Mon, 21 Jul 2025 09:04:04 -0700 (PDT) Received: from postal.iol.unh.edu (postal.iol.unh.edu. [132.177.123.84]) by smtp-relay.gmail.com with ESMTPS id d9443c01a7336-23e3b6f0ddesm4296985ad.99.2025.07.21.09.04.04 (version=TLS1_2 cipher=ECDHE-ECDSA-AES128-GCM-SHA256 bits=128/128); Mon, 21 Jul 2025 09:04:04 -0700 (PDT) X-Relaying-Domain: iol.unh.edu Date: Mon, 21 Jul 2025 09:04:04 -0700 (PDT) Message-ID: <687e64f4.170a0220.31c54d.7342SMTPIN_ADDED_MISSING@mx.google.com> Received: from [172.21.0.8] (unknown [172.18.0.240]) by postal.iol.unh.edu (Postfix) with ESMTP id 681F96050A61; Mon, 21 Jul 2025 12:04:03 -0400 (EDT) Subject: |SUCCESS| pw155374 [PATCH] [v2] ethdev: Align enable logic handling From: dpdklab@iol.unh.edu To: Test Report Cc: dpdk-test-reports@iol.unh.edu In-Reply-To: <20250721130545.38200-1-sunyang.wu@jaguarmicro.com> References: <20250721130545.38200-1-sunyang.wu@jaguarmicro.com> Content-Type: text/plain X-BeenThere: test-report@dpdk.org X-Mailman-Version: 2.1.29 Precedence: list List-Id: automatic DPDK test reports List-Unsubscribe: , List-Archive: List-Post: List-Help: List-Subscribe: , Errors-To: test-report-bounces@dpdk.org Test-Label: iol-unit-amd64-testing Test-Status: SUCCESS http://dpdk.org/patch/155374 _Testing PASS_ Submitter: Sunyang Wu Date: Monday, July 21 2025 13:05:45 DPDK git baseline: Repo:dpdk Branch: master CommitID:9fe9c0b231c8da5435bfccb1963121b4277f961c 155374 --> testing pass Upstream job id: Generic-Unit-Test-DPDK#356894 Test environment and result as below: +-------------------------------+----------------+ | Environment | dpdk_unit_test | +===============================+================+ | Fedora Linux 40 | PASS | +-------------------------------+----------------+ | CentOS Stream 10 | PASS | +-------------------------------+----------------+ | Red Hat Enterprise Linux 8.10 | PASS | +-------------------------------+----------------+ | Fedora Linux 41 | PASS | +-------------------------------+----------------+ | CentOS Stream 9 | PASS | +-------------------------------+----------------+ | Ubuntu 20.04 | PASS | +-------------------------------+----------------+ | Ubuntu 24.04 | PASS | +-------------------------------+----------------+ | Debian GNU/Linux 12 | PASS | +-------------------------------+----------------+ | Red Hat Enterprise Linux 9.5 | PASS | +-------------------------------+----------------+ | Ubuntu 22.04 | PASS | +-------------------------------+----------------+ | Windows Server 2022 | PASS | +-------------------------------+----------------+ Fedora Linux 40 Kernel: 5.15 Compiler: clang gcc (GCC) 14.2.1 20240912 (Red Hat 14.2.1-3) CentOS Stream 10 Kernel: 5.15 Compiler: gcc gcc (GCC) 14.2.1 20250110 (Red Hat 14.2.1-8) Red Hat Enterprise Linux 8.10 Kernel: 5.15 Compiler: gcc gcc (GCC) 8.5.0 20210514 (Red Hat 8.5.0-22) Fedora Linux 41 Kernel: 5.15 Compiler: gcc gcc (GCC) 14.3.1 20250523 (Red Hat 14.3.1-1) CentOS Stream 9 Kernel: 5.15 Compiler: gcc gcc (GCC) 11.5.0 20240719 (Red Hat 11.5.0-7) Ubuntu 20.04 Kernel: 5.15 Compiler: gcc gcc (Ubuntu 9.4.0-1ubuntu1~20.04.2) 9.4.0 Ubuntu 24.04 Kernel: 5.15 Compiler: gcc gcc (Ubuntu 13.3.0-6ubuntu2~24.04) 13.3.0 Debian GNU/Linux 12 Kernel: 5.15 Compiler: gcc gcc (Debian 12.2.0-14+deb12u1) 12.2.0 Red Hat Enterprise Linux 9.5 Kernel: 5.15 Compiler: gcc gcc (GCC) 11.5.0 20240719 (Red Hat 11.5.0-2) Ubuntu 22.04 Kernel: 5.15 Compiler: gcc gcc (Ubuntu 11.4.0-1ubuntu1~22.04) 11.4.0 Windows Server 2022 Kernel: 10.0.20348.2031 Compiler: clang 15.0.7, gcc 14.1.0 (MinGW), and MSVC VS 19.39.33521 To view detailed results, visit: https://lab.dpdk.org/results/dashboard/patchsets/33703/ UNH-IOL DPDK Community Lab To manage your email subscriptions, visit: https://lab.dpdk.org/results/dashboard/preferences/subscriptions/