From mboxrd@z Thu Jan 1 00:00:00 1970 Return-Path: Received: from mails.dpdk.org (mails.dpdk.org [217.70.189.124]) by inbox.dpdk.org (Postfix) with ESMTP id 4605B46BD9 for ; Mon, 21 Jul 2025 18:04:32 +0200 (CEST) Received: from mails.dpdk.org (localhost [127.0.0.1]) by mails.dpdk.org (Postfix) with ESMTP id 41E1E40297; Mon, 21 Jul 2025 18:04:32 +0200 (CEST) Received: from mail-pl1-f226.google.com (mail-pl1-f226.google.com [209.85.214.226]) by mails.dpdk.org (Postfix) with ESMTP id 40CC940297 for ; Mon, 21 Jul 2025 18:04:31 +0200 (CEST) Received: by mail-pl1-f226.google.com with SMTP id d9443c01a7336-237e6963f63so26595655ad.2 for ; Mon, 21 Jul 2025 09:04:31 -0700 (PDT) DKIM-Signature: v=1; a=rsa-sha256; c=relaxed/relaxed; d=iol.unh.edu; s=unh-iol; t=1753113870; x=1753718670; darn=dpdk.org; h=references:in-reply-to:cc:to:from:subject:message-id:date:from:to :cc:subject:date:message-id:reply-to; bh=F4X5vI0ZIO6gXHkUoXGMT2/E214JkevnS0DGzPjBvoo=; b=JcrhcTDVhn8lIqY6jq0IEXbIbGkLjick3X6h/VkuiyfTfyGBB4HdNzQ2Xel6Tz8ZAW pBNUF2m4Ks3QGZi9JqPmdYJistpV2ENchKWEJgsD7JO76RhYjuGqHA8eEXl+VzdKHUqg L1M137tGMfe/XAjJy4nLv2cqYDFFPCRUlNwk0= X-Google-DKIM-Signature: v=1; a=rsa-sha256; c=relaxed/relaxed; d=1e100.net; s=20230601; t=1753113870; x=1753718670; h=references:in-reply-to:cc:to:from:subject:message-id:date :x-gm-message-state:from:to:cc:subject:date:message-id:reply-to; bh=F4X5vI0ZIO6gXHkUoXGMT2/E214JkevnS0DGzPjBvoo=; b=HCxm2aRn7yDBqvnC7OGHK2IOiuPv3y+p+lAL7q5fdQQkvlPnjaql4lgBUEiMbfxuq6 jiv+mndfpPQ/xEQsO5uLe+2qqRLP0U1GJOngDToxlgE0gYVnAq1NcycTzsss3T+49WbV beHpNjygh+9kSOCLoQBk+lgIvy4vUvgnm2y/qgZDgxY01bIYbKv5kbt8A8tw5TPCk632 GtOFpiGlV6fZ0bIBEAk03b9dBO7pxDhdoGpLmcUjpRlSIEXMSS1lyAlXD/WjP7Z5/O8A igdvElnJ5FeUo+H/OEl6Tw7h/J/En/qyEQRMrpAfMW40VerFMNcDDX9cWuglbyDWam2p GFKw== X-Gm-Message-State: AOJu0Yx2Z85eNXXNYkVaG0P6zfWG5Sxal10gSEAtckO+9DviZ+Ji+1Pf I4ctVBCAge2xR33Dx0dTuEFy0uGaOEpbwyAw8tOr7mUlIWp2vN0TjwhT0ESlLJFBy13f2auz0ON r34G5aWRuTuDGj7xLY4NOy3Tk4LINe/Rxr/GlkqXTaJDJ X-Gm-Gg: ASbGncvBo7/D2lrHxvNzeU8EPZcw+qwFSgi+5KNnsX5KbkipSOaySxRtdARwIrw9OcR y9cgDnTY6T5D6P3a6mbz2Vqz1yZqu34hS6gJE7c8LlTEFHpu0BtYyOaQam1LMq2JMZ3SyxsxQwu CXqwypEv8RYz5z2pGt50YOV2xO/FNxV7zSFIGqjMBKgex5uz01+a3VDT25XWf84fD9YBp7hy6ch DZ3IvX9Wken5NRYqBqJP72++gs9kQnBUnyfEWRRgzdJS1UYlHBIpbRj0Svo5oJeYEORWDEMzomt ITbUf9DMDl+lqdjoiWkXVL4OD8yyCdBbalrgNcMTTkZji7YVq2gcTnKHcWdmK7Xefne+Jf3p X-Google-Smtp-Source: AGHT+IEmXCylSJLhwxy8SAVYzdkhwIgn8LBpQ+AuaVSMTHNmbGPinRGTiSh4YWRXlvfnvAeczgMbIk/Amexu X-Received: by 2002:a17:902:e5c5:b0:234:d10d:9f9f with SMTP id d9443c01a7336-23e2575a645mr352210995ad.40.1753113870375; Mon, 21 Jul 2025 09:04:30 -0700 (PDT) Received: from postal.iol.unh.edu (postal.iol.unh.edu. [132.177.123.84]) by smtp-relay.gmail.com with ESMTPS id 8926c6da1cb9f-5084c8f50b7sm388600173.38.2025.07.21.09.04.30 (version=TLS1_2 cipher=ECDHE-ECDSA-AES128-GCM-SHA256 bits=128/128); Mon, 21 Jul 2025 09:04:30 -0700 (PDT) X-Relaying-Domain: iol.unh.edu Date: Mon, 21 Jul 2025 09:04:30 -0700 (PDT) Message-ID: <687e650e.050a0220.2f0f60.3b2fSMTPIN_ADDED_MISSING@mx.google.com> Received: from [172.21.0.4] (unknown [172.18.0.240]) by postal.iol.unh.edu (Postfix) with ESMTP id 7D3316050A61; Mon, 21 Jul 2025 12:04:29 -0400 (EDT) Subject: |SUCCESS| pw155373 [PATCH] ethdev: keep promiscuous/allmulti value b From: dpdklab@iol.unh.edu To: Test Report Cc: dpdk-test-reports@iol.unh.edu In-Reply-To: <20250721115139.46728-1-sunyang.wu@jaguarmicro.com> References: <20250721115139.46728-1-sunyang.wu@jaguarmicro.com> Content-Type: text/plain X-BeenThere: test-report@dpdk.org X-Mailman-Version: 2.1.29 Precedence: list List-Id: automatic DPDK test reports List-Unsubscribe: , List-Archive: List-Post: List-Help: List-Subscribe: , Errors-To: test-report-bounces@dpdk.org Test-Label: iol-compile-amd64-testing Test-Status: SUCCESS http://dpdk.org/patch/155373 _Testing PASS_ Submitter: Sunyang Wu Date: Monday, July 21 2025 11:51:39 DPDK git baseline: Repo:dpdk Branch: master CommitID:9fe9c0b231c8da5435bfccb1963121b4277f961c 155373 --> testing pass Upstream job id: Generic-DPDK-Compile-Meson#410495 Test environment and result as below: +-------------------------------+--------------------+-------------------+------------------+-------------------------+-------------------+----------------------+ | Environment | dpdk_meson_compile | dpdk_compile_spdk | dpdk_compile_ovs | dpdk_llvm_clang_compile | dpdk_msvc_compile | dpdk_mingw64_compile | +===============================+====================+===================+==================+=========================+===================+======================+ | CentOS Stream 9 | PASS | PASS | SKIPPED | SKIPPED | SKIPPED | SKIPPED | +-------------------------------+--------------------+-------------------+------------------+-------------------------+-------------------+----------------------+ | Debian GNU/Linux 12 | PASS | PASS | SKIPPED | SKIPPED | SKIPPED | SKIPPED | +-------------------------------+--------------------+-------------------+------------------+-------------------------+-------------------+----------------------+ | CentOS Stream 10 | PASS | SKIPPED | SKIPPED | SKIPPED | SKIPPED | SKIPPED | +-------------------------------+--------------------+-------------------+------------------+-------------------------+-------------------+----------------------+ | Fedora Linux 41 | PASS | PASS | PASS | SKIPPED | SKIPPED | SKIPPED | +-------------------------------+--------------------+-------------------+------------------+-------------------------+-------------------+----------------------+ | Fedora Linux 40 | PASS | PASS | SKIPPED | SKIPPED | SKIPPED | SKIPPED | +-------------------------------+--------------------+-------------------+------------------+-------------------------+-------------------+----------------------+ | openSUSE Leap 15.6 | PASS | SKIPPED | SKIPPED | SKIPPED | SKIPPED | SKIPPED | +-------------------------------+--------------------+-------------------+------------------+-------------------------+-------------------+----------------------+ | Ubuntu 20.04 | PASS | SKIPPED | SKIPPED | SKIPPED | SKIPPED | SKIPPED | +-------------------------------+--------------------+-------------------+------------------+-------------------------+-------------------+----------------------+ | Red Hat Enterprise Linux 8.10 | PASS | SKIPPED | SKIPPED | SKIPPED | SKIPPED | SKIPPED | +-------------------------------+--------------------+-------------------+------------------+-------------------------+-------------------+----------------------+ | Red Hat Enterprise Linux 9.5 | PASS | SKIPPED | SKIPPED | SKIPPED | SKIPPED | SKIPPED | +-------------------------------+--------------------+-------------------+------------------+-------------------------+-------------------+----------------------+ | Ubuntu 24.04 | PASS | PASS | PASS | SKIPPED | SKIPPED | SKIPPED | +-------------------------------+--------------------+-------------------+------------------+-------------------------+-------------------+----------------------+ | Ubuntu 22.04 | PASS | PASS | SKIPPED | SKIPPED | SKIPPED | SKIPPED | +-------------------------------+--------------------+-------------------+------------------+-------------------------+-------------------+----------------------+ | Alpine Linux 3.22.0 | PASS | SKIPPED | SKIPPED | SKIPPED | SKIPPED | SKIPPED | +-------------------------------+--------------------+-------------------+------------------+-------------------------+-------------------+----------------------+ | FreeBSD 14.2 | PASS | SKIPPED | SKIPPED | SKIPPED | SKIPPED | SKIPPED | +-------------------------------+--------------------+-------------------+------------------+-------------------------+-------------------+----------------------+ | Windows Server 2022 | SKIPPED | SKIPPED | SKIPPED | PASS | PASS | PASS | +-------------------------------+--------------------+-------------------+------------------+-------------------------+-------------------+----------------------+ CentOS Stream 9 Kernel: 5.15 Compiler: gcc gcc (GCC) 11.5.0 20240719 (Red Hat 11.5.0-7) Debian GNU/Linux 12 Kernel: 5.15 Compiler: gcc gcc (Debian 12.2.0-14+deb12u1) 12.2.0 CentOS Stream 10 Kernel: 5.15 Compiler: gcc gcc (GCC) 14.2.1 20250110 (Red Hat 14.2.1-8) Fedora Linux 41 Kernel: 5.15 Compiler: clang gcc (GCC) 14.3.1 20250523 (Red Hat 14.3.1-1) Fedora Linux 40 Kernel: 5.15 Compiler: clang gcc (GCC) 14.2.1 20240912 (Red Hat 14.2.1-3) openSUSE Leap 15.6 Kernel: 5.15 Compiler: gcc gcc (SUSE Linux) 7.5.0 Ubuntu 20.04 Kernel: 5.15 Compiler: gcc gcc (Ubuntu 9.4.0-1ubuntu1~20.04.2) 9.4.0 Red Hat Enterprise Linux 8.10 Kernel: 5.15 Compiler: gcc gcc (GCC) 8.5.0 20210514 (Red Hat 8.5.0-22) Red Hat Enterprise Linux 9.5 Kernel: 5.15 Compiler: gcc gcc (GCC) 11.5.0 20240719 (Red Hat 11.5.0-2) Ubuntu 24.04 Kernel: 5.15 Compiler: gcc gcc (Ubuntu 13.3.0-6ubuntu2~24.04) 13.3.0 Ubuntu 22.04 Kernel: 5.15 Compiler: gcc gcc (Ubuntu 11.4.0-1ubuntu1~22.04) 11.4.0 Alpine Linux 3.22.0 Kernel: 5.15 Compiler: gcc gcc (Alpine 14.2.0) 14.2.0 FreeBSD 14.2 Kernel: 14.2-RELEASE Compiler: clang 18.1.6 Windows Server 2022 Kernel: 10.0.20348.2031 Compiler: clang 15.0.7, gcc 14.1.0 (MinGW), and MSVC VS 19.39.33521 To view detailed results, visit: https://lab.dpdk.org/results/dashboard/patchsets/33702/ UNH-IOL DPDK Community Lab To manage your email subscriptions, visit: https://lab.dpdk.org/results/dashboard/preferences/subscriptions/