From mboxrd@z Thu Jan 1 00:00:00 1970 Return-Path: Received: from mails.dpdk.org (mails.dpdk.org [217.70.189.124]) by inbox.dpdk.org (Postfix) with ESMTP id 56D1C46BD9 for ; Mon, 21 Jul 2025 18:04:51 +0200 (CEST) Received: from mails.dpdk.org (localhost [127.0.0.1]) by mails.dpdk.org (Postfix) with ESMTP id 5066D40297; Mon, 21 Jul 2025 18:04:51 +0200 (CEST) Received: from mail-pf1-f227.google.com (mail-pf1-f227.google.com [209.85.210.227]) by mails.dpdk.org (Postfix) with ESMTP id E8F6940297 for ; Mon, 21 Jul 2025 18:04:49 +0200 (CEST) Received: by mail-pf1-f227.google.com with SMTP id d2e1a72fcca58-748e81d37a7so2958182b3a.1 for ; Mon, 21 Jul 2025 09:04:49 -0700 (PDT) DKIM-Signature: v=1; a=rsa-sha256; c=relaxed/relaxed; d=iol.unh.edu; s=unh-iol; t=1753113889; x=1753718689; darn=dpdk.org; h=references:in-reply-to:cc:to:from:subject:message-id:date:from:to :cc:subject:date:message-id:reply-to; bh=2SnXKHIAoEktLO0BTMaTix4hntjOGMJx4TKbeFF2EmI=; b=bWsxoxc2qmwFoo5n7G915hFq3nrPsQXh+QQOUOGUH5OMqRPyaDBZZDzP6oUj7MruCJ h2JzkAp0jfZOEYNauXseXNwnaZg9YxEcpoxypXAop4gZRIy3KhMdm0EsW1tWf6Q+GdZK oXRboXi8CxBrkHnqvtOYyqQkDk+S9gYPTepoY= X-Google-DKIM-Signature: v=1; a=rsa-sha256; c=relaxed/relaxed; d=1e100.net; s=20230601; t=1753113889; x=1753718689; h=references:in-reply-to:cc:to:from:subject:message-id:date :x-gm-message-state:from:to:cc:subject:date:message-id:reply-to; bh=2SnXKHIAoEktLO0BTMaTix4hntjOGMJx4TKbeFF2EmI=; b=cqjdcnCJnSZx2e3SEHUVzkGEmLDLF2feqhG4FTzgfL55lmHU/MaiPmWl7/M3IhAiEL R+hiRb1D5fYnN+WkVIV4jaTAKItC7r5xf3IMQTmYwK6nD9GWkUKcXeLcp0/uz/l2ieFU XchmFb3nInV0RH4f5SLD7PpjfmJtAjTM5UUzb28TyQLnzOh6tT4NrcopmAgK8sFoeF4d bKvxtvK0HuFwITtVpm4aPtCOevxJacjRPCQ8KDrtQzUYoFERh34NWhUGmXD5VF+/Pi4t PBaZKzL3GAN50db/pPYYgMbx/o5dvpl+qbbWPu9ghDs5TSwGKZf+4+JUsSB5evyqTk8q c73Q== X-Gm-Message-State: AOJu0YyUFJUfMz7tyAwneBHGgT7MF5fts5vEqPHXK3pAsuR5GGFl78e2 Fj3uXX61ch4qtnw94OYq61NORYmDn3PKyMzIBaXTseyvsK3IO8XBYkX3qxX+OB68Pf1y91OiHd8 La2KPk11Q+ifEgq2Nvdr0LJvUfXu+iPTBaM87qndvMqnjDseTokdO3jKuZWzh X-Gm-Gg: ASbGncvlVt8uiJpRgNagXIT+byZ/xekLW4xMjZ5f5zP16pdMvmEKD4GCuA7OIHS55Tp jlVCW3MX3DTcBKalqCWZ2pavsiORxedbRQRlCZ6IsNi4zhN5s0tGbBVEtA4x1e/RouHNr6u/k// p3XbTLtIkNdYCkBe1Ww7bVc3IGudZdFBG4MK5cyH7nb9+cD0rkdiDkYnESE2Ec/V13jJmR3bTQ+ K2a1TtZdLIITF5+Z+kpl+O3bsYdNSH1N3VorAxrJau7Cki83oi9WQj3c36MgpKWxKq6fek5uLE2 BbbtTjAGpffOQYPzyRFzxZK1eYalzbOQ4Rk7eGJFK/NolARBsw== X-Google-Smtp-Source: AGHT+IEzRO8yhKP1FZJvj0lfw3b6HLmPgD/JDF4OlOxs5QbT3JG9Mg3SyFA6qOmrhvLCWCwwjMzJccatRYM6 X-Received: by 2002:a05:6a00:84f:b0:748:e4f6:ff31 with SMTP id d2e1a72fcca58-759abb35de2mr21944127b3a.8.1753113889027; Mon, 21 Jul 2025 09:04:49 -0700 (PDT) Received: from postal.iol.unh.edu (postal.iol.unh.edu. [2606:4100:3880:1234::84]) by smtp-relay.gmail.com with ESMTPS id d2e1a72fcca58-759ca936734sm442327b3a.19.2025.07.21.09.04.48 (version=TLS1_2 cipher=ECDHE-ECDSA-AES128-GCM-SHA256 bits=128/128); Mon, 21 Jul 2025 09:04:49 -0700 (PDT) X-Relaying-Domain: iol.unh.edu Date: Mon, 21 Jul 2025 09:04:49 -0700 (PDT) Message-ID: <687e6521.050a0220.258f4f.5a37SMTPIN_ADDED_MISSING@mx.google.com> Received: from [172.21.0.3] (unknown [172.18.0.240]) by postal.iol.unh.edu (Postfix) with ESMTP id DB2976050A61; Mon, 21 Jul 2025 12:04:47 -0400 (EDT) Subject: |SUCCESS| pw155373 [PATCH] ethdev: keep promiscuous/allmulti value b From: dpdklab@iol.unh.edu To: Test Report Cc: dpdk-test-reports@iol.unh.edu In-Reply-To: <20250721115139.46728-1-sunyang.wu@jaguarmicro.com> References: <20250721115139.46728-1-sunyang.wu@jaguarmicro.com> Content-Type: text/plain X-BeenThere: test-report@dpdk.org X-Mailman-Version: 2.1.29 Precedence: list List-Id: automatic DPDK test reports List-Unsubscribe: , List-Archive: List-Post: List-Help: List-Subscribe: , Errors-To: test-report-bounces@dpdk.org Test-Label: iol-compile-amd64-testing Test-Status: SUCCESS http://dpdk.org/patch/155373 _Testing PASS_ Submitter: Sunyang Wu Date: Monday, July 21 2025 11:51:39 DPDK git baseline: Repo:dpdk Branch: master CommitID:9fe9c0b231c8da5435bfccb1963121b4277f961c 155373 --> testing pass Upstream job id: Generic-DPDK-Compile-Meson#410492 Test environment and result as below: +-------------------------------+--------------------+-------------------+------------------+-------------------------+-------------------+----------------------+ | Environment | dpdk_meson_compile | dpdk_compile_spdk | dpdk_compile_ovs | dpdk_llvm_clang_compile | dpdk_msvc_compile | dpdk_mingw64_compile | +===============================+====================+===================+==================+=========================+===================+======================+ | CentOS Stream 9 | PASS | PASS | SKIPPED | SKIPPED | SKIPPED | SKIPPED | +-------------------------------+--------------------+-------------------+------------------+-------------------------+-------------------+----------------------+ | Debian GNU/Linux 12 | PASS | PASS | SKIPPED | SKIPPED | SKIPPED | SKIPPED | +-------------------------------+--------------------+-------------------+------------------+-------------------------+-------------------+----------------------+ | CentOS Stream 10 | PASS | SKIPPED | SKIPPED | SKIPPED | SKIPPED | SKIPPED | +-------------------------------+--------------------+-------------------+------------------+-------------------------+-------------------+----------------------+ | Fedora Linux 41 | PASS | PASS | PASS | SKIPPED | SKIPPED | SKIPPED | +-------------------------------+--------------------+-------------------+------------------+-------------------------+-------------------+----------------------+ | Fedora Linux 40 | PASS | PASS | SKIPPED | SKIPPED | SKIPPED | SKIPPED | +-------------------------------+--------------------+-------------------+------------------+-------------------------+-------------------+----------------------+ | openSUSE Leap 15.6 | PASS | SKIPPED | SKIPPED | SKIPPED | SKIPPED | SKIPPED | +-------------------------------+--------------------+-------------------+------------------+-------------------------+-------------------+----------------------+ | Ubuntu 20.04 | PASS | SKIPPED | SKIPPED | SKIPPED | SKIPPED | SKIPPED | +-------------------------------+--------------------+-------------------+------------------+-------------------------+-------------------+----------------------+ | Red Hat Enterprise Linux 8.10 | PASS | SKIPPED | SKIPPED | SKIPPED | SKIPPED | SKIPPED | +-------------------------------+--------------------+-------------------+------------------+-------------------------+-------------------+----------------------+ | Red Hat Enterprise Linux 9.5 | PASS | SKIPPED | SKIPPED | SKIPPED | SKIPPED | SKIPPED | +-------------------------------+--------------------+-------------------+------------------+-------------------------+-------------------+----------------------+ | Ubuntu 24.04 | PASS | PASS | PASS | SKIPPED | SKIPPED | SKIPPED | +-------------------------------+--------------------+-------------------+------------------+-------------------------+-------------------+----------------------+ | Ubuntu 22.04 | PASS | PASS | SKIPPED | SKIPPED | SKIPPED | SKIPPED | +-------------------------------+--------------------+-------------------+------------------+-------------------------+-------------------+----------------------+ | Alpine Linux 3.22.0 | PASS | SKIPPED | SKIPPED | SKIPPED | SKIPPED | SKIPPED | +-------------------------------+--------------------+-------------------+------------------+-------------------------+-------------------+----------------------+ | FreeBSD 14.2 | PASS | SKIPPED | SKIPPED | SKIPPED | SKIPPED | SKIPPED | +-------------------------------+--------------------+-------------------+------------------+-------------------------+-------------------+----------------------+ | Windows Server 2022 | SKIPPED | SKIPPED | SKIPPED | PASS | PASS | PASS | +-------------------------------+--------------------+-------------------+------------------+-------------------------+-------------------+----------------------+ CentOS Stream 9 Kernel: 5.15 Compiler: gcc gcc (GCC) 11.5.0 20240719 (Red Hat 11.5.0-7) Debian GNU/Linux 12 Kernel: 5.15 Compiler: gcc gcc (Debian 12.2.0-14+deb12u1) 12.2.0 CentOS Stream 10 Kernel: 5.15 Compiler: gcc gcc (GCC) 14.2.1 20250110 (Red Hat 14.2.1-8) Fedora Linux 41 Kernel: 5.15 Compiler: clang gcc (GCC) 14.3.1 20250523 (Red Hat 14.3.1-1) Fedora Linux 40 Kernel: 5.15 Compiler: clang gcc (GCC) 14.2.1 20240912 (Red Hat 14.2.1-3) openSUSE Leap 15.6 Kernel: 5.15 Compiler: gcc gcc (SUSE Linux) 7.5.0 Ubuntu 20.04 Kernel: 5.15 Compiler: gcc gcc (Ubuntu 9.4.0-1ubuntu1~20.04.2) 9.4.0 Red Hat Enterprise Linux 8.10 Kernel: 5.15 Compiler: gcc gcc (GCC) 8.5.0 20210514 (Red Hat 8.5.0-22) Red Hat Enterprise Linux 9.5 Kernel: 5.15 Compiler: gcc gcc (GCC) 11.5.0 20240719 (Red Hat 11.5.0-2) Ubuntu 24.04 Kernel: 5.15 Compiler: gcc gcc (Ubuntu 13.3.0-6ubuntu2~24.04) 13.3.0 Ubuntu 22.04 Kernel: 5.15 Compiler: gcc gcc (Ubuntu 11.4.0-1ubuntu1~22.04) 11.4.0 Alpine Linux 3.22.0 Kernel: 5.15 Compiler: gcc gcc (Alpine 14.2.0) 14.2.0 FreeBSD 14.2 Kernel: 14.2-RELEASE Compiler: clang 18.1.6 Windows Server 2022 Kernel: 10.0.20348.2031 Compiler: clang 15.0.7, gcc 14.1.0 (MinGW), and MSVC VS 19.39.33521 To view detailed results, visit: https://lab.dpdk.org/results/dashboard/patchsets/33702/ UNH-IOL DPDK Community Lab To manage your email subscriptions, visit: https://lab.dpdk.org/results/dashboard/preferences/subscriptions/