From mboxrd@z Thu Jan 1 00:00:00 1970 Return-Path: Received: from mails.dpdk.org (mails.dpdk.org [217.70.189.124]) by inbox.dpdk.org (Postfix) with ESMTP id 5FD5E46BD9 for ; Mon, 21 Jul 2025 18:04:54 +0200 (CEST) Received: from mails.dpdk.org (localhost [127.0.0.1]) by mails.dpdk.org (Postfix) with ESMTP id 5B90240297; Mon, 21 Jul 2025 18:04:54 +0200 (CEST) Received: from mail-il1-f227.google.com (mail-il1-f227.google.com [209.85.166.227]) by mails.dpdk.org (Postfix) with ESMTP id C36DA40297 for ; Mon, 21 Jul 2025 18:04:50 +0200 (CEST) Received: by mail-il1-f227.google.com with SMTP id e9e14a558f8ab-3de18fde9cfso19299705ab.3 for ; Mon, 21 Jul 2025 09:04:50 -0700 (PDT) DKIM-Signature: v=1; a=rsa-sha256; c=relaxed/relaxed; d=iol.unh.edu; s=unh-iol; t=1753113890; x=1753718690; darn=dpdk.org; h=references:in-reply-to:cc:to:from:subject:message-id:date:from:to :cc:subject:date:message-id:reply-to; bh=okEhkiRIQZqoYHaBGSvp/7T0yc6BFf3JnITcoRNm4cA=; b=KqenJLRNM7KcFk2NgZnouNT295yAFsZFqQ3+ANIaeaJfDrGk30o5k2sG8Ra0qpVkwO eJLCqpcH6Yyon9ViZBItUw4GyRKPRe4qu2ikEB62JGTg0EC6GuCfo8gGmA4OHYMX8ntb HVJjOOn8pE1jMPZW9LVMwnP0N8647wJFpoo/o= X-Google-DKIM-Signature: v=1; a=rsa-sha256; c=relaxed/relaxed; d=1e100.net; s=20230601; t=1753113890; x=1753718690; h=references:in-reply-to:cc:to:from:subject:message-id:date :x-gm-message-state:from:to:cc:subject:date:message-id:reply-to; bh=okEhkiRIQZqoYHaBGSvp/7T0yc6BFf3JnITcoRNm4cA=; b=tpkTbNqYDRizMK7OGJclHkUqgALtd/r7YDNP0jFj1Bku60jnmR6laRqznqO4Bljemq OuoJQUuCX54DeWVBwpy7NefRi7KRVNWc7JrpB5DnXC6ppbH6zfMSmPFkv+oe2RDBQ6Y8 H+4bzyMo11SFGJJP6fWoHKM1kYRKxi7OOGc9jOvNw0wH0EjUSb8n7/bN36iKT4GVrq9P S0d2XT7qBVFlWvTuqgKcz/sNS2VMsC5QhqrH9tnPVcn2PTGJgdwuarrehapPGpDeHYsi HurepyduG5J/aW0MRUxqahB0XPu+PYRkrD8e+YHrC2GCSDftxZKI8xhmwc6iCiCDyzd6 /F8g== X-Gm-Message-State: AOJu0YzcNlZyzqiqgO78e9Cosa+yrCZTnCVI+jeNE7ou8mNZaI1VbBTs 8hyeXQ+5ZUAT4/rIqzlI7UrttbYRvURKARuuciJwEv+5j76/nowq/2aLxgQmuJf7/wy3umcBioB JTPJw0F707jKeGYnPJiT37CsJzlf7x29zH+EFq33KFZKO X-Gm-Gg: ASbGncuXLEXPcXfCgEpkS3FXdeFxzm0+0FFOmyDp+Ei+VON2SPI+B9ANwL3aL2Fi7Up AVEadgcluzO7Vl/45FLHXVm9rWViZhO6y5cha/BKHeHxSfiOu6B6rkDsvjIXcMnvKQ+r9yL6T0M 4qQFSu5vL+JAbXRul282tBl7egc1IhdUNAYc3khrgcCwTLv1M7WI8wj24KfxDb+l1IL3bTwyBPn gMPnUHcT1fLWwuyzs2WaUos1kU698bLmrhnOakK1hKb+inXHOGXe18aPFF9fillDAAuMtWADv7N pw3N9C2I+9bZw3GTBlByWh3N2DECvp3Ppz9/HbSs5iSZz/C4ENi9ei+zFc1raPDltHYhhV8m X-Google-Smtp-Source: AGHT+IEhPpuQXZmUJtckEDg1UDwfD1x9uGBukXZw4ZWhRtKVbwwRsj0ayNO22YftpRUlbmTeB44AwWIhXbmr X-Received: by 2002:a05:6e02:3190:b0:3e2:a40e:d29f with SMTP id e9e14a558f8ab-3e2a40ed327mr118130785ab.9.1753113890000; Mon, 21 Jul 2025 09:04:50 -0700 (PDT) Received: from postal.iol.unh.edu (postal.iol.unh.edu. [132.177.123.84]) by smtp-relay.gmail.com with ESMTPS id e9e14a558f8ab-3e298353f66sm5207575ab.32.2025.07.21.09.04.49 (version=TLS1_2 cipher=ECDHE-ECDSA-AES128-GCM-SHA256 bits=128/128); Mon, 21 Jul 2025 09:04:49 -0700 (PDT) X-Relaying-Domain: iol.unh.edu Date: Mon, 21 Jul 2025 09:04:49 -0700 (PDT) Message-ID: <687e6521.050a0220.a8bd.b2b9SMTPIN_ADDED_MISSING@mx.google.com> Received: from [172.21.0.6] (unknown [172.18.0.240]) by postal.iol.unh.edu (Postfix) with ESMTP id 2C3C86050A61; Mon, 21 Jul 2025 12:04:49 -0400 (EDT) Subject: |SUCCESS| pw155373 [PATCH] ethdev: keep promiscuous/allmulti value b From: dpdklab@iol.unh.edu To: Test Report Cc: dpdk-test-reports@iol.unh.edu In-Reply-To: <20250721115139.46728-1-sunyang.wu@jaguarmicro.com> References: <20250721115139.46728-1-sunyang.wu@jaguarmicro.com> Content-Type: text/plain X-BeenThere: test-report@dpdk.org X-Mailman-Version: 2.1.29 Precedence: list List-Id: automatic DPDK test reports List-Unsubscribe: , List-Archive: List-Post: List-Help: List-Subscribe: , Errors-To: test-report-bounces@dpdk.org Test-Label: iol-abi-testing Test-Status: SUCCESS http://dpdk.org/patch/155373 _Testing PASS_ Submitter: Sunyang Wu Date: Monday, July 21 2025 11:51:39 DPDK git baseline: Repo:dpdk Branch: master CommitID:9fe9c0b231c8da5435bfccb1963121b4277f961c 155373 --> testing pass Upstream job id: Generic-DPDK-Compile-ABI#135083 Test environment and result as below: +-------------------------------+----------+ | Environment | abi_test | +===============================+==========+ | CentOS Stream 9 | PASS | +-------------------------------+----------+ | CentOS Stream 10 | PASS | +-------------------------------+----------+ | Debian GNU/Linux 12 | PASS | +-------------------------------+----------+ | Fedora Linux 40 | PASS | +-------------------------------+----------+ | openSUSE Leap 15.6 | PASS | +-------------------------------+----------+ | Fedora Linux 41 | PASS | +-------------------------------+----------+ | Red Hat Enterprise Linux 9.5 | PASS | +-------------------------------+----------+ | Ubuntu 24.04 | PASS | +-------------------------------+----------+ | Red Hat Enterprise Linux 8.10 | PASS | +-------------------------------+----------+ | Ubuntu 22.04 | PASS | +-------------------------------+----------+ CentOS Stream 9 Kernel: 5.15 Compiler: gcc gcc (GCC) 11.5.0 20240719 (Red Hat 11.5.0-7) CentOS Stream 10 Kernel: 5.15 Compiler: gcc gcc (GCC) 14.2.1 20250110 (Red Hat 14.2.1-8) Debian GNU/Linux 12 Kernel: 5.15 Compiler: gcc gcc (Debian 12.2.0-14+deb12u1) 12.2.0 Fedora Linux 40 Kernel: 5.15 Compiler: clang gcc (GCC) 14.2.1 20240912 (Red Hat 14.2.1-3) openSUSE Leap 15.6 Kernel: 5.15 Compiler: gcc gcc (SUSE Linux) 7.5.0 Fedora Linux 41 Kernel: 5.15 Compiler: clang gcc (GCC) 14.3.1 20250523 (Red Hat 14.3.1-1) Red Hat Enterprise Linux 9.5 Kernel: 5.15 Compiler: gcc gcc (GCC) 11.5.0 20240719 (Red Hat 11.5.0-2) Ubuntu 24.04 Kernel: 5.15 Compiler: gcc gcc (Ubuntu 13.3.0-6ubuntu2~24.04) 13.3.0 Red Hat Enterprise Linux 8.10 Kernel: 5.15 Compiler: gcc gcc (GCC) 8.5.0 20210514 (Red Hat 8.5.0-22) Ubuntu 22.04 Kernel: 5.15 Compiler: gcc gcc (Ubuntu 11.4.0-1ubuntu1~22.04) 11.4.0 To view detailed results, visit: https://lab.dpdk.org/results/dashboard/patchsets/33702/ UNH-IOL DPDK Community Lab To manage your email subscriptions, visit: https://lab.dpdk.org/results/dashboard/preferences/subscriptions/