From mboxrd@z Thu Jan 1 00:00:00 1970 Return-Path: Received: from mails.dpdk.org (mails.dpdk.org [217.70.189.124]) by inbox.dpdk.org (Postfix) with ESMTP id 6ECA046BD9 for ; Mon, 21 Jul 2025 18:05:03 +0200 (CEST) Received: from mails.dpdk.org (localhost [127.0.0.1]) by mails.dpdk.org (Postfix) with ESMTP id 6A7EC40297; Mon, 21 Jul 2025 18:05:03 +0200 (CEST) Received: from mail-pl1-f225.google.com (mail-pl1-f225.google.com [209.85.214.225]) by mails.dpdk.org (Postfix) with ESMTP id C5A6A40297 for ; Mon, 21 Jul 2025 18:05:01 +0200 (CEST) Received: by mail-pl1-f225.google.com with SMTP id d9443c01a7336-235a3dd4f0dso27525835ad.0 for ; Mon, 21 Jul 2025 09:05:01 -0700 (PDT) DKIM-Signature: v=1; a=rsa-sha256; c=relaxed/relaxed; d=iol.unh.edu; s=unh-iol; t=1753113901; x=1753718701; darn=dpdk.org; h=references:in-reply-to:cc:to:from:subject:message-id:date:from:to :cc:subject:date:message-id:reply-to; bh=4WC5Nb0fsifSQ4EAnZGRzJ50HI6QxJyXh9NRWTUdv0w=; b=JLNniAvCAJdyd354kUxWINQZuR5yor46WiIISNDAGCxsPlyciFsYLvGPjxUTn9JxtW WtrIzA76RNWrOLxg5GpmBYmRETzsUwi+6cmBwtsAMkRK/RQgDgEXx3Pfrlq56puH1vXc W8iXb/jOaTjKyjqymO8irivNpzHZ7ezotv5JQ= X-Google-DKIM-Signature: v=1; a=rsa-sha256; c=relaxed/relaxed; d=1e100.net; s=20230601; t=1753113901; x=1753718701; h=references:in-reply-to:cc:to:from:subject:message-id:date :x-gm-message-state:from:to:cc:subject:date:message-id:reply-to; bh=4WC5Nb0fsifSQ4EAnZGRzJ50HI6QxJyXh9NRWTUdv0w=; b=HVTd4KB7rneVoQJTxhGyl9uQZus/UabL2CegTpD3rU7YYN+NnezuUJN/TsmdgIJz58 eW+1JWlnbEJT8+GJkfIZ7ByB+cyPcgIxLR34mNqLk57u+V6nWhrw5hF8jVd6R0gET0o7 7r+dSxcPakPD/PRkR7lfreyxBdl/VSlIADkOt4ASGEEoweLDTJh5E7MXQpW5FaFt2YOD EhxvfgHrjFpXNjYzGjQCpRqJzDBzVwFJOOkuQFfItm6YZxh5b2XRojZuqYLjYoFKZQyU eQj1MjtUsT2NjG3gFUOqLHz93ucVwFsMSMp8MyhLtn6Ok6NChsN1vpCYzTMBjcrxgVg+ UIhw== X-Gm-Message-State: AOJu0YxYXSXYRRrORqLhcV0wgKiQLjuBLJWr0IsNzBO33z7oOH/UEVQy cg+57hHAOmnItzup2x0HzRNI/TatOWebeoVnrRXnR2zmwWKFury9fK9cpBxBJijwRD9KUwwrC81 hfVOGppAImsoyHSoJ6QGAcvqs7Gothko/L1G1Qw/Nf5AW X-Gm-Gg: ASbGncsl4QUjJkJqzf/86ZCbjj9HVB7y+j+yiOSuAO1LaHlcj0sCK6GRuI099gpWb3H kqID4nMIrqMLlOXJfFGQQgxyiYteqzYRpIAd5DqnLMvFL/YD1rAX32UhSePRnlVIj6w8ZbR6HcG HS5+jVCXoiM+JeQkx+cGZytU8LwNqx32nBunu66cZ4ZK0HOVV3FAsGlEu+AFbEDRfDj1XUeavYV NNilutTPemDidGU1Y9bM4Y7TkbrkufhBo/Hqo0qEp3HgxmV6T/B6Hf5XyssDn7ZIusloHtsAhor wmQPR2iPCeowOI6L3vAlfT+MiXfTd6r9nix9QWMFyeE7kaZq9QQwzdTEF9n8biCoNT0cRwpj X-Google-Smtp-Source: AGHT+IGuhTmLWFII5yr++cHabFWy6TrQd9/G/cQstl0oyMvQIiMBNqAai0BRc4dXkexYQbRUn7EJ2vSGfEsL X-Received: by 2002:a17:903:3b8b:b0:234:d679:72e3 with SMTP id d9443c01a7336-23e24f59dbfmr286613985ad.42.1753113900835; Mon, 21 Jul 2025 09:05:00 -0700 (PDT) Received: from postal.iol.unh.edu (postal.iol.unh.edu. [132.177.123.84]) by smtp-relay.gmail.com with ESMTPS id d9443c01a7336-23e3b5f7421sm4342275ad.13.2025.07.21.09.05.00 (version=TLS1_2 cipher=ECDHE-ECDSA-AES128-GCM-SHA256 bits=128/128); Mon, 21 Jul 2025 09:05:00 -0700 (PDT) X-Relaying-Domain: iol.unh.edu Date: Mon, 21 Jul 2025 09:05:00 -0700 (PDT) Message-ID: <687e652c.170a0220.fc2da.758bSMTPIN_ADDED_MISSING@mx.google.com> Received: from [172.21.0.8] (unknown [172.18.0.240]) by postal.iol.unh.edu (Postfix) with ESMTP id AC2B06050A61; Mon, 21 Jul 2025 12:04:59 -0400 (EDT) Subject: |SUCCESS| pw155373 [PATCH] ethdev: keep promiscuous/allmulti value b From: dpdklab@iol.unh.edu To: Test Report Cc: dpdk-test-reports@iol.unh.edu In-Reply-To: <20250721115139.46728-1-sunyang.wu@jaguarmicro.com> References: <20250721115139.46728-1-sunyang.wu@jaguarmicro.com> Content-Type: text/plain X-BeenThere: test-report@dpdk.org X-Mailman-Version: 2.1.29 Precedence: list List-Id: automatic DPDK test reports List-Unsubscribe: , List-Archive: List-Post: List-Help: List-Subscribe: , Errors-To: test-report-bounces@dpdk.org Test-Label: iol-compile-amd64-testing Test-Status: SUCCESS http://dpdk.org/patch/155373 _Testing PASS_ Submitter: Sunyang Wu Date: Monday, July 21 2025 11:51:39 DPDK git baseline: Repo:dpdk Branch: master CommitID:9fe9c0b231c8da5435bfccb1963121b4277f961c 155373 --> testing pass Upstream job id: Generic-DPDK-Compile-Meson#410501 Test environment and result as below: +-------------------------------+--------------------+-------------------+------------------+-------------------------+-------------------+----------------------+ | Environment | dpdk_meson_compile | dpdk_compile_spdk | dpdk_compile_ovs | dpdk_llvm_clang_compile | dpdk_msvc_compile | dpdk_mingw64_compile | +===============================+====================+===================+==================+=========================+===================+======================+ | CentOS Stream 9 | PASS | PASS | SKIPPED | SKIPPED | SKIPPED | SKIPPED | +-------------------------------+--------------------+-------------------+------------------+-------------------------+-------------------+----------------------+ | Debian GNU/Linux 12 | PASS | PASS | SKIPPED | SKIPPED | SKIPPED | SKIPPED | +-------------------------------+--------------------+-------------------+------------------+-------------------------+-------------------+----------------------+ | CentOS Stream 10 | PASS | SKIPPED | SKIPPED | SKIPPED | SKIPPED | SKIPPED | +-------------------------------+--------------------+-------------------+------------------+-------------------------+-------------------+----------------------+ | Fedora Linux 41 | PASS | PASS | PASS | SKIPPED | SKIPPED | SKIPPED | +-------------------------------+--------------------+-------------------+------------------+-------------------------+-------------------+----------------------+ | Fedora Linux 40 | PASS | PASS | SKIPPED | SKIPPED | SKIPPED | SKIPPED | +-------------------------------+--------------------+-------------------+------------------+-------------------------+-------------------+----------------------+ | openSUSE Leap 15.6 | PASS | SKIPPED | SKIPPED | SKIPPED | SKIPPED | SKIPPED | +-------------------------------+--------------------+-------------------+------------------+-------------------------+-------------------+----------------------+ | Ubuntu 20.04 | PASS | SKIPPED | SKIPPED | SKIPPED | SKIPPED | SKIPPED | +-------------------------------+--------------------+-------------------+------------------+-------------------------+-------------------+----------------------+ | Red Hat Enterprise Linux 8.10 | PASS | SKIPPED | SKIPPED | SKIPPED | SKIPPED | SKIPPED | +-------------------------------+--------------------+-------------------+------------------+-------------------------+-------------------+----------------------+ | Red Hat Enterprise Linux 9.5 | PASS | SKIPPED | SKIPPED | SKIPPED | SKIPPED | SKIPPED | +-------------------------------+--------------------+-------------------+------------------+-------------------------+-------------------+----------------------+ | Ubuntu 24.04 | PASS | PASS | PASS | SKIPPED | SKIPPED | SKIPPED | +-------------------------------+--------------------+-------------------+------------------+-------------------------+-------------------+----------------------+ | Ubuntu 22.04 | PASS | PASS | SKIPPED | SKIPPED | SKIPPED | SKIPPED | +-------------------------------+--------------------+-------------------+------------------+-------------------------+-------------------+----------------------+ | Alpine Linux 3.22.0 | PASS | SKIPPED | SKIPPED | SKIPPED | SKIPPED | SKIPPED | +-------------------------------+--------------------+-------------------+------------------+-------------------------+-------------------+----------------------+ | FreeBSD 14.2 | PASS | SKIPPED | SKIPPED | SKIPPED | SKIPPED | SKIPPED | +-------------------------------+--------------------+-------------------+------------------+-------------------------+-------------------+----------------------+ | Windows Server 2022 | SKIPPED | SKIPPED | SKIPPED | PASS | PASS | PASS | +-------------------------------+--------------------+-------------------+------------------+-------------------------+-------------------+----------------------+ CentOS Stream 9 Kernel: 5.15 Compiler: gcc gcc (GCC) 11.5.0 20240719 (Red Hat 11.5.0-7) Debian GNU/Linux 12 Kernel: 5.15 Compiler: gcc gcc (Debian 12.2.0-14+deb12u1) 12.2.0 CentOS Stream 10 Kernel: 5.15 Compiler: gcc gcc (GCC) 14.2.1 20250110 (Red Hat 14.2.1-8) Fedora Linux 41 Kernel: 5.15 Compiler: clang gcc (GCC) 14.3.1 20250523 (Red Hat 14.3.1-1) Fedora Linux 40 Kernel: 5.15 Compiler: clang gcc (GCC) 14.2.1 20240912 (Red Hat 14.2.1-3) openSUSE Leap 15.6 Kernel: 5.15 Compiler: gcc gcc (SUSE Linux) 7.5.0 Ubuntu 20.04 Kernel: 5.15 Compiler: gcc gcc (Ubuntu 9.4.0-1ubuntu1~20.04.2) 9.4.0 Red Hat Enterprise Linux 8.10 Kernel: 5.15 Compiler: gcc gcc (GCC) 8.5.0 20210514 (Red Hat 8.5.0-22) Red Hat Enterprise Linux 9.5 Kernel: 5.15 Compiler: gcc gcc (GCC) 11.5.0 20240719 (Red Hat 11.5.0-2) Ubuntu 24.04 Kernel: 5.15 Compiler: gcc gcc (Ubuntu 13.3.0-6ubuntu2~24.04) 13.3.0 Ubuntu 22.04 Kernel: 5.15 Compiler: gcc gcc (Ubuntu 11.4.0-1ubuntu1~22.04) 11.4.0 Alpine Linux 3.22.0 Kernel: 5.15 Compiler: gcc gcc (Alpine 14.2.0) 14.2.0 FreeBSD 14.2 Kernel: 14.2-RELEASE Compiler: clang 18.1.6 Windows Server 2022 Kernel: 10.0.20348.2031 Compiler: clang 15.0.7, gcc 14.1.0 (MinGW), and MSVC VS 19.39.33521 To view detailed results, visit: https://lab.dpdk.org/results/dashboard/patchsets/33702/ UNH-IOL DPDK Community Lab To manage your email subscriptions, visit: https://lab.dpdk.org/results/dashboard/preferences/subscriptions/