From mboxrd@z Thu Jan 1 00:00:00 1970 Return-Path: Received: from mails.dpdk.org (mails.dpdk.org [217.70.189.124]) by inbox.dpdk.org (Postfix) with ESMTP id 81D3F46BD9 for ; Mon, 21 Jul 2025 18:05:21 +0200 (CEST) Received: from mails.dpdk.org (localhost [127.0.0.1]) by mails.dpdk.org (Postfix) with ESMTP id 7D14140297; Mon, 21 Jul 2025 18:05:21 +0200 (CEST) Received: from mail-io1-f99.google.com (mail-io1-f99.google.com [209.85.166.99]) by mails.dpdk.org (Postfix) with ESMTP id BD2F940297 for ; Mon, 21 Jul 2025 18:05:19 +0200 (CEST) Received: by mail-io1-f99.google.com with SMTP id ca18e2360f4ac-87c017978e6so120778739f.1 for ; Mon, 21 Jul 2025 09:05:19 -0700 (PDT) DKIM-Signature: v=1; a=rsa-sha256; c=relaxed/relaxed; d=iol.unh.edu; s=unh-iol; t=1753113919; x=1753718719; darn=dpdk.org; h=references:in-reply-to:cc:to:from:subject:message-id:date:from:to :cc:subject:date:message-id:reply-to; bh=1aQ0easUmiktjQQ6K/HSDcx16deQ0Bma1AdtplZBRA4=; b=hrMYkJvklWviv0R7l44KpGPR7NA6sbjEw1Cx+pQ+bJx2PofUGkJf7SXjG9kylHePYA 7EPCXh3z8KSAUQC4bGEn231vwE1R3aO30Y1QePQ1BYMgrgg5SLBzz2boIqv+loe6P4bO gArT13qcWitzTCyIC4PhsL1U8fxV4A1zV1rY8= X-Google-DKIM-Signature: v=1; a=rsa-sha256; c=relaxed/relaxed; d=1e100.net; s=20230601; t=1753113919; x=1753718719; h=references:in-reply-to:cc:to:from:subject:message-id:date :x-gm-message-state:from:to:cc:subject:date:message-id:reply-to; bh=1aQ0easUmiktjQQ6K/HSDcx16deQ0Bma1AdtplZBRA4=; b=tqBmfT3LeuprnLkoFt6m560vtD5Ix+FIA/37CCTQdzetJbjqZqcivHE6FDCET7XoXd WdZ25uJT8NfgVOhUUFlRvLpH2sVCZ8Z2KFWWsxFdDe4N+WxSyVTueC87D6YLVc/HPJ5M MEXICXJ3Jv2qeNMJrBn6s5O0akXeNA/qTzErN8Un/C7nHfr1qJIqayM3L0tRyWlQQ0Cr foxpycd5IILgdh9dx+/2tPk32ldFxKvcZhihNWBOgpYC3GWi77jQNEmzXRbf3KcGwuhf NgYw7c4EQI6tVevq3MQ5Wvdw1TZKZLvOzP3CQUvnqREITo4kgTl7HT5qSdADDZ7iySWW gW2w== X-Gm-Message-State: AOJu0Yw1ijRAvAiReNGyBa+9+laKgCoT+zddeKfH1i3kw3znjZji1NJ0 z05CwbsqUcL6FUp3CgnHeaIYKqtCHNdCBzQ7Udn4xeHgdt5lngsnXtR3kTzsNySvQix11Rmd5rI fv4zLPx5FRQhtU1WRo2ARZnjsN4ImdSg6DAA1MwDoJawiKiHpcLwhWLtPM244 X-Gm-Gg: ASbGnct1R7pmyGctX7lxS5xY8bAumwIieR79Ysp903A88z9BtWFGxw9P0DKNbZR0Ddf V+hOAG0XOrte667iPau9VpbAPXcr1V7AxcnVXsroLQlZwEGcMwYSpOJEKU0wIW8NiEIIt/wVoc0 gwcr8MQwjsku730H1rTg+FWnJf/CphNc4rbcc6z+RM+QSfXJVKqrA8vEA7OFZYW2D2tpnnXD4vH a2J5V+6PlaGVBcjJLN31TzhjUhZzatTAmgNJPgn06+KowJeGy8W/oKxckj67IVdeHIOugWJ2WBu XENkJ/Jeygti5WpqdQGk9vFhajlKdBH6oGiI4uT0V7J6N68/0Q== X-Google-Smtp-Source: AGHT+IGeXJ13G2BXfvmY1r1eetbyrs1WSnJrCDgHoQKl89A9fRxZ1gGZdnp4kfBcRWCXpPoC+K/ZlttlcNfE X-Received: by 2002:a05:6e02:194e:b0:3dd:a0fc:1990 with SMTP id e9e14a558f8ab-3e2be6c5d27mr1257605ab.3.1753113918917; Mon, 21 Jul 2025 09:05:18 -0700 (PDT) Received: from postal.iol.unh.edu (postal.iol.unh.edu. [2606:4100:3880:1234::84]) by smtp-relay.gmail.com with ESMTPS id 8926c6da1cb9f-5084c8f503bsm381368173.36.2025.07.21.09.05.18 (version=TLS1_2 cipher=ECDHE-ECDSA-AES128-GCM-SHA256 bits=128/128); Mon, 21 Jul 2025 09:05:18 -0700 (PDT) X-Relaying-Domain: iol.unh.edu Date: Mon, 21 Jul 2025 09:05:18 -0700 (PDT) Message-ID: <687e653e.050a0220.3bfecc.48ebSMTPIN_ADDED_MISSING@mx.google.com> Received: from [172.21.0.6] (unknown [172.18.0.240]) by postal.iol.unh.edu (Postfix) with ESMTP id 281446050A61; Mon, 21 Jul 2025 12:05:18 -0400 (EDT) Subject: |SUCCESS| pw155373 [PATCH] ethdev: keep promiscuous/allmulti value b From: dpdklab@iol.unh.edu To: Test Report Cc: dpdk-test-reports@iol.unh.edu In-Reply-To: <20250721115139.46728-1-sunyang.wu@jaguarmicro.com> References: <20250721115139.46728-1-sunyang.wu@jaguarmicro.com> Content-Type: text/plain X-BeenThere: test-report@dpdk.org X-Mailman-Version: 2.1.29 Precedence: list List-Id: automatic DPDK test reports List-Unsubscribe: , List-Archive: List-Post: List-Help: List-Subscribe: , Errors-To: test-report-bounces@dpdk.org Test-Label: iol-compile-amd64-testing Test-Status: SUCCESS http://dpdk.org/patch/155373 _Testing PASS_ Submitter: Sunyang Wu Date: Monday, July 21 2025 11:51:39 DPDK git baseline: Repo:dpdk Branch: master CommitID:9fe9c0b231c8da5435bfccb1963121b4277f961c 155373 --> testing pass Upstream job id: Generic-DPDK-Compile-Meson#410488 Test environment and result as below: +-------------------------------+--------------------+-------------------+------------------+-------------------------+-------------------+----------------------+ | Environment | dpdk_meson_compile | dpdk_compile_spdk | dpdk_compile_ovs | dpdk_llvm_clang_compile | dpdk_msvc_compile | dpdk_mingw64_compile | +===============================+====================+===================+==================+=========================+===================+======================+ | CentOS Stream 9 | PASS | PASS | SKIPPED | SKIPPED | SKIPPED | SKIPPED | +-------------------------------+--------------------+-------------------+------------------+-------------------------+-------------------+----------------------+ | Debian GNU/Linux 12 | PASS | PASS | SKIPPED | SKIPPED | SKIPPED | SKIPPED | +-------------------------------+--------------------+-------------------+------------------+-------------------------+-------------------+----------------------+ | CentOS Stream 10 | PASS | SKIPPED | SKIPPED | SKIPPED | SKIPPED | SKIPPED | +-------------------------------+--------------------+-------------------+------------------+-------------------------+-------------------+----------------------+ | Fedora Linux 41 | PASS | PASS | PASS | SKIPPED | SKIPPED | SKIPPED | +-------------------------------+--------------------+-------------------+------------------+-------------------------+-------------------+----------------------+ | Fedora Linux 40 | PASS | PASS | SKIPPED | SKIPPED | SKIPPED | SKIPPED | +-------------------------------+--------------------+-------------------+------------------+-------------------------+-------------------+----------------------+ | openSUSE Leap 15.6 | PASS | SKIPPED | SKIPPED | SKIPPED | SKIPPED | SKIPPED | +-------------------------------+--------------------+-------------------+------------------+-------------------------+-------------------+----------------------+ | Ubuntu 20.04 | PASS | SKIPPED | SKIPPED | SKIPPED | SKIPPED | SKIPPED | +-------------------------------+--------------------+-------------------+------------------+-------------------------+-------------------+----------------------+ | Red Hat Enterprise Linux 8.10 | PASS | SKIPPED | SKIPPED | SKIPPED | SKIPPED | SKIPPED | +-------------------------------+--------------------+-------------------+------------------+-------------------------+-------------------+----------------------+ | Red Hat Enterprise Linux 9.5 | PASS | SKIPPED | SKIPPED | SKIPPED | SKIPPED | SKIPPED | +-------------------------------+--------------------+-------------------+------------------+-------------------------+-------------------+----------------------+ | Ubuntu 24.04 | PASS | PASS | PASS | SKIPPED | SKIPPED | SKIPPED | +-------------------------------+--------------------+-------------------+------------------+-------------------------+-------------------+----------------------+ | Ubuntu 22.04 | PASS | PASS | SKIPPED | SKIPPED | SKIPPED | SKIPPED | +-------------------------------+--------------------+-------------------+------------------+-------------------------+-------------------+----------------------+ | Alpine Linux 3.22.0 | PASS | SKIPPED | SKIPPED | SKIPPED | SKIPPED | SKIPPED | +-------------------------------+--------------------+-------------------+------------------+-------------------------+-------------------+----------------------+ | FreeBSD 14.2 | PASS | SKIPPED | SKIPPED | SKIPPED | SKIPPED | SKIPPED | +-------------------------------+--------------------+-------------------+------------------+-------------------------+-------------------+----------------------+ | Windows Server 2022 | SKIPPED | SKIPPED | SKIPPED | PASS | PASS | PASS | +-------------------------------+--------------------+-------------------+------------------+-------------------------+-------------------+----------------------+ CentOS Stream 9 Kernel: 5.15 Compiler: gcc gcc (GCC) 11.5.0 20240719 (Red Hat 11.5.0-7) Debian GNU/Linux 12 Kernel: 5.15 Compiler: gcc gcc (Debian 12.2.0-14+deb12u1) 12.2.0 CentOS Stream 10 Kernel: 5.15 Compiler: gcc gcc (GCC) 14.2.1 20250110 (Red Hat 14.2.1-8) Fedora Linux 41 Kernel: 5.15 Compiler: clang gcc (GCC) 14.3.1 20250523 (Red Hat 14.3.1-1) Fedora Linux 40 Kernel: 5.15 Compiler: clang gcc (GCC) 14.2.1 20240912 (Red Hat 14.2.1-3) openSUSE Leap 15.6 Kernel: 5.15 Compiler: gcc gcc (SUSE Linux) 7.5.0 Ubuntu 20.04 Kernel: 5.15 Compiler: gcc gcc (Ubuntu 9.4.0-1ubuntu1~20.04.2) 9.4.0 Red Hat Enterprise Linux 8.10 Kernel: 5.15 Compiler: gcc gcc (GCC) 8.5.0 20210514 (Red Hat 8.5.0-22) Red Hat Enterprise Linux 9.5 Kernel: 5.15 Compiler: gcc gcc (GCC) 11.5.0 20240719 (Red Hat 11.5.0-2) Ubuntu 24.04 Kernel: 5.15 Compiler: gcc gcc (Ubuntu 13.3.0-6ubuntu2~24.04) 13.3.0 Ubuntu 22.04 Kernel: 5.15 Compiler: gcc gcc (Ubuntu 11.4.0-1ubuntu1~22.04) 11.4.0 Alpine Linux 3.22.0 Kernel: 5.15 Compiler: gcc gcc (Alpine 14.2.0) 14.2.0 FreeBSD 14.2 Kernel: 14.2-RELEASE Compiler: clang 18.1.6 Windows Server 2022 Kernel: 10.0.20348.2031 Compiler: clang 15.0.7, gcc 14.1.0 (MinGW), and MSVC VS 19.39.33521 To view detailed results, visit: https://lab.dpdk.org/results/dashboard/patchsets/33702/ UNH-IOL DPDK Community Lab To manage your email subscriptions, visit: https://lab.dpdk.org/results/dashboard/preferences/subscriptions/