From mboxrd@z Thu Jan 1 00:00:00 1970 Return-Path: Received: from mails.dpdk.org (mails.dpdk.org [217.70.189.124]) by inbox.dpdk.org (Postfix) with ESMTP id E18AF46BD9 for ; Mon, 21 Jul 2025 18:06:38 +0200 (CEST) Received: from mails.dpdk.org (localhost [127.0.0.1]) by mails.dpdk.org (Postfix) with ESMTP id DD0E840297; Mon, 21 Jul 2025 18:06:38 +0200 (CEST) Received: from mail-yb1-f228.google.com (mail-yb1-f228.google.com [209.85.219.228]) by mails.dpdk.org (Postfix) with ESMTP id EA3AF40297 for ; Mon, 21 Jul 2025 18:06:37 +0200 (CEST) Received: by mail-yb1-f228.google.com with SMTP id 3f1490d57ef6-e8d96ff2dfaso1442395276.2 for ; Mon, 21 Jul 2025 09:06:37 -0700 (PDT) DKIM-Signature: v=1; a=rsa-sha256; c=relaxed/relaxed; d=iol.unh.edu; s=unh-iol; t=1753113997; x=1753718797; darn=dpdk.org; h=references:in-reply-to:cc:to:from:subject:message-id:date:from:to :cc:subject:date:message-id:reply-to; bh=mjMNdv+2rySuLXJW9j5WGFCPeujnzXzPPjW1tyOCupg=; b=VDcGHA0Tbdfws8Vu1zd24L4ZDdSCzXajiojjUuWhsz8ssgLbPbl5ULNqusMoG8iAGF 8lLDUcYHe94+UPI25HJmfIDrv5uC30fRlorfDGQjhkSRuhl7JU73QVyJf4JRRj+wDSFf wJXBY3g4soHLSoaWFcf9CAUrGQ0QFTQrukKDE= X-Google-DKIM-Signature: v=1; a=rsa-sha256; c=relaxed/relaxed; d=1e100.net; s=20230601; t=1753113997; x=1753718797; h=references:in-reply-to:cc:to:from:subject:message-id:date :x-gm-message-state:from:to:cc:subject:date:message-id:reply-to; bh=mjMNdv+2rySuLXJW9j5WGFCPeujnzXzPPjW1tyOCupg=; b=TwF+6Hc91+hqP3KzbqoPU2MbEvldrMf+vrE5Q2kcLvdio3dbLwRbtc/5vGIfhmhTVA AIXPJMToFxYMvJ3chtXWas6m/3bqXEIGB6nv61Hh0Y3vQz8BX/90XUCw+FRcQNzi3Maj RxmiylQt2ZedUldEZPNnXUSp2QufI0kLsWCBh27SB+ts5LAlfBJ3PbWPVgJGpKQlK3hU pDBRePWT4XlnhqRvZJr/aNEZHH23JB9v0VbdOz+3v3K+OSqrmpQa8wPHDU+X3xCViCK6 aPCrpAuZ83ouC3eDqdAf4vwjTXo1L4e8zIrXytsWFL8ojzUCYpkg5UDXwy/2l7Chyw4Y kKdQ== X-Gm-Message-State: AOJu0YyyJt6Wax1xvKLD9kvajbOv5WwVxzHih3+UMlxxp3z20u6Iuu97 z+iqCizZXIb8mI/0pYnNdMJyy2xmX13ONBYow/CJ2xxS0pZXulobkFW3nlKzhoP9JCziCq9pdNG ZcJMi9LcWYtd3wjWJItF07MiY0i7xxT8DospPP0QkvvjGqJPI8E3rresuq8vW X-Gm-Gg: ASbGncv1kx/I/K9qPzVZLT2kp1TXDuD1yneoYM52E/BT7tMBSFXNhYxrmZUUiU7oi8O jOEXVHwi4lAmC6z0+zggPmD7ulqks0FjOFhv/G3dhlRZVIM58aAe/Qaaxd8kC5rci6yM/H6Hh4R Bb0HFqiRNUkU6dzLszUS9Y98vo0H3t16O7iUQBsTqsSFXrRnDQMqIlNon0hY9q6HqN38WZfWI1b 5bSCqJR3W5Dxw6JeLdyZRTdq90v5Gqa6ydtgvzhn0XjwJYi9fELICaym+Ig7V25ilws6I3uLGb3 MeDU0in1XRBSsstr1ycgHDuVCMc++74Wj3DdepiunpzSpjzVGQ== X-Google-Smtp-Source: AGHT+IFrJSoFITvsuaRwxok9lavkeMcIXBje67/El3BpuV7HF+fgTFC2xO3sMjLoa8/VoDtFNpShptbHRTtL X-Received: by 2002:a05:6902:1aca:b0:e8b:c761:eb2e with SMTP id 3f1490d57ef6-e8bc761ef42mr21789728276.34.1753113996786; Mon, 21 Jul 2025 09:06:36 -0700 (PDT) Received: from postal.iol.unh.edu (postal.iol.unh.edu. [2606:4100:3880:1234::84]) by smtp-relay.gmail.com with ESMTPS id 3f1490d57ef6-e8d7cc0ee71sm436356276.1.2025.07.21.09.06.36 (version=TLS1_2 cipher=ECDHE-ECDSA-AES128-GCM-SHA256 bits=128/128); Mon, 21 Jul 2025 09:06:36 -0700 (PDT) X-Relaying-Domain: iol.unh.edu Date: Mon, 21 Jul 2025 09:06:36 -0700 (PDT) Message-ID: <687e658c.050a0220.354f65.5733SMTPIN_ADDED_MISSING@mx.google.com> Received: from [172.21.0.7] (unknown [172.18.0.240]) by postal.iol.unh.edu (Postfix) with ESMTP id 36792604D420; Mon, 21 Jul 2025 12:06:36 -0400 (EDT) Subject: |SUCCESS| pw155373 [PATCH] ethdev: keep promiscuous/allmulti value b From: dpdklab@iol.unh.edu To: Test Report Cc: dpdk-test-reports@iol.unh.edu In-Reply-To: <20250721115139.46728-1-sunyang.wu@jaguarmicro.com> References: <20250721115139.46728-1-sunyang.wu@jaguarmicro.com> Content-Type: text/plain X-BeenThere: test-report@dpdk.org X-Mailman-Version: 2.1.29 Precedence: list List-Id: automatic DPDK test reports List-Unsubscribe: , List-Archive: List-Post: List-Help: List-Subscribe: , Errors-To: test-report-bounces@dpdk.org Test-Label: iol-compile-amd64-testing Test-Status: SUCCESS http://dpdk.org/patch/155373 _Testing PASS_ Submitter: Sunyang Wu Date: Monday, July 21 2025 11:51:39 DPDK git baseline: Repo:dpdk Branch: master CommitID:9fe9c0b231c8da5435bfccb1963121b4277f961c 155373 --> testing pass Upstream job id: Generic-DPDK-Compile-Meson#410502 Test environment and result as below: +-------------------------------+--------------------+-------------------+------------------+-------------------------+-------------------+----------------------+ | Environment | dpdk_meson_compile | dpdk_compile_spdk | dpdk_compile_ovs | dpdk_llvm_clang_compile | dpdk_msvc_compile | dpdk_mingw64_compile | +===============================+====================+===================+==================+=========================+===================+======================+ | CentOS Stream 9 | PASS | PASS | SKIPPED | SKIPPED | SKIPPED | SKIPPED | +-------------------------------+--------------------+-------------------+------------------+-------------------------+-------------------+----------------------+ | Debian GNU/Linux 12 | PASS | PASS | SKIPPED | SKIPPED | SKIPPED | SKIPPED | +-------------------------------+--------------------+-------------------+------------------+-------------------------+-------------------+----------------------+ | CentOS Stream 10 | PASS | SKIPPED | SKIPPED | SKIPPED | SKIPPED | SKIPPED | +-------------------------------+--------------------+-------------------+------------------+-------------------------+-------------------+----------------------+ | Fedora Linux 41 | PASS | PASS | PASS | SKIPPED | SKIPPED | SKIPPED | +-------------------------------+--------------------+-------------------+------------------+-------------------------+-------------------+----------------------+ | Fedora Linux 40 | PASS | PASS | SKIPPED | SKIPPED | SKIPPED | SKIPPED | +-------------------------------+--------------------+-------------------+------------------+-------------------------+-------------------+----------------------+ | openSUSE Leap 15.6 | PASS | SKIPPED | SKIPPED | SKIPPED | SKIPPED | SKIPPED | +-------------------------------+--------------------+-------------------+------------------+-------------------------+-------------------+----------------------+ | Ubuntu 20.04 | PASS | SKIPPED | SKIPPED | SKIPPED | SKIPPED | SKIPPED | +-------------------------------+--------------------+-------------------+------------------+-------------------------+-------------------+----------------------+ | Red Hat Enterprise Linux 8.10 | PASS | SKIPPED | SKIPPED | SKIPPED | SKIPPED | SKIPPED | +-------------------------------+--------------------+-------------------+------------------+-------------------------+-------------------+----------------------+ | Red Hat Enterprise Linux 9.5 | PASS | SKIPPED | SKIPPED | SKIPPED | SKIPPED | SKIPPED | +-------------------------------+--------------------+-------------------+------------------+-------------------------+-------------------+----------------------+ | Ubuntu 24.04 | PASS | PASS | PASS | SKIPPED | SKIPPED | SKIPPED | +-------------------------------+--------------------+-------------------+------------------+-------------------------+-------------------+----------------------+ | Ubuntu 22.04 | PASS | PASS | SKIPPED | SKIPPED | SKIPPED | SKIPPED | +-------------------------------+--------------------+-------------------+------------------+-------------------------+-------------------+----------------------+ | Alpine Linux 3.22.0 | PASS | SKIPPED | SKIPPED | SKIPPED | SKIPPED | SKIPPED | +-------------------------------+--------------------+-------------------+------------------+-------------------------+-------------------+----------------------+ | FreeBSD 14.2 | PASS | SKIPPED | SKIPPED | SKIPPED | SKIPPED | SKIPPED | +-------------------------------+--------------------+-------------------+------------------+-------------------------+-------------------+----------------------+ | Windows Server 2022 | SKIPPED | SKIPPED | SKIPPED | PASS | PASS | PASS | +-------------------------------+--------------------+-------------------+------------------+-------------------------+-------------------+----------------------+ CentOS Stream 9 Kernel: 5.15 Compiler: gcc gcc (GCC) 11.5.0 20240719 (Red Hat 11.5.0-7) Debian GNU/Linux 12 Kernel: 5.15 Compiler: gcc gcc (Debian 12.2.0-14+deb12u1) 12.2.0 CentOS Stream 10 Kernel: 5.15 Compiler: gcc gcc (GCC) 14.2.1 20250110 (Red Hat 14.2.1-8) Fedora Linux 41 Kernel: 5.15 Compiler: clang gcc (GCC) 14.3.1 20250523 (Red Hat 14.3.1-1) Fedora Linux 40 Kernel: 5.15 Compiler: clang gcc (GCC) 14.2.1 20240912 (Red Hat 14.2.1-3) openSUSE Leap 15.6 Kernel: 5.15 Compiler: gcc gcc (SUSE Linux) 7.5.0 Ubuntu 20.04 Kernel: 5.15 Compiler: gcc gcc (Ubuntu 9.4.0-1ubuntu1~20.04.2) 9.4.0 Red Hat Enterprise Linux 8.10 Kernel: 5.15 Compiler: gcc gcc (GCC) 8.5.0 20210514 (Red Hat 8.5.0-22) Red Hat Enterprise Linux 9.5 Kernel: 5.15 Compiler: gcc gcc (GCC) 11.5.0 20240719 (Red Hat 11.5.0-2) Ubuntu 24.04 Kernel: 5.15 Compiler: gcc gcc (Ubuntu 13.3.0-6ubuntu2~24.04) 13.3.0 Ubuntu 22.04 Kernel: 5.15 Compiler: gcc gcc (Ubuntu 11.4.0-1ubuntu1~22.04) 11.4.0 Alpine Linux 3.22.0 Kernel: 5.15 Compiler: gcc gcc (Alpine 14.2.0) 14.2.0 FreeBSD 14.2 Kernel: 14.2-RELEASE Compiler: clang 18.1.6 Windows Server 2022 Kernel: 10.0.20348.2031 Compiler: clang 15.0.7, gcc 14.1.0 (MinGW), and MSVC VS 19.39.33521 To view detailed results, visit: https://lab.dpdk.org/results/dashboard/patchsets/33702/ UNH-IOL DPDK Community Lab To manage your email subscriptions, visit: https://lab.dpdk.org/results/dashboard/preferences/subscriptions/