From mboxrd@z Thu Jan 1 00:00:00 1970 Return-Path: Received: from mails.dpdk.org (mails.dpdk.org [217.70.189.124]) by inbox.dpdk.org (Postfix) with ESMTP id 5166046BD9 for ; Mon, 21 Jul 2025 18:08:16 +0200 (CEST) Received: from mails.dpdk.org (localhost [127.0.0.1]) by mails.dpdk.org (Postfix) with ESMTP id 39C43402DC; Mon, 21 Jul 2025 18:08:16 +0200 (CEST) Received: from mail-oa1-f97.google.com (mail-oa1-f97.google.com [209.85.160.97]) by mails.dpdk.org (Postfix) with ESMTP id A3009402DC for ; Mon, 21 Jul 2025 18:08:15 +0200 (CEST) Received: by mail-oa1-f97.google.com with SMTP id 586e51a60fabf-2ffbbe6ec3eso2190821fac.1 for ; Mon, 21 Jul 2025 09:08:15 -0700 (PDT) DKIM-Signature: v=1; a=rsa-sha256; c=relaxed/relaxed; d=iol.unh.edu; s=unh-iol; t=1753114095; x=1753718895; darn=dpdk.org; h=references:in-reply-to:cc:to:from:subject:message-id:date:from:to :cc:subject:date:message-id:reply-to; bh=IVGXVDQ6iR4mzsnUadsPb6ssbU92JUL6LGaqhODvVa0=; b=KhPmoODZig805GertLy3COiCW2j+ECw/KmGuObRzwGOkmWQGnPWHtGCaqy12e6gkxu Zj2JLYYiogRVrnS0JzemGyorANHi65yUrobuQKQCjIUhGGqIax9ZYG6KdwEnvQ4hUnf/ zS2m/UjUhI0ML/dnYBistBjYD0NVbQFwGwOPU= X-Google-DKIM-Signature: v=1; a=rsa-sha256; c=relaxed/relaxed; d=1e100.net; s=20230601; t=1753114095; x=1753718895; h=references:in-reply-to:cc:to:from:subject:message-id:date :x-gm-message-state:from:to:cc:subject:date:message-id:reply-to; bh=IVGXVDQ6iR4mzsnUadsPb6ssbU92JUL6LGaqhODvVa0=; b=O+NZxHvgtWgSHOs7FF/UPFEAs6Ksp3CW2ndQrDLmuET+GHOxTDcZ5XYiykOQGEDJjz 8P5SCR1oqDBcMH+AlB2L0viQwy6yl7pwMwtcyFYEdjSux2+xPYCBuqIoJkoMSXJZluVz Vdo5tSipG7OVJLlBnyAf7qhIqfRfkB62MJXPS+EUaCaHPMIgP5uEBqAx9u3Qcz+euaN2 DrpVGRrI8ep2aAMclvZQoPlH/c/v8f4klWEwP/bIbFZSK1H/yp11AY85Hd4o16fWtEt8 0N1bxCyTQVHZR4H8ovMye2ylq4qnyRA4OsMb9NQoBQ7wZWCLsZfnCFrVeFAeWUj5BgAv bTpg== X-Gm-Message-State: AOJu0YzlDq/M2h6gmKAFL3FPBsmH6Cx+8Qmp09Mk4GQSxYT/BOThMpK5 a3oft03zqycY5PBJfZDuQYuQ/g6rJzb+xaTBzkAQp3BXK//EaN0BR2bLReaZFOcog464LOvPDmb PDfbw1vcO9JzKH7hc59fLs6o7EZxsIJ+Y7obVhKsbjXmR X-Gm-Gg: ASbGncsZHFr967pusxvxYTAMYisMN0ninesRe4kaPLe7+t8cdCzPXGTAClEHVN/xviK FZDy1Sd6ryLU2dEQFCHS3RPLCPUON+ZXSVgR2wXaL+pDR8477sPDtuoB/CGtufB5R896IOX+yKB 92oZduARxZGnowOsxQnUR9QR+mLC7j3j6jGlTZGrxbiqnvB731CBHZnXtiuo7seZ+okpFxToaJu 4hjzSoBYXck1tzZyv74qw4Ia6n/imXQmQIyz8h0BTwaAhn1DY4aeye5lMmTvfmP6sq5YYpUe6N3 j3LfPHzjIDJTsav5E8GdUSkKFr/UIWfWnRGfFCPJ4US+aeyAkgta8jSbweOW/Cr0iHTklCXo X-Google-Smtp-Source: AGHT+IHbz03aoRgkO8zNOEHajm6A9EgO+eWegjqbINBbzUy7U26as1Y6/ShAeRnIgu0q+fnz2jnqjjTGVRUF X-Received: by 2002:a05:6871:69c6:b0:29d:c764:f873 with SMTP id 586e51a60fabf-2ffb24ae8ccmr16877732fac.31.1753114094798; Mon, 21 Jul 2025 09:08:14 -0700 (PDT) Received: from postal.iol.unh.edu (postal.iol.unh.edu. [132.177.123.84]) by smtp-relay.gmail.com with ESMTPS id 586e51a60fabf-301b1b26fd3sm520433fac.13.2025.07.21.09.08.14 (version=TLS1_2 cipher=ECDHE-ECDSA-AES128-GCM-SHA256 bits=128/128); Mon, 21 Jul 2025 09:08:14 -0700 (PDT) X-Relaying-Domain: iol.unh.edu Date: Mon, 21 Jul 2025 09:08:14 -0700 (PDT) Message-ID: <687e65ee.050a0220.24d3b6.c414SMTPIN_ADDED_MISSING@mx.google.com> Received: from [172.21.0.3] (unknown [172.18.0.240]) by postal.iol.unh.edu (Postfix) with ESMTP id 4C311604D420; Mon, 21 Jul 2025 12:08:14 -0400 (EDT) Subject: |SUCCESS| pw155374 [PATCH] [v2] ethdev: Align enable logic handling From: dpdklab@iol.unh.edu To: Test Report Cc: dpdk-test-reports@iol.unh.edu In-Reply-To: <20250721130545.38200-1-sunyang.wu@jaguarmicro.com> References: <20250721130545.38200-1-sunyang.wu@jaguarmicro.com> Content-Type: text/plain X-BeenThere: test-report@dpdk.org X-Mailman-Version: 2.1.29 Precedence: list List-Id: automatic DPDK test reports List-Unsubscribe: , List-Archive: List-Post: List-Help: List-Subscribe: , Errors-To: test-report-bounces@dpdk.org Test-Label: iol-abi-testing Test-Status: SUCCESS http://dpdk.org/patch/155374 _Testing PASS_ Submitter: Sunyang Wu Date: Monday, July 21 2025 13:05:45 DPDK git baseline: Repo:dpdk Branch: master CommitID:9fe9c0b231c8da5435bfccb1963121b4277f961c 155374 --> testing pass Upstream job id: Generic-DPDK-Compile-ABI#135098 Test environment and result as below: +-------------------------------+----------+ | Environment | abi_test | +===============================+==========+ | CentOS Stream 9 | PASS | +-------------------------------+----------+ | Debian GNU/Linux 12 | PASS | +-------------------------------+----------+ | CentOS Stream 10 | PASS | +-------------------------------+----------+ | Fedora Linux 41 | PASS | +-------------------------------+----------+ | Fedora Linux 40 | PASS | +-------------------------------+----------+ | openSUSE Leap 15.6 | PASS | +-------------------------------+----------+ | Red Hat Enterprise Linux 8.10 | PASS | +-------------------------------+----------+ | Ubuntu 24.04 | PASS | +-------------------------------+----------+ | Red Hat Enterprise Linux 9.5 | PASS | +-------------------------------+----------+ | Ubuntu 22.04 | PASS | +-------------------------------+----------+ CentOS Stream 9 Kernel: 5.15 Compiler: gcc gcc (GCC) 11.5.0 20240719 (Red Hat 11.5.0-7) Debian GNU/Linux 12 Kernel: 5.15 Compiler: gcc gcc (Debian 12.2.0-14+deb12u1) 12.2.0 CentOS Stream 10 Kernel: 5.15 Compiler: gcc gcc (GCC) 14.2.1 20250110 (Red Hat 14.2.1-8) Fedora Linux 41 Kernel: 5.15 Compiler: clang gcc (GCC) 14.3.1 20250523 (Red Hat 14.3.1-1) Fedora Linux 40 Kernel: 5.15 Compiler: clang gcc (GCC) 14.2.1 20240912 (Red Hat 14.2.1-3) openSUSE Leap 15.6 Kernel: 5.15 Compiler: gcc gcc (SUSE Linux) 7.5.0 Red Hat Enterprise Linux 8.10 Kernel: 5.15 Compiler: gcc gcc (GCC) 8.5.0 20210514 (Red Hat 8.5.0-22) Ubuntu 24.04 Kernel: 5.15 Compiler: gcc gcc (Ubuntu 13.3.0-6ubuntu2~24.04) 13.3.0 Red Hat Enterprise Linux 9.5 Kernel: 5.15 Compiler: gcc gcc (GCC) 11.5.0 20240719 (Red Hat 11.5.0-2) Ubuntu 22.04 Kernel: 5.15 Compiler: gcc gcc (Ubuntu 11.4.0-1ubuntu1~22.04) 11.4.0 To view detailed results, visit: https://lab.dpdk.org/results/dashboard/patchsets/33703/ UNH-IOL DPDK Community Lab To manage your email subscriptions, visit: https://lab.dpdk.org/results/dashboard/preferences/subscriptions/