From mboxrd@z Thu Jan 1 00:00:00 1970 Return-Path: Received: from mails.dpdk.org (mails.dpdk.org [217.70.189.124]) by inbox.dpdk.org (Postfix) with ESMTP id 5DD4746BD9 for ; Mon, 21 Jul 2025 18:08:23 +0200 (CEST) Received: from mails.dpdk.org (localhost [127.0.0.1]) by mails.dpdk.org (Postfix) with ESMTP id 593C240297; Mon, 21 Jul 2025 18:08:23 +0200 (CEST) Received: from mail-qk1-f228.google.com (mail-qk1-f228.google.com [209.85.222.228]) by mails.dpdk.org (Postfix) with ESMTP id 22D6940297 for ; Mon, 21 Jul 2025 18:08:22 +0200 (CEST) Received: by mail-qk1-f228.google.com with SMTP id af79cd13be357-7e050bd078cso421976785a.3 for ; Mon, 21 Jul 2025 09:08:22 -0700 (PDT) DKIM-Signature: v=1; a=rsa-sha256; c=relaxed/relaxed; d=iol.unh.edu; s=unh-iol; t=1753114101; x=1753718901; darn=dpdk.org; h=references:in-reply-to:cc:to:from:subject:message-id:date:from:to :cc:subject:date:message-id:reply-to; bh=KUrNYQHjTlEWonteAo7f7yYkb+Zwsoi23UYwHRYYwL4=; b=bfdJXRQJ4XzLwfCGq+gnSrWu6kLiuwrADyxYFqTYGKrd20AS7RoSG0VZfGZ9gUL2z6 3T4u0ZQh6GhErhu8zSsAcjgEVX4KkSyrUba7Wi98/zMgcohOpc5g1uJn6m0K8/xxXqeG Tqv2KhjtnjcikfgIZ1rsCsLn+mR4Ivm8ukov0= X-Google-DKIM-Signature: v=1; a=rsa-sha256; c=relaxed/relaxed; d=1e100.net; s=20230601; t=1753114101; x=1753718901; h=references:in-reply-to:cc:to:from:subject:message-id:date :x-gm-message-state:from:to:cc:subject:date:message-id:reply-to; bh=KUrNYQHjTlEWonteAo7f7yYkb+Zwsoi23UYwHRYYwL4=; b=DT99/VocVT1HYw1gV4UxdluiAwADCxj4CrWBS5/LSM8rvoM72RfmXwvykuEQHNhuDa 94H1ma5qRAuSnwFt7cn+gQx9vBzEdFfRMsnnNZeYoy0/oTMFP2SnlzSDg9G+OS8dRN44 yROo+rvBoQkAg6tiA2mubgr2qCU2Z1M3ZC7S5RBx9DognaDz5PIfv/fK87uYbOVQpNUC UmmsRzZL/ItxZCQDn5oHknC+s0XfgHiHv7OOTmGdMJk+O9wqiKgAAnE9TiXgEYDnus3+ dY64aG1IHmeAM9LFqT7/Gz2cpn8u8O5oiBINTILrl1YRxS+1PEiSduRss4bNHpT4z+xV 6DlA== X-Gm-Message-State: AOJu0YzE5EykvFEBw6BbY8U+Jc4q9stgtp+r6W1h41Q4eFWtHSrTwf5C AGi1iGiMceDBnWrpy5vF7OZA3U+/n6m/OIeJbMI4EhDff1FlxmPxIHS7rBtmnHmLBMhIunmVDEA 0siy5oT/vMhyIE4wZ2l/tdcEG8bm9vBV1iYcubLaaRvF2rL4esGkI0USzQPn8 X-Gm-Gg: ASbGncvNmRL4A4hhNNfAlbayrc2aRsh63QoKIaiVsb42MfuFLyQrVrvtyoV1Rxk7rLR BLCB5z/K6+7vhavgdBfWTfgPRPSZp1VBoyGdOmQAToB895K2UaGYrvSJunaiGYwb9KXS83Rtv5S n4vDcAseYSim8QIs30FeqM4gwyuWWu6eZd1p8NeHn9pEoAXz/0bUDdfAcV1R/nzSfmSHN+/qIO4 pVYe6n8vnd1SamvDLW4ImJrEKRClrRNXusDsCMqnnCI/hVAxD6BUOadcLOBYWzHWQQGLLzafk6Z QsCjbQj/j8nQMRSqamlP2Mjoatn48pTp7xk2FBInReACfM76cg== X-Google-Smtp-Source: AGHT+IG0ljcfBFLShNXBB07L04oB2+Fhs2R7ytDN3XxKlPr2Kh7nXsshseXJ6aDuwgcg2FknyrFOmxiI4PXo X-Received: by 2002:a05:620a:400f:b0:7e3:4014:f32f with SMTP id af79cd13be357-7e3435ec455mr2550708985a.35.1753114101249; Mon, 21 Jul 2025 09:08:21 -0700 (PDT) Received: from postal.iol.unh.edu (postal.iol.unh.edu. [2606:4100:3880:1234::84]) by smtp-relay.gmail.com with ESMTPS id af79cd13be357-7e356b0c322sm12195085a.2.2025.07.21.09.08.21 (version=TLS1_2 cipher=ECDHE-ECDSA-AES128-GCM-SHA256 bits=128/128); Mon, 21 Jul 2025 09:08:21 -0700 (PDT) X-Relaying-Domain: iol.unh.edu Date: Mon, 21 Jul 2025 09:08:21 -0700 (PDT) Message-ID: <687e65f5.050a0220.382433.5c7eSMTPIN_ADDED_MISSING@mx.google.com> Received: from [172.21.0.4] (unknown [172.18.0.240]) by postal.iol.unh.edu (Postfix) with ESMTP id EA9CA604D420; Mon, 21 Jul 2025 12:08:20 -0400 (EDT) Subject: |SUCCESS| pw155374 [PATCH] [v2] ethdev: Align enable logic handling From: dpdklab@iol.unh.edu To: Test Report Cc: dpdk-test-reports@iol.unh.edu In-Reply-To: <20250721130545.38200-1-sunyang.wu@jaguarmicro.com> References: <20250721130545.38200-1-sunyang.wu@jaguarmicro.com> Content-Type: text/plain X-BeenThere: test-report@dpdk.org X-Mailman-Version: 2.1.29 Precedence: list List-Id: automatic DPDK test reports List-Unsubscribe: , List-Archive: List-Post: List-Help: List-Subscribe: , Errors-To: test-report-bounces@dpdk.org Test-Label: iol-abi-testing Test-Status: SUCCESS http://dpdk.org/patch/155374 _Testing PASS_ Submitter: Sunyang Wu Date: Monday, July 21 2025 13:05:45 DPDK git baseline: Repo:dpdk Branch: master CommitID:9fe9c0b231c8da5435bfccb1963121b4277f961c 155374 --> testing pass Upstream job id: Generic-DPDK-Compile-ABI#135091 Test environment and result as below: +-------------------------------+----------+ | Environment | abi_test | +===============================+==========+ | CentOS Stream 9 | PASS | +-------------------------------+----------+ | Debian GNU/Linux 12 | PASS | +-------------------------------+----------+ | CentOS Stream 10 | PASS | +-------------------------------+----------+ | Fedora Linux 41 | PASS | +-------------------------------+----------+ | Fedora Linux 40 | PASS | +-------------------------------+----------+ | openSUSE Leap 15.6 | PASS | +-------------------------------+----------+ | Red Hat Enterprise Linux 8.10 | PASS | +-------------------------------+----------+ | Ubuntu 24.04 | PASS | +-------------------------------+----------+ | Red Hat Enterprise Linux 9.5 | PASS | +-------------------------------+----------+ | Ubuntu 22.04 | PASS | +-------------------------------+----------+ CentOS Stream 9 Kernel: 5.15 Compiler: gcc gcc (GCC) 11.5.0 20240719 (Red Hat 11.5.0-7) Debian GNU/Linux 12 Kernel: 5.15 Compiler: gcc gcc (Debian 12.2.0-14+deb12u1) 12.2.0 CentOS Stream 10 Kernel: 5.15 Compiler: gcc gcc (GCC) 14.2.1 20250110 (Red Hat 14.2.1-8) Fedora Linux 41 Kernel: 5.15 Compiler: clang gcc (GCC) 14.3.1 20250523 (Red Hat 14.3.1-1) Fedora Linux 40 Kernel: 5.15 Compiler: clang gcc (GCC) 14.2.1 20240912 (Red Hat 14.2.1-3) openSUSE Leap 15.6 Kernel: 5.15 Compiler: gcc gcc (SUSE Linux) 7.5.0 Red Hat Enterprise Linux 8.10 Kernel: 5.15 Compiler: gcc gcc (GCC) 8.5.0 20210514 (Red Hat 8.5.0-22) Ubuntu 24.04 Kernel: 5.15 Compiler: gcc gcc (Ubuntu 13.3.0-6ubuntu2~24.04) 13.3.0 Red Hat Enterprise Linux 9.5 Kernel: 5.15 Compiler: gcc gcc (GCC) 11.5.0 20240719 (Red Hat 11.5.0-2) Ubuntu 22.04 Kernel: 5.15 Compiler: gcc gcc (Ubuntu 11.4.0-1ubuntu1~22.04) 11.4.0 To view detailed results, visit: https://lab.dpdk.org/results/dashboard/patchsets/33703/ UNH-IOL DPDK Community Lab To manage your email subscriptions, visit: https://lab.dpdk.org/results/dashboard/preferences/subscriptions/