From mboxrd@z Thu Jan 1 00:00:00 1970 Return-Path: Received: from mails.dpdk.org (mails.dpdk.org [217.70.189.124]) by inbox.dpdk.org (Postfix) with ESMTP id 68E6D46BD9 for ; Mon, 21 Jul 2025 18:08:34 +0200 (CEST) Received: from mails.dpdk.org (localhost [127.0.0.1]) by mails.dpdk.org (Postfix) with ESMTP id 645F440297; Mon, 21 Jul 2025 18:08:34 +0200 (CEST) Received: from mail-qk1-f226.google.com (mail-qk1-f226.google.com [209.85.222.226]) by mails.dpdk.org (Postfix) with ESMTP id 8243140297 for ; Mon, 21 Jul 2025 18:08:33 +0200 (CEST) Received: by mail-qk1-f226.google.com with SMTP id af79cd13be357-7e278d8345aso443893685a.0 for ; Mon, 21 Jul 2025 09:08:33 -0700 (PDT) DKIM-Signature: v=1; a=rsa-sha256; c=relaxed/relaxed; d=iol.unh.edu; s=unh-iol; t=1753114113; x=1753718913; darn=dpdk.org; h=references:in-reply-to:cc:to:from:subject:message-id:date:from:to :cc:subject:date:message-id:reply-to; bh=rR/5I5WpIfTLfAeL5FWHdm0IWAbpBj4bIb8t5QKb3BQ=; b=d33En6jrOtWBj+yCINRfm1+Bbuvx4duPJCgqDtmEWSZrrk0GJCBJl19+yShS9/+tRP dSGQv0Jk++Nk0gDmRJXubNxEz7s6LfwmyytgelHlmhVNDYCxWKn0+oIXuZAmWZFKEa+y i3mpE1Bk+KJKwE+gqvAW3Ol1F1R9POuPAZ7h4= X-Google-DKIM-Signature: v=1; a=rsa-sha256; c=relaxed/relaxed; d=1e100.net; s=20230601; t=1753114113; x=1753718913; h=references:in-reply-to:cc:to:from:subject:message-id:date :x-gm-message-state:from:to:cc:subject:date:message-id:reply-to; bh=rR/5I5WpIfTLfAeL5FWHdm0IWAbpBj4bIb8t5QKb3BQ=; b=ITO69gcE97MVvqcKG5cp3UGVOrjraZHDPHjuQwoyCXq2c/VbhAgEGFO1de5/w3KqM4 pt9LP7lYxuL8TWuPRHDlx3uzydmowmvwG4rNI6vtzfbp9c8JV15HjZVW2cqfM9PU/ywW 811DoNuUjKLILzq0IejfpAbsuY/IOCNQxKY52rBAc3V3Dn3HWUkx+LxEUaoUYEkuSa4I zf8plSN5GcrfCYFtJDd76u3rniF27L8XY4l8awdQVq6wtuwEKb+aJgtQtfMvnOJ+zKrb Nn8vigGWApKz5JHqUmR7YqxZOcX7c5WlOd0zeQsbw5/DDeeZe7j4Vpq8m/uSNWqrCK3y B+aQ== X-Gm-Message-State: AOJu0Ywwo5mWPYjFw0DVnfCbgeVDFjBPHJpGzr5yelyK2JHaH/oUx4fu FvLY2DoaPduMl2lL6XCYwqy4jETv1jAr0gjPMxzN2PwOCRIoL3HrVWaK2yJu09VZ2ynBJDQJUAK iaEA53jnLDq+QBPwtPDGQSQqKiTgeFLbJWPVuU4FYorCL X-Gm-Gg: ASbGnctlvW/Xiq1ldMnfekMFasHNDUdV/XrS7F8t/VBv4sbhuxKYXTZivZOhbiq5lp6 JgGESLXL5PeixgMFMk+iGNS3ORsYGRYRBPxhbSct9wLyzlabijxciWXYnr7cUh663jlemrfLi/B uMdHVUkctIJlniMsHAKj7BI9rFDZdGHLHOcb5fNM/Skm/ASVxjjV7vdR5IoRY4j1+iYaB7G6enE 4WvjrG1JNunLOib1e5cfYfq+zGnxx5h6ICalE/5h84WaYO4yHF6lyb0XyygiLpYb4wBWAkXdyZv a7fC/4E3CxH+SJjTuaLzeI95D1GMLWEZSVZOWXIrZsQb3ftleYfj63XVU3ChvGc6DEeiphyA X-Google-Smtp-Source: AGHT+IF4/ebKn9n1fP83xQhWBB/EBScARPw6TfqFJDODQEbBzPIP1NjtMaI7hAYvp6Li5WvHe5CHBIosmeIW X-Received: by 2002:a05:6214:dad:b0:704:9533:e18d with SMTP id 6a1803df08f44-704f6a2ad0dmr356196056d6.13.1753114112782; Mon, 21 Jul 2025 09:08:32 -0700 (PDT) Received: from postal.iol.unh.edu (postal.iol.unh.edu. [132.177.123.84]) by smtp-relay.gmail.com with ESMTPS id 6a1803df08f44-7051bcced70sm3818036d6.36.2025.07.21.09.08.32 (version=TLS1_2 cipher=ECDHE-ECDSA-AES128-GCM-SHA256 bits=128/128); Mon, 21 Jul 2025 09:08:32 -0700 (PDT) X-Relaying-Domain: iol.unh.edu Date: Mon, 21 Jul 2025 09:08:32 -0700 (PDT) Message-ID: <687e6600.050a0220.2e0c31.4236SMTPIN_ADDED_MISSING@mx.google.com> Received: from [172.21.0.3] (unknown [172.18.0.240]) by postal.iol.unh.edu (Postfix) with ESMTP id 70936604D420; Mon, 21 Jul 2025 12:08:32 -0400 (EDT) Subject: |SUCCESS| pw155374 [PATCH] [v2] ethdev: Align enable logic handling From: dpdklab@iol.unh.edu To: Test Report Cc: dpdk-test-reports@iol.unh.edu In-Reply-To: <20250721130545.38200-1-sunyang.wu@jaguarmicro.com> References: <20250721130545.38200-1-sunyang.wu@jaguarmicro.com> Content-Type: text/plain X-BeenThere: test-report@dpdk.org X-Mailman-Version: 2.1.29 Precedence: list List-Id: automatic DPDK test reports List-Unsubscribe: , List-Archive: List-Post: List-Help: List-Subscribe: , Errors-To: test-report-bounces@dpdk.org Test-Label: iol-abi-testing Test-Status: SUCCESS http://dpdk.org/patch/155374 _Testing PASS_ Submitter: Sunyang Wu Date: Monday, July 21 2025 13:05:45 DPDK git baseline: Repo:dpdk Branch: master CommitID:9fe9c0b231c8da5435bfccb1963121b4277f961c 155374 --> testing pass Upstream job id: Generic-DPDK-Compile-ABI#135099 Test environment and result as below: +-------------------------------+----------+ | Environment | abi_test | +===============================+==========+ | CentOS Stream 9 | PASS | +-------------------------------+----------+ | Debian GNU/Linux 12 | PASS | +-------------------------------+----------+ | CentOS Stream 10 | PASS | +-------------------------------+----------+ | Fedora Linux 41 | PASS | +-------------------------------+----------+ | Fedora Linux 40 | PASS | +-------------------------------+----------+ | openSUSE Leap 15.6 | PASS | +-------------------------------+----------+ | Red Hat Enterprise Linux 8.10 | PASS | +-------------------------------+----------+ | Ubuntu 24.04 | PASS | +-------------------------------+----------+ | Red Hat Enterprise Linux 9.5 | PASS | +-------------------------------+----------+ | Ubuntu 22.04 | PASS | +-------------------------------+----------+ CentOS Stream 9 Kernel: 5.15 Compiler: gcc gcc (GCC) 11.5.0 20240719 (Red Hat 11.5.0-7) Debian GNU/Linux 12 Kernel: 5.15 Compiler: gcc gcc (Debian 12.2.0-14+deb12u1) 12.2.0 CentOS Stream 10 Kernel: 5.15 Compiler: gcc gcc (GCC) 14.2.1 20250110 (Red Hat 14.2.1-8) Fedora Linux 41 Kernel: 5.15 Compiler: clang gcc (GCC) 14.3.1 20250523 (Red Hat 14.3.1-1) Fedora Linux 40 Kernel: 5.15 Compiler: clang gcc (GCC) 14.2.1 20240912 (Red Hat 14.2.1-3) openSUSE Leap 15.6 Kernel: 5.15 Compiler: gcc gcc (SUSE Linux) 7.5.0 Red Hat Enterprise Linux 8.10 Kernel: 5.15 Compiler: gcc gcc (GCC) 8.5.0 20210514 (Red Hat 8.5.0-22) Ubuntu 24.04 Kernel: 5.15 Compiler: gcc gcc (Ubuntu 13.3.0-6ubuntu2~24.04) 13.3.0 Red Hat Enterprise Linux 9.5 Kernel: 5.15 Compiler: gcc gcc (GCC) 11.5.0 20240719 (Red Hat 11.5.0-2) Ubuntu 22.04 Kernel: 5.15 Compiler: gcc gcc (Ubuntu 11.4.0-1ubuntu1~22.04) 11.4.0 To view detailed results, visit: https://lab.dpdk.org/results/dashboard/patchsets/33703/ UNH-IOL DPDK Community Lab To manage your email subscriptions, visit: https://lab.dpdk.org/results/dashboard/preferences/subscriptions/