From mboxrd@z Thu Jan 1 00:00:00 1970 Return-Path: Received: from mails.dpdk.org (mails.dpdk.org [217.70.189.124]) by inbox.dpdk.org (Postfix) with ESMTP id 7AB5E46BD9 for ; Mon, 21 Jul 2025 18:09:02 +0200 (CEST) Received: from mails.dpdk.org (localhost [127.0.0.1]) by mails.dpdk.org (Postfix) with ESMTP id 76C2D40297; Mon, 21 Jul 2025 18:09:02 +0200 (CEST) Received: from mail-io1-f98.google.com (mail-io1-f98.google.com [209.85.166.98]) by mails.dpdk.org (Postfix) with ESMTP id 03CBD40297 for ; Mon, 21 Jul 2025 18:09:01 +0200 (CEST) Received: by mail-io1-f98.google.com with SMTP id ca18e2360f4ac-879c737bcebso190670139f.0 for ; Mon, 21 Jul 2025 09:09:00 -0700 (PDT) DKIM-Signature: v=1; a=rsa-sha256; c=relaxed/relaxed; d=iol.unh.edu; s=unh-iol; t=1753114140; x=1753718940; darn=dpdk.org; h=references:in-reply-to:cc:to:from:subject:message-id:date:from:to :cc:subject:date:message-id:reply-to; bh=979Rda19MOI7zO+f5j43tLLReS0Nac9rbS3cHqyUZis=; b=aF8+Plf/+Y0ybLoW8RSCQ2nPSNO0C3n1XEJU4KG+sTmQeqAwRKnGtaZX3cewW6268t EaMbQnQb3OCElocw4fQihkiL+pDTkmrNS5S5CAZMaH4JlSZEzV0ZhMWMdt2sB4B1EfAp 82hQdJ+3egJeNwcod1XgGY1HofJI0fNImEv9M= X-Google-DKIM-Signature: v=1; a=rsa-sha256; c=relaxed/relaxed; d=1e100.net; s=20230601; t=1753114140; x=1753718940; h=references:in-reply-to:cc:to:from:subject:message-id:date :x-gm-message-state:from:to:cc:subject:date:message-id:reply-to; bh=979Rda19MOI7zO+f5j43tLLReS0Nac9rbS3cHqyUZis=; b=U+cf7dwmQdlGk5sWyJvo1nrjftHaD8XDaWdiYxorU3JN5ZZqYH+rrwoES25g++c32D Ya7AeBNBDnLTKJwHKxdOaIpPoLJd0/h98lO6u2u+Zlei0AgI1vkwEcwbI6JWGnvyQnxr vO1qzYg4329a9v12XLkWuF0vpLu0AgIOKD3xdFJ8ozzT5xQ+8QQh6Fn+mjxItJCJM5OW AUtcyrusDaeBlyVntzoznGc2qgD07TYuQwquCYlgRRwcVJYlqYDqHsdrBs6+AFX+3UD9 6/z1M/DWex+PApf03WA/9b6eStICvpIjJaxm2MbpNNYnGtK0vfG2tZOfBLbN/aQ/p6p6 RzIQ== X-Gm-Message-State: AOJu0YzMdzAza3POPmU+C8SlPfv9mv7ZaR+bqLQc0K/TAtKcCq/kS62E Qm8RBU/RP0/9BktHy8SgCDbhTZhTmUUFxgGFQHZfqkrddlQcziVRJt1hS8L6/6z0663JbnbmCh8 2J9Af4+qQOUNZSIHPO6JbHcibJRI8Xg69z2wD3VDAVhgZIn2ne936gobISDk/ X-Gm-Gg: ASbGncsKCN0Vygi68oM38sfmxzJlNjt214BXo7vQK/O1Kg0xd8TLkWUW6aqcdP22LVN mOH2ZyTQxnH8z+TJGUPfOgIrRl+W9mxcQiFUbTcFvedZ4qbqUY9lRkU3JjfkWpuwTqkNY3C+Ryd i96swfVXhsR8/UBzH3ktBQuRVRNnWD/nUKTI5WW/cm9WSmNapVpE+spfpldP7M2pQWQfG8lFCH+ K90vaNLPK/oQU/TGdfYJvkZw743A/Bc5kU2vaWnCIyWeeoXz8lBFbiXOu116cFyYNC7YRczG1ju Ry8D67oOS1ZFYuAznhBdyqbfLXQugIj2kWz+/edCLTuHFfO/1w== X-Google-Smtp-Source: AGHT+IEgXHXCYiXr1pd8n6+vcepGIaWOOmvmDDrqOXSUEMdSZ8+nlxvid7s/sZ0jLzysCaCuz94na/YCmC5+ X-Received: by 2002:a05:6e02:2162:b0:3d9:2992:671b with SMTP id e9e14a558f8ab-3e2be6d8bf0mr1165515ab.4.1753114140219; Mon, 21 Jul 2025 09:09:00 -0700 (PDT) Received: from postal.iol.unh.edu (postal.iol.unh.edu. [2606:4100:3880:1234::84]) by smtp-relay.gmail.com with ESMTPS id e9e14a558f8ab-3e298354371sm5242335ab.31.2025.07.21.09.09.00 (version=TLS1_2 cipher=ECDHE-ECDSA-AES128-GCM-SHA256 bits=128/128); Mon, 21 Jul 2025 09:09:00 -0700 (PDT) X-Relaying-Domain: iol.unh.edu Date: Mon, 21 Jul 2025 09:09:00 -0700 (PDT) Message-ID: <687e661c.050a0220.132eea.a6c2SMTPIN_ADDED_MISSING@mx.google.com> Received: from [172.21.0.3] (unknown [172.18.0.240]) by postal.iol.unh.edu (Postfix) with ESMTP id D1310604D420; Mon, 21 Jul 2025 12:08:59 -0400 (EDT) Subject: |SUCCESS| pw155374 [PATCH] [v2] ethdev: Align enable logic handling From: dpdklab@iol.unh.edu To: Test Report Cc: dpdk-test-reports@iol.unh.edu In-Reply-To: <20250721130545.38200-1-sunyang.wu@jaguarmicro.com> References: <20250721130545.38200-1-sunyang.wu@jaguarmicro.com> Content-Type: text/plain X-BeenThere: test-report@dpdk.org X-Mailman-Version: 2.1.29 Precedence: list List-Id: automatic DPDK test reports List-Unsubscribe: , List-Archive: List-Post: List-Help: List-Subscribe: , Errors-To: test-report-bounces@dpdk.org Test-Label: iol-abi-testing Test-Status: SUCCESS http://dpdk.org/patch/155374 _Testing PASS_ Submitter: Sunyang Wu Date: Monday, July 21 2025 13:05:45 DPDK git baseline: Repo:dpdk Branch: master CommitID:9fe9c0b231c8da5435bfccb1963121b4277f961c 155374 --> testing pass Upstream job id: Generic-DPDK-Compile-ABI#135100 Test environment and result as below: +-------------------------------+----------+ | Environment | abi_test | +===============================+==========+ | CentOS Stream 9 | PASS | +-------------------------------+----------+ | Debian GNU/Linux 12 | PASS | +-------------------------------+----------+ | CentOS Stream 10 | PASS | +-------------------------------+----------+ | Fedora Linux 41 | PASS | +-------------------------------+----------+ | Fedora Linux 40 | PASS | +-------------------------------+----------+ | openSUSE Leap 15.6 | PASS | +-------------------------------+----------+ | Red Hat Enterprise Linux 8.10 | PASS | +-------------------------------+----------+ | Ubuntu 24.04 | PASS | +-------------------------------+----------+ | Red Hat Enterprise Linux 9.5 | PASS | +-------------------------------+----------+ | Ubuntu 22.04 | PASS | +-------------------------------+----------+ CentOS Stream 9 Kernel: 5.15 Compiler: gcc gcc (GCC) 11.5.0 20240719 (Red Hat 11.5.0-7) Debian GNU/Linux 12 Kernel: 5.15 Compiler: gcc gcc (Debian 12.2.0-14+deb12u1) 12.2.0 CentOS Stream 10 Kernel: 5.15 Compiler: gcc gcc (GCC) 14.2.1 20250110 (Red Hat 14.2.1-8) Fedora Linux 41 Kernel: 5.15 Compiler: clang gcc (GCC) 14.3.1 20250523 (Red Hat 14.3.1-1) Fedora Linux 40 Kernel: 5.15 Compiler: clang gcc (GCC) 14.2.1 20240912 (Red Hat 14.2.1-3) openSUSE Leap 15.6 Kernel: 5.15 Compiler: gcc gcc (SUSE Linux) 7.5.0 Red Hat Enterprise Linux 8.10 Kernel: 5.15 Compiler: gcc gcc (GCC) 8.5.0 20210514 (Red Hat 8.5.0-22) Ubuntu 24.04 Kernel: 5.15 Compiler: gcc gcc (Ubuntu 13.3.0-6ubuntu2~24.04) 13.3.0 Red Hat Enterprise Linux 9.5 Kernel: 5.15 Compiler: gcc gcc (GCC) 11.5.0 20240719 (Red Hat 11.5.0-2) Ubuntu 22.04 Kernel: 5.15 Compiler: gcc gcc (Ubuntu 11.4.0-1ubuntu1~22.04) 11.4.0 To view detailed results, visit: https://lab.dpdk.org/results/dashboard/patchsets/33703/ UNH-IOL DPDK Community Lab To manage your email subscriptions, visit: https://lab.dpdk.org/results/dashboard/preferences/subscriptions/