From mboxrd@z Thu Jan 1 00:00:00 1970 Return-Path: Received: from mails.dpdk.org (mails.dpdk.org [217.70.189.124]) by inbox.dpdk.org (Postfix) with ESMTP id 3988646BD9 for ; Mon, 21 Jul 2025 18:44:12 +0200 (CEST) Received: from mails.dpdk.org (localhost [127.0.0.1]) by mails.dpdk.org (Postfix) with ESMTP id 28F7B4021E; Mon, 21 Jul 2025 18:44:12 +0200 (CEST) Received: from mail-pf1-f226.google.com (mail-pf1-f226.google.com [209.85.210.226]) by mails.dpdk.org (Postfix) with ESMTP id 9C1624021E for ; Mon, 21 Jul 2025 18:44:10 +0200 (CEST) Received: by mail-pf1-f226.google.com with SMTP id d2e1a72fcca58-747e41d5469so4880268b3a.3 for ; Mon, 21 Jul 2025 09:44:10 -0700 (PDT) DKIM-Signature: v=1; a=rsa-sha256; c=relaxed/relaxed; d=iol.unh.edu; s=unh-iol; t=1753116250; x=1753721050; darn=dpdk.org; h=references:in-reply-to:cc:to:from:subject:message-id:date:from:to :cc:subject:date:message-id:reply-to; bh=hSZqN97WifZVTMS0bQkAKnK6IczFUhy9pnMdZkr34Uc=; b=ilNC3OnQEAE1cZcohActNHZRJmXu9s1s+Ai1wMnUCIoUUSAoi5ES5OKcLmd12OQKeE hhxSKuhqwMp+bhY5YJfqhhVrMXz0TMJR6Sl0ENkjxbiAewYJ6HJ1BOxuNXPlClAIJgSV fshhd7NhfkI/fCAX2gGeAp3FrzLjFL9eVfK3w= X-Google-DKIM-Signature: v=1; a=rsa-sha256; c=relaxed/relaxed; d=1e100.net; s=20230601; t=1753116250; x=1753721050; h=references:in-reply-to:cc:to:from:subject:message-id:date :x-gm-message-state:from:to:cc:subject:date:message-id:reply-to; bh=hSZqN97WifZVTMS0bQkAKnK6IczFUhy9pnMdZkr34Uc=; b=E9PNpRT4DbsWm3nWQdN6l/FEiC9wwUDr+88vCzKJEsnjRnr7525kLgeLWFvL90e37J 21nRRXCQfGjKtKTJM2mxLtGcFoGwOYySdYcWSm+v3Vz0K+WcDaa6mXRsTEg3tLD0c8fB ZmS5BuilcftV1OnJ+wvD12yq1hfB8Aci3vi3hxlJ8LU1LvtlV+H6tWQae0QzW10vbyka zoVPeKWcDPKJSw/ElWvdLTG7ZjUIM55lpG9ZWU7LvDMQCHBk3K0Fl3Lnqp3c0faIge7S s3C5vTDwLWEe/dUgEfdVfpqbB8KtHtO/L56F+eWuopUAPsCRjMojobvlAMDpDU8TfEHB 39Gw== X-Gm-Message-State: AOJu0YyE3dhMlrAImMeWzhFYPI3Ly9uAe6OBNi2qSBR8Qqq2eB2eMUOc MCvvnnJDsvABTXXSSJ2Q8ehl0PJdrIMjLvEYaaC9d4zbOb3nP1SE07VFa+RY/VE66czLTICg/2m yscROBvfp0dfReLBHEtSC+QUzgB6g3HTWXf6PjX/vgsiWpdho4YGAaxF4nYsh X-Gm-Gg: ASbGncueZpichAcEF3aEqJ+xpE0qW5ZlaKUXWvyzv4uZomUrpwLv0B2ubmHoNhVxU57 KdcDOfNULuJo0AlHisuiB/FFOfUCvnv6rWkv8bk83MEUCi5kF1M3S2CS+vQbKIHNSrzMId2nKZo MFaoZ2TwRzUe6QUmkBX6xTHvUDtJXJU+ippXuHtiDhl0mcANYp38rr9Ut8QkVxN7zeoV9sGGQU9 ew/NXJUexldm7ZG7f5L777NA1ekG2/BQXZ4fqu4b8vBZN5qbwyKMD5IUzqf/YNfyiboz+RzboTt 2QJR8v+CWk7eV7qWLEM8atSuRORcoPvruqPPYgnKAaT1+zlLWA== X-Google-Smtp-Source: AGHT+IF3OdasPb5LYdIdAg7YTYrQa8zQ5JWLS/Pzfuy/D405QKO146Hjo26SkDRs+9eETEx+hlMl951gh/nM X-Received: by 2002:a05:6a20:2447:b0:235:95dc:c982 with SMTP id adf61e73a8af0-23812c46a89mr31308085637.19.1753116249791; Mon, 21 Jul 2025 09:44:09 -0700 (PDT) Received: from postal.iol.unh.edu (postal.iol.unh.edu. [2606:4100:3880:1234::84]) by smtp-relay.gmail.com with ESMTPS id d2e1a72fcca58-759ca33cffesm471537b3a.14.2025.07.21.09.44.09 (version=TLS1_2 cipher=ECDHE-ECDSA-AES128-GCM-SHA256 bits=128/128); Mon, 21 Jul 2025 09:44:09 -0700 (PDT) X-Relaying-Domain: iol.unh.edu Date: Mon, 21 Jul 2025 09:44:09 -0700 (PDT) Message-ID: <687e6e59.050a0220.335f45.7c91SMTPIN_ADDED_MISSING@mx.google.com> Received: from [172.21.0.2] (unknown [172.18.0.240]) by postal.iol.unh.edu (Postfix) with ESMTP id 44B03604D420; Mon, 21 Jul 2025 12:44:09 -0400 (EDT) Subject: |SUCCESS| pw155374 [PATCH] [v2] ethdev: Align enable logic handling From: dpdklab@iol.unh.edu To: Test Report Cc: dpdk-test-reports@iol.unh.edu In-Reply-To: <20250721130545.38200-1-sunyang.wu@jaguarmicro.com> References: <20250721130545.38200-1-sunyang.wu@jaguarmicro.com> Content-Type: text/plain X-BeenThere: test-report@dpdk.org X-Mailman-Version: 2.1.29 Precedence: list List-Id: automatic DPDK test reports List-Unsubscribe: , List-Archive: List-Post: List-Help: List-Subscribe: , Errors-To: test-report-bounces@dpdk.org Test-Label: iol-compile-amd64-testing Test-Status: SUCCESS http://dpdk.org/patch/155374 _Testing PASS_ Submitter: Sunyang Wu Date: Monday, July 21 2025 13:05:45 DPDK git baseline: Repo:dpdk Branch: master CommitID:9fe9c0b231c8da5435bfccb1963121b4277f961c 155374 --> testing pass Upstream job id: Generic-DPDK-Compile-Meson#410549 Test environment and result as below: +-------------------------------+--------------------+------------------+-------------------+-------------------------+-------------------+----------------------+ | Environment | dpdk_meson_compile | dpdk_compile_ovs | dpdk_compile_spdk | dpdk_llvm_clang_compile | dpdk_msvc_compile | dpdk_mingw64_compile | +===============================+====================+==================+===================+=========================+===================+======================+ | Fedora Linux 41 | PASS | PASS | PASS | SKIPPED | SKIPPED | SKIPPED | +-------------------------------+--------------------+------------------+-------------------+-------------------------+-------------------+----------------------+ | Fedora Linux 40 | PASS | SKIPPED | PASS | SKIPPED | SKIPPED | SKIPPED | +-------------------------------+--------------------+------------------+-------------------+-------------------------+-------------------+----------------------+ | openSUSE Leap 15.6 | PASS | SKIPPED | SKIPPED | SKIPPED | SKIPPED | SKIPPED | +-------------------------------+--------------------+------------------+-------------------+-------------------------+-------------------+----------------------+ | CentOS Stream 10 | PASS | SKIPPED | SKIPPED | SKIPPED | SKIPPED | SKIPPED | +-------------------------------+--------------------+------------------+-------------------+-------------------------+-------------------+----------------------+ | CentOS Stream 9 | PASS | SKIPPED | PASS | SKIPPED | SKIPPED | SKIPPED | +-------------------------------+--------------------+------------------+-------------------+-------------------------+-------------------+----------------------+ | Debian GNU/Linux 12 | PASS | SKIPPED | PASS | SKIPPED | SKIPPED | SKIPPED | +-------------------------------+--------------------+------------------+-------------------+-------------------------+-------------------+----------------------+ | Ubuntu 22.04 | PASS | SKIPPED | PASS | SKIPPED | SKIPPED | SKIPPED | +-------------------------------+--------------------+------------------+-------------------+-------------------------+-------------------+----------------------+ | Red Hat Enterprise Linux 9.5 | PASS | SKIPPED | SKIPPED | SKIPPED | SKIPPED | SKIPPED | +-------------------------------+--------------------+------------------+-------------------+-------------------------+-------------------+----------------------+ | Ubuntu 20.04 | PASS | SKIPPED | SKIPPED | SKIPPED | SKIPPED | SKIPPED | +-------------------------------+--------------------+------------------+-------------------+-------------------------+-------------------+----------------------+ | Red Hat Enterprise Linux 8.10 | PASS | SKIPPED | SKIPPED | SKIPPED | SKIPPED | SKIPPED | +-------------------------------+--------------------+------------------+-------------------+-------------------------+-------------------+----------------------+ | Alpine Linux 3.22.0 | PASS | SKIPPED | SKIPPED | SKIPPED | SKIPPED | SKIPPED | +-------------------------------+--------------------+------------------+-------------------+-------------------------+-------------------+----------------------+ | Ubuntu 24.04 | PASS | PASS | PASS | SKIPPED | SKIPPED | SKIPPED | +-------------------------------+--------------------+------------------+-------------------+-------------------------+-------------------+----------------------+ | FreeBSD 14.2 | PASS | SKIPPED | SKIPPED | SKIPPED | SKIPPED | SKIPPED | +-------------------------------+--------------------+------------------+-------------------+-------------------------+-------------------+----------------------+ | Windows Server 2022 | SKIPPED | SKIPPED | SKIPPED | PASS | PASS | PASS | +-------------------------------+--------------------+------------------+-------------------+-------------------------+-------------------+----------------------+ Fedora Linux 41 Kernel: 5.15 Compiler: clang gcc (GCC) 14.3.1 20250523 (Red Hat 14.3.1-1) Fedora Linux 40 Kernel: 5.15 Compiler: gcc gcc (GCC) 14.2.1 20240912 (Red Hat 14.2.1-3) openSUSE Leap 15.6 Kernel: 5.15 Compiler: gcc gcc (SUSE Linux) 7.5.0 CentOS Stream 10 Kernel: 5.15 Compiler: gcc gcc (GCC) 14.2.1 20250110 (Red Hat 14.2.1-8) CentOS Stream 9 Kernel: 5.15 Compiler: gcc gcc (GCC) 11.5.0 20240719 (Red Hat 11.5.0-7) Debian GNU/Linux 12 Kernel: 5.15 Compiler: gcc gcc (Debian 12.2.0-14+deb12u1) 12.2.0 Ubuntu 22.04 Kernel: 5.15 Compiler: gcc gcc (Ubuntu 11.4.0-1ubuntu1~22.04) 11.4.0 Red Hat Enterprise Linux 9.5 Kernel: 5.15 Compiler: gcc gcc (GCC) 11.5.0 20240719 (Red Hat 11.5.0-2) Ubuntu 20.04 Kernel: 5.15 Compiler: gcc gcc (Ubuntu 9.4.0-1ubuntu1~20.04.2) 9.4.0 Red Hat Enterprise Linux 8.10 Kernel: 5.15 Compiler: gcc gcc (GCC) 8.5.0 20210514 (Red Hat 8.5.0-22) Alpine Linux 3.22.0 Kernel: 5.15 Compiler: gcc gcc (Alpine 14.2.0) 14.2.0 Ubuntu 24.04 Kernel: 5.15 Compiler: gcc gcc (Ubuntu 13.3.0-6ubuntu2~24.04) 13.3.0 FreeBSD 14.2 Kernel: 14.2-RELEASE Compiler: clang 18.1.6 Windows Server 2022 Kernel: 10.0.20348.2031 Compiler: clang 15.0.7, gcc 14.1.0 (MinGW), and MSVC VS 19.39.33521 To view detailed results, visit: https://lab.dpdk.org/results/dashboard/patchsets/33703/ UNH-IOL DPDK Community Lab To manage your email subscriptions, visit: https://lab.dpdk.org/results/dashboard/preferences/subscriptions/