From mboxrd@z Thu Jan 1 00:00:00 1970 Return-Path: Received: from mails.dpdk.org (mails.dpdk.org [217.70.189.124]) by inbox.dpdk.org (Postfix) with ESMTP id 109F146BD9 for ; Mon, 21 Jul 2025 19:02:43 +0200 (CEST) Received: from mails.dpdk.org (localhost [127.0.0.1]) by mails.dpdk.org (Postfix) with ESMTP id E68BD4021E; Mon, 21 Jul 2025 19:02:42 +0200 (CEST) Received: from mail-il1-f226.google.com (mail-il1-f226.google.com [209.85.166.226]) by mails.dpdk.org (Postfix) with ESMTP id 2E9254021E for ; Mon, 21 Jul 2025 19:02:41 +0200 (CEST) Received: by mail-il1-f226.google.com with SMTP id e9e14a558f8ab-3e29b9ebb43so24134675ab.3 for ; Mon, 21 Jul 2025 10:02:41 -0700 (PDT) DKIM-Signature: v=1; a=rsa-sha256; c=relaxed/relaxed; d=iol.unh.edu; s=unh-iol; t=1753117360; x=1753722160; darn=dpdk.org; h=references:in-reply-to:cc:to:from:subject:message-id:date:from:to :cc:subject:date:message-id:reply-to; bh=Rh7THViNNvv7HW6h0hl7mG5P9U9uayWukL3GW7yAYXY=; b=EkynFq5pEyMYMENPqjUJB7QKdSqmvLXst00NMFui8WLF/DrPEBZYmn4J/xw3yUaHIN bgviJRC/aov3Qmlo8zOWJA9nb4DWB+GzUK07iJ2EUhdD4K0YdMZAeGaWLDxVGLVfHZ0M TYhRcbHlZDk0kNGDQ6chBV2b79FvuL7nHyrUw= X-Google-DKIM-Signature: v=1; a=rsa-sha256; c=relaxed/relaxed; d=1e100.net; s=20230601; t=1753117360; x=1753722160; h=references:in-reply-to:cc:to:from:subject:message-id:date :x-gm-message-state:from:to:cc:subject:date:message-id:reply-to; bh=Rh7THViNNvv7HW6h0hl7mG5P9U9uayWukL3GW7yAYXY=; b=CtxFAZujnrwEgUALEghnBuZkMEopnKz2WHCHd8lA2WaVLYkGhigG3uiN9L5LaTgG4f NJQ4NO3JqjFNGS5rryouYrKceh03tWx/WeRSmtlnnqZPdmiCxiFRJYsO5jFUu9erCSDk ILAK7puJ1DZWSCZcvP5q5me+l+HHCu3WNvOUMYSEIUSm+9GWEWAMuiEPatraOtHlaNO/ XLs1ybrl1/HXQwgPmPbu8WY4pulJt/OQSCIvy849QwHxCLbQEkVPZQ6ao/MCDB1ut7gh 4JSR17mD9f0RLl59KQCw2nMR64C7M9WqMV2Vs+/QxGqfrYxbj8ISaCNZmF6HQGOhdLV9 MsKw== X-Gm-Message-State: AOJu0YzlimFdUEPMy2M3InDwEQwOdpx+ONrI3DG4eoH5EuQ9km8DULL1 ArownWhE9BKLmB69nY6mjKUCbDA2cdZ4btqX9FnVndzCrGL4UmSBUqBpTA6jX206fqsAE/3ejv1 xiLJEFn6ZgCOqPTpuIglZPAxY2IcUMvJEBXL+uCvPlForPp9VgOXMcms7wzpq X-Gm-Gg: ASbGncud1MEwrBgEQgPAKYumuWYyefaBNYurx3rUY80afnGM6MfLpMVKgfEO8+oyQo4 bi9MYvBFOjLKMEsrvzzIcGDPIkFhohcS7eJCwVDo4MI3AZepzO/BYXWaD7daK4vMTGmk+HoST9W ZAmFkO58XU0WrwTGPDYpNKIRLbveU7OQu2LxEMu9fwuTfSIzAEbBd+m11di4Pnn25Xi2p9wTZ4R cSY0loDA+1tajb7BfPYprob387LX5h5da+jNs+AZljEU3fqhyz1a0OOkkioGcvUsNRdA2gNgw7s QqD5D6xG2v2USuHRegvmgSUnI8oFCTFr8tRJjPfyPKOvYX0a+w== X-Google-Smtp-Source: AGHT+IH9PoLKCHBPypVelWJe/vANAgn6zS2nIiTxm+i8Bp5zjAl7Y3eJeaiL7JT8eTtXBvURI8xPzeHvNuNO X-Received: by 2002:a05:6e02:350b:b0:3dd:f743:d182 with SMTP id e9e14a558f8ab-3e2822fce43mr281445885ab.5.1753117360256; Mon, 21 Jul 2025 10:02:40 -0700 (PDT) Received: from postal.iol.unh.edu (postal.iol.unh.edu. [2606:4100:3880:1234::84]) by smtp-relay.gmail.com with ESMTPS id e9e14a558f8ab-3e298204dccsm5082125ab.8.2025.07.21.10.02.40 (version=TLS1_2 cipher=ECDHE-ECDSA-AES128-GCM-SHA256 bits=128/128); Mon, 21 Jul 2025 10:02:40 -0700 (PDT) X-Relaying-Domain: iol.unh.edu Date: Mon, 21 Jul 2025 10:02:40 -0700 (PDT) Message-ID: <687e72b0.920a0220.1f1950.93b9SMTPIN_ADDED_MISSING@mx.google.com> Received: from [172.21.0.2] (unknown [172.18.0.240]) by postal.iol.unh.edu (Postfix) with ESMTP id CD7D9604D420; Mon, 21 Jul 2025 13:02:39 -0400 (EDT) Subject: |SUCCESS| pw155393-155394 [PATCH] [v4,3/3] drivers: enable drivers t From: dpdklab@iol.unh.edu To: Test Report Cc: dpdk-test-reports@iol.unh.edu In-Reply-To: <1753111484-27021-4-git-send-email-andremue@linux.microsoft.com> References: <1753111484-27021-4-git-send-email-andremue@linux.microsoft.com> Content-Type: text/plain X-BeenThere: test-report@dpdk.org X-Mailman-Version: 2.1.29 Precedence: list List-Id: automatic DPDK test reports List-Unsubscribe: , List-Archive: List-Post: List-Help: List-Subscribe: , Errors-To: test-report-bounces@dpdk.org Test-Label: iol-unit-amd64-testing Test-Status: SUCCESS http://dpdk.org/patch/155394 _Testing PASS_ Submitter: Andre Muezerie Date: Monday, July 21 2025 15:24:44 DPDK git baseline: Repo:dpdk Branch: master CommitID:2f4cd1b4dbaec6633da510da67c2213cfd2bd359 155393-155394 --> testing pass Upstream job id: Generic-Unit-Test-DPDK#356919 Test environment and result as below: +-------------------------------+----------------+ | Environment | dpdk_unit_test | +===============================+================+ | CentOS Stream 9 | PASS | +-------------------------------+----------------+ | Fedora Linux 40 | PASS | +-------------------------------+----------------+ | Fedora Linux 41 | PASS | +-------------------------------+----------------+ | Ubuntu 20.04 | PASS | +-------------------------------+----------------+ | CentOS Stream 10 | PASS | +-------------------------------+----------------+ | Red Hat Enterprise Linux 8.10 | PASS | +-------------------------------+----------------+ | Red Hat Enterprise Linux 9.5 | PASS | +-------------------------------+----------------+ | Ubuntu 22.04 | PASS | +-------------------------------+----------------+ | Ubuntu 24.04 | PASS | +-------------------------------+----------------+ | Debian GNU/Linux 12 | PASS | +-------------------------------+----------------+ | Windows Server 2022 | PASS | +-------------------------------+----------------+ CentOS Stream 9 Kernel: 5.15 Compiler: gcc gcc (GCC) 11.5.0 20240719 (Red Hat 11.5.0-7) Fedora Linux 40 Kernel: 5.15 Compiler: clang gcc (GCC) 14.2.1 20240912 (Red Hat 14.2.1-3) Fedora Linux 41 Kernel: 5.15 Compiler: gcc gcc (GCC) 14.3.1 20250523 (Red Hat 14.3.1-1) Ubuntu 20.04 Kernel: 5.15 Compiler: gcc gcc (Ubuntu 9.4.0-1ubuntu1~20.04.2) 9.4.0 CentOS Stream 10 Kernel: 5.15 Compiler: gcc gcc (GCC) 14.2.1 20250110 (Red Hat 14.2.1-8) Red Hat Enterprise Linux 8.10 Kernel: 5.15 Compiler: gcc gcc (GCC) 8.5.0 20210514 (Red Hat 8.5.0-22) Red Hat Enterprise Linux 9.5 Kernel: 5.15 Compiler: gcc gcc (GCC) 11.5.0 20240719 (Red Hat 11.5.0-2) Ubuntu 22.04 Kernel: 5.15 Compiler: gcc gcc (Ubuntu 11.4.0-1ubuntu1~22.04) 11.4.0 Ubuntu 24.04 Kernel: 5.15 Compiler: gcc gcc (Ubuntu 13.3.0-6ubuntu2~24.04) 13.3.0 Debian GNU/Linux 12 Kernel: 5.15 Compiler: gcc gcc (Debian 12.2.0-14+deb12u1) 12.2.0 Windows Server 2022 Kernel: 10.0.20348.2031 Compiler: clang 15.0.7, gcc 14.1.0 (MinGW), and MSVC VS 19.39.33521 To view detailed results, visit: https://lab.dpdk.org/results/dashboard/patchsets/33712/ UNH-IOL DPDK Community Lab To manage your email subscriptions, visit: https://lab.dpdk.org/results/dashboard/preferences/subscriptions/