From mboxrd@z Thu Jan 1 00:00:00 1970 Return-Path: Received: from mails.dpdk.org (mails.dpdk.org [217.70.189.124]) by inbox.dpdk.org (Postfix) with ESMTP id 5F2E346BD9 for ; Mon, 21 Jul 2025 19:05:46 +0200 (CEST) Received: from mails.dpdk.org (localhost [127.0.0.1]) by mails.dpdk.org (Postfix) with ESMTP id 56F4D4021E; Mon, 21 Jul 2025 19:05:46 +0200 (CEST) Received: from mail-il1-f227.google.com (mail-il1-f227.google.com [209.85.166.227]) by mails.dpdk.org (Postfix) with ESMTP id 06E0C4021E for ; Mon, 21 Jul 2025 19:05:45 +0200 (CEST) Received: by mail-il1-f227.google.com with SMTP id e9e14a558f8ab-3da73df6b6bso18623455ab.3 for ; Mon, 21 Jul 2025 10:05:44 -0700 (PDT) DKIM-Signature: v=1; a=rsa-sha256; c=relaxed/relaxed; d=iol.unh.edu; s=unh-iol; t=1753117544; x=1753722344; darn=dpdk.org; h=references:in-reply-to:cc:to:from:subject:message-id:date:from:to :cc:subject:date:message-id:reply-to; bh=qla+WdaZ5uvwmCB9G7Dek2f4gg8h6ROmrTb8AcplbCQ=; b=WHK7jTWk0/sC8bmhqRAhqtV4+U1DkNOCUWiyxzTu+pkChmwqjQheAr3HFff4B8ochv 1s0/zGh3VCQxiO5PoUXn+ArbPOll99LM0iCOMG0qIntWBMtxcsVYKpo5Fapl7S5qxJwo JS60IiCeeFWQiP4OOnydnKJrgA78VumouRk7w= X-Google-DKIM-Signature: v=1; a=rsa-sha256; c=relaxed/relaxed; d=1e100.net; s=20230601; t=1753117544; x=1753722344; h=references:in-reply-to:cc:to:from:subject:message-id:date :x-gm-message-state:from:to:cc:subject:date:message-id:reply-to; bh=qla+WdaZ5uvwmCB9G7Dek2f4gg8h6ROmrTb8AcplbCQ=; b=wgepBzJaw/fG+p4zqLAcgIEVx9UBxG/U7XCDRi/A/OeyCz5+/eATG+KYQBB9rKN8RC U1ZQ3L+jdYl4q+QtWU6IDEQuorEFcQJB79iTEVt7csRZc119gQmlMiEkKlv1J9jU8TTN 2lbcCVQYDFgeX7gwbclO6qd8+qjVu/kU0T4Hs9V3hysj8ow5w2H0mkD5PmfuhxhBpr8e g6RDEEchykO20iCn9iR29yIrC81wz4Fz9sJRKz5Zjg36glAejGGWkKQlDktJNcfwaHaC j1Oi+oIwL30a8qCrp+4u5XXkkSJa01zcO+zg3GazCsLYs/OPWaq156Co7yns3PqtIuJ5 frdA== X-Gm-Message-State: AOJu0YxiRsEl2Cxu5neqYtqtj0hadrsQUfIC/IyXH1BT2AsFP5LmrMHM ptys1eQLEsESkiZWe4GwTMaNDFzYWSgFRf34IDpcsA7xaCh3PmBaE+8+Ue4jJgWF2aUWPvtTEE0 SK7s6/OOxnlCCxgQL8ifzMk8AHprL4pAWAJ9Fx0keyQVx X-Gm-Gg: ASbGncurFOirih636fK8fjzEop8D7pjhOhJ/g3+THUCkzfsd5TYad1osNtfpnltYa9q CDvAP417SuWKetHy8PWsNuqJCgPM6Ck07qQn1Va+G5pWodiIvbXBAMPFDuePpfz+NgG/NnJfgGI UcoKLlmUqrDaN0SMyi4aTr6Dz0Ju9GX/HODVA8oIpp7ATG/YGW7qfsELnJLITobj0pBZu2y2QZr /rvRlPLWhdav/3VGZYBbkhGdwCkIvDn4XtVlQu0Ukd8Z/fqwu74XNzUBkpSPrd795BwlZxc6WYE maY5m1wsrTTMyXG5UynSclBoaYZW28JAngY1+hygwQm6csk84/32TxpJsyK8midZ9FVtdnUG X-Google-Smtp-Source: AGHT+IE33NRSuvqEcBTVfRrnMDq+SVhwP7a3GNmnXmSvNxZ58aBEyAeaXYYwzAn64p2K/0i1G47CnGQn1JA/ X-Received: by 2002:a05:6e02:160c:b0:3e2:a8d7:cbc0 with SMTP id e9e14a558f8ab-3e2a8d7ce75mr106808375ab.2.1753117544208; Mon, 21 Jul 2025 10:05:44 -0700 (PDT) Received: from postal.iol.unh.edu (postal.iol.unh.edu. [132.177.123.84]) by smtp-relay.gmail.com with ESMTPS id e9e14a558f8ab-3e29821cab4sm5138945ab.15.2025.07.21.10.05.44 (version=TLS1_2 cipher=ECDHE-ECDSA-AES128-GCM-SHA256 bits=128/128); Mon, 21 Jul 2025 10:05:44 -0700 (PDT) X-Relaying-Domain: iol.unh.edu Date: Mon, 21 Jul 2025 10:05:44 -0700 (PDT) Message-ID: <687e7368.050a0220.342698.a501SMTPIN_ADDED_MISSING@mx.google.com> Received: from [172.21.0.2] (unknown [172.18.0.240]) by postal.iol.unh.edu (Postfix) with ESMTP id B0504604D420; Mon, 21 Jul 2025 13:05:43 -0400 (EDT) Subject: |SUCCESS| pw155373 [PATCH] ethdev: keep promiscuous/allmulti value b From: dpdklab@iol.unh.edu To: Test Report Cc: dpdk-test-reports@iol.unh.edu In-Reply-To: <20250721115139.46728-1-sunyang.wu@jaguarmicro.com> References: <20250721115139.46728-1-sunyang.wu@jaguarmicro.com> Content-Type: text/plain X-BeenThere: test-report@dpdk.org X-Mailman-Version: 2.1.29 Precedence: list List-Id: automatic DPDK test reports List-Unsubscribe: , List-Archive: List-Post: List-Help: List-Subscribe: , Errors-To: test-report-bounces@dpdk.org Test-Label: iol-compile-amd64-testing Test-Status: SUCCESS http://dpdk.org/patch/155373 _Testing PASS_ Submitter: Sunyang Wu Date: Monday, July 21 2025 11:51:39 DPDK git baseline: Repo:dpdk Branch: master CommitID:9fe9c0b231c8da5435bfccb1963121b4277f961c 155373 --> testing pass Upstream job id: Generic-DPDK-Compile-Meson#410550 Test environment and result as below: +-------------------------------+--------------------+-------------------+------------------+-------------------------+-------------------+----------------------+ | Environment | dpdk_meson_compile | dpdk_compile_spdk | dpdk_compile_ovs | dpdk_llvm_clang_compile | dpdk_msvc_compile | dpdk_mingw64_compile | +===============================+====================+===================+==================+=========================+===================+======================+ | CentOS Stream 9 | PASS | PASS | SKIPPED | SKIPPED | SKIPPED | SKIPPED | +-------------------------------+--------------------+-------------------+------------------+-------------------------+-------------------+----------------------+ | Debian GNU/Linux 12 | PASS | PASS | SKIPPED | SKIPPED | SKIPPED | SKIPPED | +-------------------------------+--------------------+-------------------+------------------+-------------------------+-------------------+----------------------+ | CentOS Stream 10 | PASS | SKIPPED | SKIPPED | SKIPPED | SKIPPED | SKIPPED | +-------------------------------+--------------------+-------------------+------------------+-------------------------+-------------------+----------------------+ | Fedora Linux 41 | PASS | PASS | PASS | SKIPPED | SKIPPED | SKIPPED | +-------------------------------+--------------------+-------------------+------------------+-------------------------+-------------------+----------------------+ | Fedora Linux 40 | PASS | PASS | SKIPPED | SKIPPED | SKIPPED | SKIPPED | +-------------------------------+--------------------+-------------------+------------------+-------------------------+-------------------+----------------------+ | openSUSE Leap 15.6 | PASS | SKIPPED | SKIPPED | SKIPPED | SKIPPED | SKIPPED | +-------------------------------+--------------------+-------------------+------------------+-------------------------+-------------------+----------------------+ | Ubuntu 20.04 | PASS | SKIPPED | SKIPPED | SKIPPED | SKIPPED | SKIPPED | +-------------------------------+--------------------+-------------------+------------------+-------------------------+-------------------+----------------------+ | Red Hat Enterprise Linux 8.10 | PASS | SKIPPED | SKIPPED | SKIPPED | SKIPPED | SKIPPED | +-------------------------------+--------------------+-------------------+------------------+-------------------------+-------------------+----------------------+ | Red Hat Enterprise Linux 9.5 | PASS | SKIPPED | SKIPPED | SKIPPED | SKIPPED | SKIPPED | +-------------------------------+--------------------+-------------------+------------------+-------------------------+-------------------+----------------------+ | Ubuntu 24.04 | PASS | PASS | PASS | SKIPPED | SKIPPED | SKIPPED | +-------------------------------+--------------------+-------------------+------------------+-------------------------+-------------------+----------------------+ | Ubuntu 22.04 | PASS | PASS | SKIPPED | SKIPPED | SKIPPED | SKIPPED | +-------------------------------+--------------------+-------------------+------------------+-------------------------+-------------------+----------------------+ | Alpine Linux 3.22.0 | PASS | SKIPPED | SKIPPED | SKIPPED | SKIPPED | SKIPPED | +-------------------------------+--------------------+-------------------+------------------+-------------------------+-------------------+----------------------+ | FreeBSD 14.2 | PASS | SKIPPED | SKIPPED | SKIPPED | SKIPPED | SKIPPED | +-------------------------------+--------------------+-------------------+------------------+-------------------------+-------------------+----------------------+ | Windows Server 2022 | SKIPPED | SKIPPED | SKIPPED | PASS | PASS | PASS | +-------------------------------+--------------------+-------------------+------------------+-------------------------+-------------------+----------------------+ CentOS Stream 9 Kernel: 5.15 Compiler: gcc gcc (GCC) 11.5.0 20240719 (Red Hat 11.5.0-7) Debian GNU/Linux 12 Kernel: 5.15 Compiler: gcc gcc (Debian 12.2.0-14+deb12u1) 12.2.0 CentOS Stream 10 Kernel: 5.15 Compiler: gcc gcc (GCC) 14.2.1 20250110 (Red Hat 14.2.1-8) Fedora Linux 41 Kernel: 5.15 Compiler: clang gcc (GCC) 14.3.1 20250523 (Red Hat 14.3.1-1) Fedora Linux 40 Kernel: 5.15 Compiler: clang gcc (GCC) 14.2.1 20240912 (Red Hat 14.2.1-3) openSUSE Leap 15.6 Kernel: 5.15 Compiler: gcc gcc (SUSE Linux) 7.5.0 Ubuntu 20.04 Kernel: 5.15 Compiler: gcc gcc (Ubuntu 9.4.0-1ubuntu1~20.04.2) 9.4.0 Red Hat Enterprise Linux 8.10 Kernel: 5.15 Compiler: gcc gcc (GCC) 8.5.0 20210514 (Red Hat 8.5.0-22) Red Hat Enterprise Linux 9.5 Kernel: 5.15 Compiler: gcc gcc (GCC) 11.5.0 20240719 (Red Hat 11.5.0-2) Ubuntu 24.04 Kernel: 5.15 Compiler: gcc gcc (Ubuntu 13.3.0-6ubuntu2~24.04) 13.3.0 Ubuntu 22.04 Kernel: 5.15 Compiler: gcc gcc (Ubuntu 11.4.0-1ubuntu1~22.04) 11.4.0 Alpine Linux 3.22.0 Kernel: 5.15 Compiler: gcc gcc (Alpine 14.2.0) 14.2.0 FreeBSD 14.2 Kernel: 14.2-RELEASE Compiler: clang 18.1.6 Windows Server 2022 Kernel: 10.0.20348.2031 Compiler: clang 15.0.7, gcc 14.1.0 (MinGW), and MSVC VS 19.39.33521 To view detailed results, visit: https://lab.dpdk.org/results/dashboard/patchsets/33702/ UNH-IOL DPDK Community Lab To manage your email subscriptions, visit: https://lab.dpdk.org/results/dashboard/preferences/subscriptions/