From mboxrd@z Thu Jan 1 00:00:00 1970 Return-Path: Received: from mails.dpdk.org (mails.dpdk.org [217.70.189.124]) by inbox.dpdk.org (Postfix) with ESMTP id 78EBE46BD9 for ; Mon, 21 Jul 2025 19:28:58 +0200 (CEST) Received: from mails.dpdk.org (localhost [127.0.0.1]) by mails.dpdk.org (Postfix) with ESMTP id 75B384021E; Mon, 21 Jul 2025 19:28:58 +0200 (CEST) Received: from mail-pl1-f227.google.com (mail-pl1-f227.google.com [209.85.214.227]) by mails.dpdk.org (Postfix) with ESMTP id 2D2AA4021E for ; Mon, 21 Jul 2025 19:28:57 +0200 (CEST) Received: by mail-pl1-f227.google.com with SMTP id d9443c01a7336-235f9ea8d08so37884645ad.1 for ; Mon, 21 Jul 2025 10:28:57 -0700 (PDT) DKIM-Signature: v=1; a=rsa-sha256; c=relaxed/relaxed; d=iol.unh.edu; s=unh-iol; t=1753118936; x=1753723736; darn=dpdk.org; h=references:in-reply-to:cc:to:from:subject:message-id:date:from:to :cc:subject:date:message-id:reply-to; bh=uLCeImFdWFckn/4ZkN7JOkiBDVl8JyA5zAA4AudRmvM=; b=M2UCm1DukR91t4r4giZruZQpHtDsNjcEcZ4y/Dw6dsK6JvavHqXWzoKf3T83SZUi1S 3DFLySKqxxJWhuXtIr72e5IUS5WjcVcQOAXV+QCSG47h7BF9Sf1KNzhwZpXEkKboR3Pu IyF+PPwkI8xwmkdkpx0H7jyhLx2fSLTJAuiLo= X-Google-DKIM-Signature: v=1; a=rsa-sha256; c=relaxed/relaxed; d=1e100.net; s=20230601; t=1753118936; x=1753723736; h=references:in-reply-to:cc:to:from:subject:message-id:date :x-gm-message-state:from:to:cc:subject:date:message-id:reply-to; bh=uLCeImFdWFckn/4ZkN7JOkiBDVl8JyA5zAA4AudRmvM=; b=GBhGUZz4HspgzrIiSfZF4+UYexlUP2noAYlyGqa6VxBqKlIiq6QO/LMwtDawgKKdhZ ayIlmOaajeasIhft3xS6RXU3P//B3LjkgMxGGXA3ZvhXPqAi/IPVVsDEKfyRiiptOMDk Bq7QwmFq1TC413FrWY5xp+rCf+qITlEbO4JWeXdSy0d/fAOuSLAB/nKEvmarrD9duOpQ UQjifaYJJlUmgh2hll0xPXSzQ/dkTFa8im28HQxlry4zgV382yZ8zQaKBwM95R53V0Xp MaHkkZd3p2Z6+0PTh6FYQoELbWWpHdhBs2DABbbx46VqhBhIgUPXKMSSE0HoBOA6hJVf IC5A== X-Gm-Message-State: AOJu0Yz50oUEGTBZJD4b6Xmho6aKyXQ13gpd/LmjJRUtHOP0Is+26JHN PQTbG1HIMw519VnQTtBwp2cMXSIlpT6IGgvzayAJ6fcbUsfYdo3H632XRZmXHEVGDLJHUAFeZ8R qV8qT5bFZeJtPLTL2n3C6Wh4QjfxZtd5cVnhwFyQ470NN+Kc00Y0i4f2/H2Sd X-Gm-Gg: ASbGncsW1k4p2RYecpZ/UEZAzeizJuQk8+VZsASabzkjXYke2fp0ySnj9pLugjwyjVv eMpvYDL1R80v4U+XhmHi6vSiV6eLYioPn+7u9ICNdI1RiPM9fwCw5uYiFGogYra5p9WcCL7IMB3 QE+wqipjv/gAhcvXs2zu4UutRIISINv/sxO0zU9bV04v4B2j1yRpo+Dva/wnk+2XTUWrQTsEmS0 GKsvR7IAmBEsju0fK5ru7pYEFyHwYesAWYxuAaHu2/9BOkXoMPafVdHt5UN3tskxvLgeJoeQPcF fIbsDOd9EZeMbi4TkIL/RlooBcbbSvoA12bwg2UXdPWBWOU5sA== X-Google-Smtp-Source: AGHT+IGeDQ5BQhbf4EEJhTqUswmaUyBX21i/YXlaGXcaoxtQ7A/DYxlvyKTTObPk0OL3xeRFD/pQR183UDY6 X-Received: by 2002:a17:902:cece:b0:22e:6cc6:cf77 with SMTP id d9443c01a7336-23e24f96140mr329717655ad.53.1753118936242; Mon, 21 Jul 2025 10:28:56 -0700 (PDT) Received: from postal.iol.unh.edu (postal.iol.unh.edu. [2606:4100:3880:1234::84]) by smtp-relay.gmail.com with ESMTPS id d9443c01a7336-23e3b6f02e4sm4328985ad.100.2025.07.21.10.28.56 (version=TLS1_2 cipher=ECDHE-ECDSA-AES128-GCM-SHA256 bits=128/128); Mon, 21 Jul 2025 10:28:56 -0700 (PDT) X-Relaying-Domain: iol.unh.edu Date: Mon, 21 Jul 2025 10:28:56 -0700 (PDT) Message-ID: <687e78d8.170a0220.ba61b.5f6cSMTPIN_ADDED_MISSING@mx.google.com> Received: from [172.21.0.2] (unknown [172.18.0.240]) by postal.iol.unh.edu (Postfix) with ESMTP id B0FDE604D420; Mon, 21 Jul 2025 13:28:55 -0400 (EDT) Subject: |SUCCESS| pw155393-155394 [PATCH] [v4,3/3] drivers: enable drivers t From: dpdklab@iol.unh.edu To: Test Report Cc: dpdk-test-reports@iol.unh.edu In-Reply-To: <1753111484-27021-4-git-send-email-andremue@linux.microsoft.com> References: <1753111484-27021-4-git-send-email-andremue@linux.microsoft.com> Content-Type: text/plain X-BeenThere: test-report@dpdk.org X-Mailman-Version: 2.1.29 Precedence: list List-Id: automatic DPDK test reports List-Unsubscribe: , List-Archive: List-Post: List-Help: List-Subscribe: , Errors-To: test-report-bounces@dpdk.org Test-Label: iol-unit-amd64-testing Test-Status: SUCCESS http://dpdk.org/patch/155394 _Testing PASS_ Submitter: Andre Muezerie Date: Monday, July 21 2025 15:24:44 DPDK git baseline: Repo:dpdk Branch: master CommitID:2f4cd1b4dbaec6633da510da67c2213cfd2bd359 155393-155394 --> testing pass Upstream job id: Generic-VM-Unit-Test-DPDK#30069 Test environment and result as below: +-------------------------------+----------------+ | Environment | dpdk_unit_test | +===============================+================+ | CentOS Stream 9 | PASS | +-------------------------------+----------------+ | Fedora Linux 40 | PASS | +-------------------------------+----------------+ | Fedora Linux 41 | PASS | +-------------------------------+----------------+ | Ubuntu 20.04 | PASS | +-------------------------------+----------------+ | CentOS Stream 10 | PASS | +-------------------------------+----------------+ | Red Hat Enterprise Linux 8.10 | PASS | +-------------------------------+----------------+ | Red Hat Enterprise Linux 9.5 | PASS | +-------------------------------+----------------+ | Ubuntu 22.04 | PASS | +-------------------------------+----------------+ | Ubuntu 24.04 | PASS | +-------------------------------+----------------+ | Debian GNU/Linux 12 | PASS | +-------------------------------+----------------+ | Windows Server 2022 | PASS | +-------------------------------+----------------+ CentOS Stream 9 Kernel: 5.15 Compiler: gcc gcc (GCC) 11.5.0 20240719 (Red Hat 11.5.0-7) Fedora Linux 40 Kernel: 5.15 Compiler: clang gcc (GCC) 14.2.1 20240912 (Red Hat 14.2.1-3) Fedora Linux 41 Kernel: 5.15 Compiler: gcc gcc (GCC) 14.3.1 20250523 (Red Hat 14.3.1-1) Ubuntu 20.04 Kernel: 5.15 Compiler: gcc gcc (Ubuntu 9.4.0-1ubuntu1~20.04.2) 9.4.0 CentOS Stream 10 Kernel: 5.15 Compiler: gcc gcc (GCC) 14.2.1 20250110 (Red Hat 14.2.1-8) Red Hat Enterprise Linux 8.10 Kernel: 5.15 Compiler: gcc gcc (GCC) 8.5.0 20210514 (Red Hat 8.5.0-22) Red Hat Enterprise Linux 9.5 Kernel: 5.15 Compiler: gcc gcc (GCC) 11.5.0 20240719 (Red Hat 11.5.0-2) Ubuntu 22.04 Kernel: 5.15 Compiler: gcc gcc (Ubuntu 11.4.0-1ubuntu1~22.04) 11.4.0 Ubuntu 24.04 Kernel: 5.15 Compiler: gcc gcc (Ubuntu 13.3.0-6ubuntu2~24.04) 13.3.0 Debian GNU/Linux 12 Kernel: 5.15 Compiler: gcc gcc (Debian 12.2.0-14+deb12u1) 12.2.0 Windows Server 2022 Kernel: 10.0.20348.2031 Compiler: clang 15.0.7, gcc 14.1.0 (MinGW), and MSVC VS 19.39.33521 To view detailed results, visit: https://lab.dpdk.org/results/dashboard/patchsets/33712/ UNH-IOL DPDK Community Lab To manage your email subscriptions, visit: https://lab.dpdk.org/results/dashboard/preferences/subscriptions/