From mboxrd@z Thu Jan 1 00:00:00 1970 Return-Path: Received: from mails.dpdk.org (mails.dpdk.org [217.70.189.124]) by inbox.dpdk.org (Postfix) with ESMTP id 9DF3B46BD9 for ; Mon, 21 Jul 2025 19:47:05 +0200 (CEST) Received: from mails.dpdk.org (localhost [127.0.0.1]) by mails.dpdk.org (Postfix) with ESMTP id 7D7F24021E; Mon, 21 Jul 2025 19:47:05 +0200 (CEST) Received: from mail-pl1-f225.google.com (mail-pl1-f225.google.com [209.85.214.225]) by mails.dpdk.org (Postfix) with ESMTP id A765B4021E for ; Mon, 21 Jul 2025 19:47:04 +0200 (CEST) Received: by mail-pl1-f225.google.com with SMTP id d9443c01a7336-2349f096605so53515785ad.3 for ; Mon, 21 Jul 2025 10:47:04 -0700 (PDT) DKIM-Signature: v=1; a=rsa-sha256; c=relaxed/relaxed; d=iol.unh.edu; s=unh-iol; t=1753120024; x=1753724824; darn=dpdk.org; h=references:in-reply-to:cc:to:from:subject:message-id:date:from:to :cc:subject:date:message-id:reply-to; bh=jKf1WLeehSxTfDpTr87lJb5bg09NW/KbZhTo/bK324A=; b=bQIRUZfgAu9F6HCKLrU9zRLxkxUOZdKtIVHwz8dA12Sy74BFZiQFBpTxdpypEHvsQ6 bUh/Lne1nj24xpueD21MzOlPHGOkhL3hSP/Ug2CooaZI0z/qgRP1BO+ikGOBzq2XR/EY rErhuyBkICeEYlkFpsSUoTu9OkmbSs7lMliNY= X-Google-DKIM-Signature: v=1; a=rsa-sha256; c=relaxed/relaxed; d=1e100.net; s=20230601; t=1753120024; x=1753724824; h=references:in-reply-to:cc:to:from:subject:message-id:date :x-gm-message-state:from:to:cc:subject:date:message-id:reply-to; bh=jKf1WLeehSxTfDpTr87lJb5bg09NW/KbZhTo/bK324A=; b=aA9q0ky3IIqdohLBb5SRaEqk2hOanDKjwkCY20ICclgtF0/3InQv1HwJpHe1zw7gR5 AuX7NKwSaPFfFx/pTGUbyrh0tBIy+cgf8iwuYkeFWLo9QmnzCeSPuIJc6byybErlWiI8 0G3k4KvVrTmkucvXHHiiR3ocLu6X/opANq45fyYm8D9ZcwmNyv5kXmRlBIUTY6sho5oj CGFtEXc879rZadK2VL+qV/Ply7e3+G8vZl0S3RMy2KHRJWU+ptf2LkcGN8iMYp2+/60R ofTJIuJQR37PYUsGV9wdM7Y34/DElbGsmpMb70y6F8v31ZXZpVgy5fqA1CvzB0EieqFC 8Vzg== X-Gm-Message-State: AOJu0YzaURV7bfF5pjZUgp8FfWrUq56m5zzPyIlZz2+2l1oiVIemVOi8 aZNU21nwR1ivang/VW0QE+j1JRSyNH3N7DjaqGGZUGbixp6NT0m/8kGdKv+h5ocdUuWHi8Guj/A soCTgMt5q++jKXDiIBYU7UjzXX73FyCZ79OhT6zOZ5VETsiL8lSoTaDkNnK6G X-Gm-Gg: ASbGnctaFUrj8gEHXejMnrg1f6hMEr1A75N9yQQO48IhekymJ8JwuEoDg+WVCQ1J5D8 MvyLlUYqsd//HcsWP7xoHD5EBzp+g/AzNurS2ThqVhpvTpC2AL5NCFNbGZCzoqJGthasc0utM+a kGokdFwDRFs4ZUD9Shn5fuKZjpBxCKC/0IQU+pHDFsz0/nKNFOAZLfPqynNGm3MVjZbJ5peMP1k 9a64xk3j4pv7ySBn+dlDwG5w6bVvEigUCix3NojAHJgaA2kHWmibihLgBW44PBhoiRqFIA3rFr/ vU0I3Jw7B/dXUtrt1tgOrPUgu0GnhMFn+H96lufJO3jm/vVfPw== X-Google-Smtp-Source: AGHT+IGu7a3j7K20scCAxcTxbgW9oyz8rC/y0aaqX3+IZpsEPdC9LsR75R4EOIdolp/cc19w8cL6zWl8we/i X-Received: by 2002:a17:903:2342:b0:235:ea29:28e9 with SMTP id d9443c01a7336-23e25764c41mr357410285ad.38.1753120023865; Mon, 21 Jul 2025 10:47:03 -0700 (PDT) Received: from postal.iol.unh.edu (postal.iol.unh.edu. [2606:4100:3880:1234::84]) by smtp-relay.gmail.com with ESMTPS id d9443c01a7336-23e3b6d8a49sm4341205ad.89.2025.07.21.10.47.03 (version=TLS1_2 cipher=ECDHE-ECDSA-AES128-GCM-SHA256 bits=128/128); Mon, 21 Jul 2025 10:47:03 -0700 (PDT) X-Relaying-Domain: iol.unh.edu Date: Mon, 21 Jul 2025 10:47:03 -0700 (PDT) Message-ID: <687e7d17.170a0220.1538d8.6b2eSMTPIN_ADDED_MISSING@mx.google.com> Received: from [172.21.0.2] (unknown [172.18.0.240]) by postal.iol.unh.edu (Postfix) with ESMTP id 56D9D604D420; Mon, 21 Jul 2025 13:47:03 -0400 (EDT) Subject: |SUCCESS| pw155393-155394 [PATCH] [v4,3/3] drivers: enable drivers t From: dpdklab@iol.unh.edu To: Test Report Cc: dpdk-test-reports@iol.unh.edu In-Reply-To: <1753111484-27021-4-git-send-email-andremue@linux.microsoft.com> References: <1753111484-27021-4-git-send-email-andremue@linux.microsoft.com> Content-Type: text/plain X-BeenThere: test-report@dpdk.org X-Mailman-Version: 2.1.29 Precedence: list List-Id: automatic DPDK test reports List-Unsubscribe: , List-Archive: List-Post: List-Help: List-Subscribe: , Errors-To: test-report-bounces@dpdk.org Test-Label: iol-unit-arm64-testing Test-Status: SUCCESS http://dpdk.org/patch/155394 _Testing PASS_ Submitter: Andre Muezerie Date: Monday, July 21 2025 15:24:44 DPDK git baseline: Repo:dpdk Branch: master CommitID:2f4cd1b4dbaec6633da510da67c2213cfd2bd359 155393-155394 --> testing pass Upstream job id: Generic-Unit-Test-DPDK#356903 Test environment and result as below: +------------------------------+----------------+--------------+------------------------------+---------------------------+ | Environment | dpdk_unit_test | lpm_autotest | cryptodev_sw_snow3g_autotest | cryptodev_sw_zuc_autotest | +==============================+================+==============+==============================+===========================+ | Fedora Linux 40 | PASS | SKIPPED | SKIPPED | SKIPPED | +------------------------------+----------------+--------------+------------------------------+---------------------------+ | Fedora Linux 41 | PASS | SKIPPED | SKIPPED | SKIPPED | +------------------------------+----------------+--------------+------------------------------+---------------------------+ | CentOS Stream 10 | PASS | SKIPPED | SKIPPED | SKIPPED | +------------------------------+----------------+--------------+------------------------------+---------------------------+ | Debian GNU/Linux 12 | PASS | SKIPPED | SKIPPED | SKIPPED | +------------------------------+----------------+--------------+------------------------------+---------------------------+ | CentOS Stream 9 | PASS | SKIPPED | SKIPPED | SKIPPED | +------------------------------+----------------+--------------+------------------------------+---------------------------+ | Ubuntu 20.04 | PASS | PASS | SKIPPED | SKIPPED | +------------------------------+----------------+--------------+------------------------------+---------------------------+ | Red Hat Enterprise Linux 9.5 | PASS | SKIPPED | SKIPPED | SKIPPED | +------------------------------+----------------+--------------+------------------------------+---------------------------+ | Ubuntu 22.04 | PASS | SKIPPED | SKIPPED | SKIPPED | +------------------------------+----------------+--------------+------------------------------+---------------------------+ | Ubuntu 24.04 | PASS | SKIPPED | SKIPPED | SKIPPED | +------------------------------+----------------+--------------+------------------------------+---------------------------+ | Debian 12 (arm) | SKIPPED | SKIPPED | PASS | PASS | +------------------------------+----------------+--------------+------------------------------+---------------------------+ Fedora Linux 40 Kernel: 5.4 Compiler: clang gcc (GCC) 14.2.1 20240912 (Red Hat 14.2.1-3) Fedora Linux 41 Kernel: 5.4 Compiler: gcc gcc (GCC) 14.3.1 20250523 (Red Hat 14.3.1-1) CentOS Stream 10 Kernel: 5.4 Compiler: gcc gcc (GCC) 14.2.1 20250110 (Red Hat 14.2.1-8) Debian GNU/Linux 12 Kernel: 5.4 Compiler: gcc gcc (Debian 12.2.0-14+deb12u1) 12.2.0 CentOS Stream 9 Kernel: 5.4 Compiler: gcc gcc (GCC) 11.5.0 20240719 (Red Hat 11.5.0-7) Ubuntu 20.04 Kernel: 5.4 Compiler: gcc gcc (Ubuntu 9.4.0-1ubuntu1~20.04.2) 9.4.0 Red Hat Enterprise Linux 9.5 Kernel: 5.4 Compiler: gcc gcc (GCC) 11.5.0 20240719 (Red Hat 11.5.0-2) Ubuntu 22.04 Kernel: 5.4 Compiler: gcc gcc (Ubuntu 11.4.0-1ubuntu1~22.04) 11.4.0 Ubuntu 24.04 Kernel: 5.4 Compiler: gcc gcc (Ubuntu 13.3.0-6ubuntu2~24.04) 13.3.0 Debian 12 (arm) Kernel: Depends on container host Compiler: gcc (Debian 12.2.0-14) 12.2.0 To view detailed results, visit: https://lab.dpdk.org/results/dashboard/patchsets/33712/ UNH-IOL DPDK Community Lab To manage your email subscriptions, visit: https://lab.dpdk.org/results/dashboard/preferences/subscriptions/