From mboxrd@z Thu Jan 1 00:00:00 1970 Return-Path: Received: from mails.dpdk.org (mails.dpdk.org [217.70.189.124]) by inbox.dpdk.org (Postfix) with ESMTP id 56D5E46BDA for ; Mon, 21 Jul 2025 20:04:57 +0200 (CEST) Received: from mails.dpdk.org (localhost [127.0.0.1]) by mails.dpdk.org (Postfix) with ESMTP id 4823A4021E; Mon, 21 Jul 2025 20:04:57 +0200 (CEST) Received: from mail-oo1-f97.google.com (mail-oo1-f97.google.com [209.85.161.97]) by mails.dpdk.org (Postfix) with ESMTP id 32EB14021E for ; Mon, 21 Jul 2025 20:04:56 +0200 (CEST) Received: by mail-oo1-f97.google.com with SMTP id 006d021491bc7-615a007e2easo2319554eaf.1 for ; Mon, 21 Jul 2025 11:04:56 -0700 (PDT) DKIM-Signature: v=1; a=rsa-sha256; c=relaxed/relaxed; d=iol.unh.edu; s=unh-iol; t=1753121095; x=1753725895; darn=dpdk.org; h=references:in-reply-to:cc:to:from:subject:message-id:date:from:to :cc:subject:date:message-id:reply-to; bh=wzBhYpn8VPAdqUSEhv5h2p4XifGR/2pSB4gP+L9eYgU=; b=URXpZ4wYjB/eEgtUBvmyP5/01z4KdUEwtii49kK1xQeCwr54LeNUHJqVrnzjL+VO1d izdbxFjcwEOyGsDnHFD4aIWWCBzsNM8GuunI4dqXYWGprs+juiRO0HRk8SVS/gru2x2o dcXcz3DNYhjrXjvOcsl0Iv45SYDcUyX/M8JF0= X-Google-DKIM-Signature: v=1; a=rsa-sha256; c=relaxed/relaxed; d=1e100.net; s=20230601; t=1753121095; x=1753725895; h=references:in-reply-to:cc:to:from:subject:message-id:date :x-gm-message-state:from:to:cc:subject:date:message-id:reply-to; bh=wzBhYpn8VPAdqUSEhv5h2p4XifGR/2pSB4gP+L9eYgU=; b=iv3KpCWTrdNabo6zzWZ1UIlv1uYsdqmh2ytJJMYoi0Rdim/M6wP6gnwR0OVUKB2Y17 fG6ZI8ejv2sULtL990yfTEGhbEHypivIQXSTz2etkqdgF98jND/9/2RhGf9ha973Hj8h 0wrZmpmN+O/1LeyI9p63tB0fXbwvH9hBlttBTBMjyT2e1xaJNClmTTEvut1Ko4OCgdvV g97jPA0HT/chKY+wjYNZ5WfEvRge5zVlTausHsL+ZSOtMoYLbTsKXtZoTCvIP3d1sv7i vcP3xH47UWB9yf+x00MTbm8DmzL06Rs90/Fafq+wsTNTA1m+L0zsbtfCW4Dr8rcXJgWC yc4w== X-Gm-Message-State: AOJu0Ywe16/I2lPI48Xt0Wrhx4iYhZbC9wQhj1cJZCtsVWkL3Ax8Ww0u GvS0BkCQ5/A7BL4XAscTJ7iCTe8YqN/X+c/heKVgU3meBOLa2uDOWl+Ea6lzQ59ucYw+aA547/a DOBuR6IIvxvLiBdZyE2dG6yOlgMzc9CKs7cDyv4tWALlos6cSfbWKBJH6wol/ X-Gm-Gg: ASbGncvbjArK6Vm+5o5l5244rwbkfM6FDugSZF+Qdzc/7T0n15ctHMc4pRAOpkhm9fu pW6NYe+pbBmJKDVc7/Jx0onDswAS5Mdij60haVJ14UoJ8e6s5d+Gf9Dj71+EVYmHWX9YwnMWEaR VHIt2tVW/UQGaNA/e3+O3btlXN5uxofDivdP0F1gmnxNBTnS8lJA0rMUe7stXN4RlLKBdHA6Rcd I7ihGANPg2iQERkTPMwwqe+5ZfyVvNww4yISwV0H4lBloXCEfgS5QPJzfw14U5veoGIVZDq0AG1 2cLk+XW7yREKdcgRgH3G72PBxtamaxa30szUcW8OLg2gc1Vy1w== X-Google-Smtp-Source: AGHT+IGcuczfyOrHMpURxjguNsdMqfaEp1L4HpwCz7xayHLlLKGGYNy5LbnoplCkev22oAI0ZcGQpcSTiNUb X-Received: by 2002:a4a:ee1a:0:b0:615:b460:30fc with SMTP id 006d021491bc7-615b46032fbmr11578096eaf.0.1753121095314; Mon, 21 Jul 2025 11:04:55 -0700 (PDT) Received: from postal.iol.unh.edu (postal.iol.unh.edu. [2606:4100:3880:1234::84]) by smtp-relay.gmail.com with ESMTPS id 006d021491bc7-615bcc8d93esm97790eaf.18.2025.07.21.11.04.55 (version=TLS1_2 cipher=ECDHE-ECDSA-AES128-GCM-SHA256 bits=128/128); Mon, 21 Jul 2025 11:04:55 -0700 (PDT) X-Relaying-Domain: iol.unh.edu Date: Mon, 21 Jul 2025 11:04:55 -0700 (PDT) Message-ID: <687e8147.050a0220.f35c.5215SMTPIN_ADDED_MISSING@mx.google.com> Received: from [172.21.0.2] (unknown [172.18.0.240]) by postal.iol.unh.edu (Postfix) with ESMTP id CB231604D420; Mon, 21 Jul 2025 14:04:54 -0400 (EDT) Subject: |SUCCESS| pw155396 [PATCH] mailmap: keep only one name per contribut From: dpdklab@iol.unh.edu To: Test Report Cc: dpdk-test-reports@iol.unh.edu In-Reply-To: <20250721154403.2688034-1-david.marchand@redhat.com> References: <20250721154403.2688034-1-david.marchand@redhat.com> Content-Type: text/plain X-BeenThere: test-report@dpdk.org X-Mailman-Version: 2.1.29 Precedence: list List-Id: automatic DPDK test reports List-Unsubscribe: , List-Archive: List-Post: List-Help: List-Subscribe: , Errors-To: test-report-bounces@dpdk.org Test-Label: iol-unit-amd64-testing Test-Status: SUCCESS http://dpdk.org/patch/155396 _Testing PASS_ Submitter: David Marchand Date: Monday, July 21 2025 15:44:01 DPDK git baseline: Repo:dpdk Branch: master CommitID:2f4cd1b4dbaec6633da510da67c2213cfd2bd359 155396 --> testing pass Upstream job id: Generic-Unit-Test-DPDK#356943 Test environment and result as below: +-------------------------------+----------------+ | Environment | dpdk_unit_test | +===============================+================+ | CentOS Stream 9 | PASS | +-------------------------------+----------------+ | CentOS Stream 10 | PASS | +-------------------------------+----------------+ | Fedora Linux 41 | PASS | +-------------------------------+----------------+ | Debian GNU/Linux 12 | PASS | +-------------------------------+----------------+ | Fedora Linux 40 | PASS | +-------------------------------+----------------+ | Red Hat Enterprise Linux 8.10 | PASS | +-------------------------------+----------------+ | Ubuntu 20.04 | PASS | +-------------------------------+----------------+ | Red Hat Enterprise Linux 9.5 | PASS | +-------------------------------+----------------+ | Ubuntu 24.04 | PASS | +-------------------------------+----------------+ | Ubuntu 22.04 | PASS | +-------------------------------+----------------+ | Windows Server 2022 | PASS | +-------------------------------+----------------+ CentOS Stream 9 Kernel: 5.15 Compiler: gcc gcc (GCC) 11.5.0 20240719 (Red Hat 11.5.0-7) CentOS Stream 10 Kernel: 5.15 Compiler: gcc gcc (GCC) 14.2.1 20250110 (Red Hat 14.2.1-8) Fedora Linux 41 Kernel: 5.15 Compiler: gcc gcc (GCC) 14.3.1 20250523 (Red Hat 14.3.1-1) Debian GNU/Linux 12 Kernel: 5.15 Compiler: gcc gcc (Debian 12.2.0-14+deb12u1) 12.2.0 Fedora Linux 40 Kernel: 5.15 Compiler: gcc gcc (GCC) 14.2.1 20240912 (Red Hat 14.2.1-3) Red Hat Enterprise Linux 8.10 Kernel: 5.15 Compiler: gcc gcc (GCC) 8.5.0 20210514 (Red Hat 8.5.0-22) Ubuntu 20.04 Kernel: 5.15 Compiler: gcc gcc (Ubuntu 9.4.0-1ubuntu1~20.04.2) 9.4.0 Red Hat Enterprise Linux 9.5 Kernel: 5.15 Compiler: gcc gcc (GCC) 11.5.0 20240719 (Red Hat 11.5.0-2) Ubuntu 24.04 Kernel: 5.15 Compiler: gcc gcc (Ubuntu 13.3.0-6ubuntu2~24.04) 13.3.0 Ubuntu 22.04 Kernel: 5.15 Compiler: gcc gcc (Ubuntu 11.4.0-1ubuntu1~22.04) 11.4.0 Windows Server 2022 Kernel: 10.0.20348.2031 Compiler: clang 15.0.7, gcc 14.1.0 (MinGW), and MSVC VS 19.39.33521 To view detailed results, visit: https://lab.dpdk.org/results/dashboard/patchsets/33713/ UNH-IOL DPDK Community Lab To manage your email subscriptions, visit: https://lab.dpdk.org/results/dashboard/preferences/subscriptions/