From mboxrd@z Thu Jan 1 00:00:00 1970 Return-Path: Received: from mails.dpdk.org (mails.dpdk.org [217.70.189.124]) by inbox.dpdk.org (Postfix) with ESMTP id 2A32846BDA for ; Mon, 21 Jul 2025 20:12:03 +0200 (CEST) Received: from mails.dpdk.org (localhost [127.0.0.1]) by mails.dpdk.org (Postfix) with ESMTP id 1902B4021E; Mon, 21 Jul 2025 20:12:03 +0200 (CEST) Received: from mail-qv1-f98.google.com (mail-qv1-f98.google.com [209.85.219.98]) by mails.dpdk.org (Postfix) with ESMTP id AACB64021E for ; Mon, 21 Jul 2025 20:12:01 +0200 (CEST) Received: by mail-qv1-f98.google.com with SMTP id 6a1803df08f44-700c7e4c048so74580236d6.3 for ; Mon, 21 Jul 2025 11:12:01 -0700 (PDT) DKIM-Signature: v=1; a=rsa-sha256; c=relaxed/relaxed; d=iol.unh.edu; s=unh-iol; t=1753121521; x=1753726321; darn=dpdk.org; h=references:in-reply-to:cc:to:from:subject:message-id:date:from:to :cc:subject:date:message-id:reply-to; bh=EsB3d7bp7EVzonMw6HiZZlPwoGMXBxH4IEtvcWSS3d4=; b=P32Z4nKRZ49rNVoQ5JgixZLC80Scmxbst8kZODMF+aYq7Vcng8hQtIq426kmquTnNy C2vn3IQKUAna3zep23tEXhHbenjcYAbAsjJmokdNPvd+HhobiviTxtS5bTQCgEDX39g7 dp7qWG43vniuerEVpukWXl/H+z7Lw/mpXB33Y= X-Google-DKIM-Signature: v=1; a=rsa-sha256; c=relaxed/relaxed; d=1e100.net; s=20230601; t=1753121521; x=1753726321; h=references:in-reply-to:cc:to:from:subject:message-id:date :x-gm-message-state:from:to:cc:subject:date:message-id:reply-to; bh=EsB3d7bp7EVzonMw6HiZZlPwoGMXBxH4IEtvcWSS3d4=; b=e4Q/zkVoCIz0hppG1B3jGj4OncWMe9K2DloZmJEMexuA5OU/euOKUASBuIfnsa50Fx p0eDJgoxJTEhmUe79lgbo4jp+Prz2H0ZQ3zpiAq3azQGXEaC7hdi1qT/M8hNvZDDsXti CprLZbwuxxQuTaoLlcrQCszPCHH6apsWtzS6mFql1709++UimYakJI6o1wwHeB+Vg+t4 BRk+XVRnZB7Lxf3/iILK3dFu5piCS0p/9XrYLQpITZRrucol6O9kJbwFNxoZ6fktt1X0 DBvZmblepoY/8UdVWprUzsW+volN8yLOe5JlCai0LoY6xMpUuSxeS1dt0mvZkpoRb0xo wv/g== X-Gm-Message-State: AOJu0YzpqYJnfObL4CAemsD2rU1WK64BE8SQGbLNJXsWzZ+fJULdon86 XkpzotusG0IwcD3mpNCSeRzlj29iRQV5awoWtasWWyFEffKoJdQt83/M6lJLp3kBm2bR1Q+jUWn GVGRjWQD2GigcGbn3kFcj7VebTlbn700OXL8WQkF8v1H2 X-Gm-Gg: ASbGnctADUFcPKiKowDD0HOJu0BtCjy6Id7VU6dfntfMm5SD2MWX1ESSaldxAVa69Ui CrfurNIrfbYttXl9/o+GxHFvkTE74hp1MGfoN7Q/j3Dxck0fwcMUeXQicKc6taji4NgyZlCrjO7 NqlDCaE5GParBDF4Z1MO8moQJLbLyG58j1jLiLV0oHGasRFDcOeOT5M8ghZYuXnbyUC+w7acpNz qBw/CkYxnJwQ1piT+TMAd3GWVuLL8n9pxS9SsTchgx172SYJXJt62Yma07kwfx0owmlvJlSpoMe pQCfxuO4nV9ayKoraok/kB3OmaNTJyfdbpk58JBAbBDB/Yzw1HA6VLnGvI1P54PRnPRBm9yV X-Google-Smtp-Source: AGHT+IGPH5Edjly45MuFLrZ33XHt5M5saAGvs2d9ToAhr/JBtpJFE/GnNDuwQvoTDHHCkA3qdpFd2m5neIDl X-Received: by 2002:a05:6214:5b01:b0:6e8:ddf6:d11e with SMTP id 6a1803df08f44-7051a060f7bmr213540716d6.21.1753121520638; Mon, 21 Jul 2025 11:12:00 -0700 (PDT) Received: from postal.iol.unh.edu (postal.iol.unh.edu. [132.177.123.84]) by smtp-relay.gmail.com with ESMTPS id 6a1803df08f44-7051bd3e220sm4171046d6.46.2025.07.21.11.12.00 (version=TLS1_2 cipher=ECDHE-ECDSA-AES128-GCM-SHA256 bits=128/128); Mon, 21 Jul 2025 11:12:00 -0700 (PDT) X-Relaying-Domain: iol.unh.edu Date: Mon, 21 Jul 2025 11:12:00 -0700 (PDT) Message-ID: <687e82f0.050a0220.2080ab.4731SMTPIN_ADDED_MISSING@mx.google.com> Received: from [172.21.0.6] (unknown [172.18.0.240]) by postal.iol.unh.edu (Postfix) with ESMTP id 52080604D420; Mon, 21 Jul 2025 14:12:00 -0400 (EDT) Subject: |SUCCESS| pw155393-155394 [PATCH] [v4,3/3] drivers: enable drivers t From: dpdklab@iol.unh.edu To: Test Report Cc: dpdk-test-reports@iol.unh.edu In-Reply-To: <1753111484-27021-4-git-send-email-andremue@linux.microsoft.com> References: <1753111484-27021-4-git-send-email-andremue@linux.microsoft.com> Content-Type: text/plain X-BeenThere: test-report@dpdk.org X-Mailman-Version: 2.1.29 Precedence: list List-Id: automatic DPDK test reports List-Unsubscribe: , List-Archive: List-Post: List-Help: List-Subscribe: , Errors-To: test-report-bounces@dpdk.org Test-Label: iol-abi-testing Test-Status: SUCCESS http://dpdk.org/patch/155394 _Testing PASS_ Submitter: Andre Muezerie Date: Monday, July 21 2025 15:24:44 DPDK git baseline: Repo:dpdk Branch: master CommitID:2f4cd1b4dbaec6633da510da67c2213cfd2bd359 155393-155394 --> testing pass Upstream job id: Generic-DPDK-Compile-ABI#135106 Test environment and result as below: +-------------------------------+----------+ | Environment | abi_test | +===============================+==========+ | CentOS Stream 10 | PASS | +-------------------------------+----------+ | Fedora Linux 41 | PASS | +-------------------------------+----------+ | Fedora Linux 40 | PASS | +-------------------------------+----------+ | Debian GNU/Linux 12 | PASS | +-------------------------------+----------+ | openSUSE Leap 15.6 | PASS | +-------------------------------+----------+ | Ubuntu 24.04 | PASS | +-------------------------------+----------+ | Ubuntu 22.04 | PASS | +-------------------------------+----------+ | Red Hat Enterprise Linux 8.10 | PASS | +-------------------------------+----------+ | Red Hat Enterprise Linux 9.5 | PASS | +-------------------------------+----------+ | CentOS Stream 9 | PASS | +-------------------------------+----------+ CentOS Stream 10 Kernel: 5.15 Compiler: gcc gcc (GCC) 14.2.1 20250110 (Red Hat 14.2.1-8) Fedora Linux 41 Kernel: 5.15 Compiler: gcc gcc (GCC) 14.3.1 20250523 (Red Hat 14.3.1-1) Fedora Linux 40 Kernel: 5.15 Compiler: clang gcc (GCC) 14.2.1 20240912 (Red Hat 14.2.1-3) Debian GNU/Linux 12 Kernel: 5.15 Compiler: gcc gcc (Debian 12.2.0-14+deb12u1) 12.2.0 openSUSE Leap 15.6 Kernel: 5.15 Compiler: gcc gcc (SUSE Linux) 7.5.0 Ubuntu 24.04 Kernel: 5.15 Compiler: gcc gcc (Ubuntu 13.3.0-6ubuntu2~24.04) 13.3.0 Ubuntu 22.04 Kernel: 5.15 Compiler: gcc gcc (Ubuntu 11.4.0-1ubuntu1~22.04) 11.4.0 Red Hat Enterprise Linux 8.10 Kernel: 5.15 Compiler: gcc gcc (GCC) 8.5.0 20210514 (Red Hat 8.5.0-22) Red Hat Enterprise Linux 9.5 Kernel: 5.15 Compiler: gcc gcc (GCC) 11.5.0 20240719 (Red Hat 11.5.0-2) CentOS Stream 9 Kernel: 5.15 Compiler: gcc gcc (GCC) 11.5.0 20240719 (Red Hat 11.5.0-7) To view detailed results, visit: https://lab.dpdk.org/results/dashboard/patchsets/33712/ UNH-IOL DPDK Community Lab To manage your email subscriptions, visit: https://lab.dpdk.org/results/dashboard/preferences/subscriptions/