From mboxrd@z Thu Jan 1 00:00:00 1970 Return-Path: Received: from mails.dpdk.org (mails.dpdk.org [217.70.189.124]) by inbox.dpdk.org (Postfix) with ESMTP id AEDAD46BDA for ; Mon, 21 Jul 2025 20:12:39 +0200 (CEST) Received: from mails.dpdk.org (localhost [127.0.0.1]) by mails.dpdk.org (Postfix) with ESMTP id 9E9CD4021E; Mon, 21 Jul 2025 20:12:39 +0200 (CEST) Received: from mail-pf1-f227.google.com (mail-pf1-f227.google.com [209.85.210.227]) by mails.dpdk.org (Postfix) with ESMTP id 41CB44021E for ; Mon, 21 Jul 2025 20:12:38 +0200 (CEST) Received: by mail-pf1-f227.google.com with SMTP id d2e1a72fcca58-75001b1bd76so2885501b3a.2 for ; Mon, 21 Jul 2025 11:12:38 -0700 (PDT) DKIM-Signature: v=1; a=rsa-sha256; c=relaxed/relaxed; d=iol.unh.edu; s=unh-iol; t=1753121557; x=1753726357; darn=dpdk.org; h=references:in-reply-to:cc:to:from:subject:message-id:date:from:to :cc:subject:date:message-id:reply-to; bh=+A9WnK1OuDCAjW8IgerxYKs3knyit1NmHhqmAweSKzw=; b=faRIQ9nkRumR4RcRhkGAtpNiAWpqB1+bAm5pJbAdUd/58vE9debPNvN/QIzIRC+v4g PmvQvf/lDEbdIf+WeNztazg80iqH+BjD6fDFZCQdxAhOqOY/rvVt1xXDgEey8u8B2TgR dgt0SsrnmgOFIAI8VSe/z75c/DYfjNCtaWgMA= X-Google-DKIM-Signature: v=1; a=rsa-sha256; c=relaxed/relaxed; d=1e100.net; s=20230601; t=1753121557; x=1753726357; h=references:in-reply-to:cc:to:from:subject:message-id:date :x-gm-message-state:from:to:cc:subject:date:message-id:reply-to; bh=+A9WnK1OuDCAjW8IgerxYKs3knyit1NmHhqmAweSKzw=; b=M0AxkHYVWNohCUlWjHkecNglsovpoDKKVyakOqpGk4sPPFHRy1jRQUpLV6fGWbRiiK Y+iXnfV9bDAJCgVU/ou1/za2vdLCmX21ayHptJKEfaYSnY9vQMFmRFHOgdQQepTrzmiH w55TeQ3rE3yN+CThOirGO7LpxJmdb6c7mdX5ZasrWTAEOn3JbaWBfxmTkQBt0579gUpn ocuexRhZuuBTZrYnAy7dwrPLZ9uBozcdOMoTndrJKMlzLZFqKBdu1glzynEqY19I432Y vNcqa2Vg6p0DqEcLkg3JjsvAe4p+p1RVCpwjy/I0dIEIsUvCoKE3AT89zkPtkXc1rd3v z8kA== X-Gm-Message-State: AOJu0Yy6aQgCdD3n8w+/a3OhmiAlYXLEGOT74blmLi1OTuo63yY61tBE ulRPGvWziZN/klPnDN2HYIgzz/Eejn4Rbk6KWMW/ONE5Cj/Vhhd/SD2D4dh5sAwfy/KaSLKXmLl DPjzwLOvIuzzADXadC4cGHQRUE4RJsXG3sZmrOHFRY4lAPX1NJe4J3LvTnT82 X-Gm-Gg: ASbGnctpwxwqyfsaSZ0KcLuZCnLXEeiYRE1ji+eRD/4UkeEcnBq0A31wmnqgv6zIxcY JAuuDxr8UnwEHY+A4CfIZ0cegbuCNd3V9HFGyZqPbs00vNjQUZzGKQXJ3ohpwbqMV0f35+GOiKh WLJT0DiSB0LlrHByVj/lU7VytyFQrUq6JHcbfVt8nVbJ5HOQJqcsodQauKpu1TvV2INrEKA0GgR gbbQneQkhA10rn8Gtl23qxOQ9Z2xlGOuFUlbrBxuY2EEeggu6pKzJvrWrYIBYOFPfftFp0/Wd5x 5gN5zrzvRaBcXL6lQWytOxft4EfGj4RaX3LmKXGgs6z3+JJqoQ== X-Google-Smtp-Source: AGHT+IGZGJ7I9n5jjhCNaBbcvCfGCcYBxYngjwXPILw2eEgubbThbsG0jcLhynAZ40tyNcIkv+7xUSWf64vB X-Received: by 2002:a05:6a00:894:b0:73d:fa54:afb9 with SMTP id d2e1a72fcca58-75722b74bccmr29432477b3a.7.1753121557272; Mon, 21 Jul 2025 11:12:37 -0700 (PDT) Received: from postal.iol.unh.edu (postal.iol.unh.edu. [2606:4100:3880:1234::84]) by smtp-relay.gmail.com with ESMTPS id d2e1a72fcca58-759c5b0d2casm493130b3a.0.2025.07.21.11.12.37 (version=TLS1_2 cipher=ECDHE-ECDSA-AES128-GCM-SHA256 bits=128/128); Mon, 21 Jul 2025 11:12:37 -0700 (PDT) X-Relaying-Domain: iol.unh.edu Date: Mon, 21 Jul 2025 11:12:37 -0700 (PDT) Message-ID: <687e8315.050a0220.1f946c.8b37SMTPIN_ADDED_MISSING@mx.google.com> Received: from [172.21.0.4] (unknown [172.18.0.240]) by postal.iol.unh.edu (Postfix) with ESMTP id 7ADCD604D420; Mon, 21 Jul 2025 14:12:36 -0400 (EDT) Subject: |SUCCESS| pw155393-155394 [PATCH] [v4,3/3] drivers: enable drivers t From: dpdklab@iol.unh.edu To: Test Report Cc: dpdk-test-reports@iol.unh.edu In-Reply-To: <1753111484-27021-4-git-send-email-andremue@linux.microsoft.com> References: <1753111484-27021-4-git-send-email-andremue@linux.microsoft.com> Content-Type: text/plain X-BeenThere: test-report@dpdk.org X-Mailman-Version: 2.1.29 Precedence: list List-Id: automatic DPDK test reports List-Unsubscribe: , List-Archive: List-Post: List-Help: List-Subscribe: , Errors-To: test-report-bounces@dpdk.org Test-Label: iol-abi-testing Test-Status: SUCCESS http://dpdk.org/patch/155394 _Testing PASS_ Submitter: Andre Muezerie Date: Monday, July 21 2025 15:24:44 DPDK git baseline: Repo:dpdk Branch: master CommitID:2f4cd1b4dbaec6633da510da67c2213cfd2bd359 155393-155394 --> testing pass Upstream job id: Generic-DPDK-Compile-ABI#135111 Test environment and result as below: +-------------------------------+----------+ | Environment | abi_test | +===============================+==========+ | CentOS Stream 10 | PASS | +-------------------------------+----------+ | Fedora Linux 41 | PASS | +-------------------------------+----------+ | Fedora Linux 40 | PASS | +-------------------------------+----------+ | Debian GNU/Linux 12 | PASS | +-------------------------------+----------+ | openSUSE Leap 15.6 | PASS | +-------------------------------+----------+ | Ubuntu 24.04 | PASS | +-------------------------------+----------+ | Ubuntu 22.04 | PASS | +-------------------------------+----------+ | Red Hat Enterprise Linux 8.10 | PASS | +-------------------------------+----------+ | Red Hat Enterprise Linux 9.5 | PASS | +-------------------------------+----------+ | CentOS Stream 9 | PASS | +-------------------------------+----------+ CentOS Stream 10 Kernel: 5.15 Compiler: gcc gcc (GCC) 14.2.1 20250110 (Red Hat 14.2.1-8) Fedora Linux 41 Kernel: 5.15 Compiler: gcc gcc (GCC) 14.3.1 20250523 (Red Hat 14.3.1-1) Fedora Linux 40 Kernel: 5.15 Compiler: clang gcc (GCC) 14.2.1 20240912 (Red Hat 14.2.1-3) Debian GNU/Linux 12 Kernel: 5.15 Compiler: gcc gcc (Debian 12.2.0-14+deb12u1) 12.2.0 openSUSE Leap 15.6 Kernel: 5.15 Compiler: gcc gcc (SUSE Linux) 7.5.0 Ubuntu 24.04 Kernel: 5.15 Compiler: gcc gcc (Ubuntu 13.3.0-6ubuntu2~24.04) 13.3.0 Ubuntu 22.04 Kernel: 5.15 Compiler: gcc gcc (Ubuntu 11.4.0-1ubuntu1~22.04) 11.4.0 Red Hat Enterprise Linux 8.10 Kernel: 5.15 Compiler: gcc gcc (GCC) 8.5.0 20210514 (Red Hat 8.5.0-22) Red Hat Enterprise Linux 9.5 Kernel: 5.15 Compiler: gcc gcc (GCC) 11.5.0 20240719 (Red Hat 11.5.0-2) CentOS Stream 9 Kernel: 5.15 Compiler: gcc gcc (GCC) 11.5.0 20240719 (Red Hat 11.5.0-7) To view detailed results, visit: https://lab.dpdk.org/results/dashboard/patchsets/33712/ UNH-IOL DPDK Community Lab To manage your email subscriptions, visit: https://lab.dpdk.org/results/dashboard/preferences/subscriptions/