From mboxrd@z Thu Jan 1 00:00:00 1970 Return-Path: Received: from mails.dpdk.org (mails.dpdk.org [217.70.189.124]) by inbox.dpdk.org (Postfix) with ESMTP id CDCC846BDA for ; Mon, 21 Jul 2025 20:13:23 +0200 (CEST) Received: from mails.dpdk.org (localhost [127.0.0.1]) by mails.dpdk.org (Postfix) with ESMTP id C879D4021E; Mon, 21 Jul 2025 20:13:23 +0200 (CEST) Received: from mail-pl1-f227.google.com (mail-pl1-f227.google.com [209.85.214.227]) by mails.dpdk.org (Postfix) with ESMTP id 8353C4021E for ; Mon, 21 Jul 2025 20:13:22 +0200 (CEST) Received: by mail-pl1-f227.google.com with SMTP id d9443c01a7336-23526264386so42058875ad.2 for ; Mon, 21 Jul 2025 11:13:22 -0700 (PDT) DKIM-Signature: v=1; a=rsa-sha256; c=relaxed/relaxed; d=iol.unh.edu; s=unh-iol; t=1753121602; x=1753726402; darn=dpdk.org; h=references:in-reply-to:cc:to:from:subject:message-id:date:from:to :cc:subject:date:message-id:reply-to; bh=zha9VhR9rPhhHDnY2RTsVM6dCnTpNdrzWHPx0JvL59Y=; b=ca908AFuNHjijeemndcfYbjJtrBQRubvMOK9U3Vfbb8+wWTHUaHo2245kFakz4tlRa d3mznBAWysr8T0GssYxmLPDG8rFWrcyd4FzNGjaXuc3cM7VEUMyqVUj/mZZ9fApxu+QS Mlsmw+t5/KKQG8TBPndq6eTrXLJlcd04Wqs5A= X-Google-DKIM-Signature: v=1; a=rsa-sha256; c=relaxed/relaxed; d=1e100.net; s=20230601; t=1753121602; x=1753726402; h=references:in-reply-to:cc:to:from:subject:message-id:date :x-gm-message-state:from:to:cc:subject:date:message-id:reply-to; bh=zha9VhR9rPhhHDnY2RTsVM6dCnTpNdrzWHPx0JvL59Y=; b=FdyoWA60VwTirhZ3XNaJXIztk2gwF25lfPKoAIwPmcM93El06F/l0PGSjcROjwXLVm TrIkJx2ORq2nzVVkGu5ocZCNooR4rJYEkI/F4Q3MFeaYtCbrnCXnZdrTLiWPUoZxkMNN OeGeH/HSH5EV7HHK2KeRA69mT86V/gybavFtj3FpnmJyc5WSwMLxBT5MRPnbLYcwo31O xVKCW47Fn7pZSISDPmWEpSXj7u1gESPqISRJB6UVBpKUpSd+P3H/71tr0x3l5SjzIsJm mvNhr+oqq1r/AVYBYl0lL/epm4apAeUviWQHbnN+g7QgYAUN8rJc548MS3rvQL/g81Zb S5dw== X-Gm-Message-State: AOJu0YyiP0Ga2UqP5D+5iiD0xAxlqOIJpdIz6wb5TBAH5XKUfXNPtLA8 5u9HkWvdqNaZOjh5lOpCOaSv7j6HgCPniqeOlHYb6eVNC80bs8e+IN+NQxWSkcx6t6h3N9iIhMw wEcicQS8XzHavLHn0U2ZkgEiN2ed/dhQ50qM9gt+wwhy8 X-Gm-Gg: ASbGncs1t5O9haz4VMSA+X3TtWutszKOTZDdHOwDOm0DD6LN1QBWlzJrkSyDAA2AaSN Znc5RQ++R412TyvR3uJ5IMUXh6yNu64TGUiW7pgfLOG/qAvWFDr+O1BK2Zt2L/TRPLebKpfjFEk 64gBWvsP/onorNalFs0LelmPhNzi/c1cCCks1QAM9qg1K1tJ2awVeYM5n2jbEx912gZn0H8f01I VCli8dy8rt/h58XexxOULCNBpX6An5DSQPBSKmpUOyJtsm+/XqCmt5bUHRHb86K0lDD73HUPZi+ ReuN3Mq7EmPVZSOxKZQpQyfhRJZM08M34A3UkEeUdHSpii3xEgxLAw8FgPbEsIcSNqJiYqLy X-Google-Smtp-Source: AGHT+IH1y/ds75JsjlvOZpAVMua34TLiki3GC8ZQq0H/GpD364gRmjYBu4xVZxIXOykYss9F+Hz7UxUBiVAH X-Received: by 2002:a17:903:2f90:b0:23e:22dc:665c with SMTP id d9443c01a7336-23e25737dcbmr226621325ad.33.1753121601742; Mon, 21 Jul 2025 11:13:21 -0700 (PDT) Received: from postal.iol.unh.edu (postal.iol.unh.edu. [132.177.123.84]) by smtp-relay.gmail.com with ESMTPS id d9443c01a7336-23e3b5fff0bsm4621225ad.17.2025.07.21.11.13.21 (version=TLS1_2 cipher=ECDHE-ECDSA-AES128-GCM-SHA256 bits=128/128); Mon, 21 Jul 2025 11:13:21 -0700 (PDT) X-Relaying-Domain: iol.unh.edu Date: Mon, 21 Jul 2025 11:13:21 -0700 (PDT) Message-ID: <687e8341.170a0220.24488d.705eSMTPIN_ADDED_MISSING@mx.google.com> Received: from [172.21.0.3] (unknown [172.18.0.240]) by postal.iol.unh.edu (Postfix) with ESMTP id F41B0604D420; Mon, 21 Jul 2025 14:13:20 -0400 (EDT) Subject: |SUCCESS| pw155393-155394 [PATCH] [v4,3/3] drivers: enable drivers t From: dpdklab@iol.unh.edu To: Test Report Cc: dpdk-test-reports@iol.unh.edu In-Reply-To: <1753111484-27021-4-git-send-email-andremue@linux.microsoft.com> References: <1753111484-27021-4-git-send-email-andremue@linux.microsoft.com> Content-Type: text/plain X-BeenThere: test-report@dpdk.org X-Mailman-Version: 2.1.29 Precedence: list List-Id: automatic DPDK test reports List-Unsubscribe: , List-Archive: List-Post: List-Help: List-Subscribe: , Errors-To: test-report-bounces@dpdk.org Test-Label: iol-abi-testing Test-Status: SUCCESS http://dpdk.org/patch/155394 _Testing PASS_ Submitter: Andre Muezerie Date: Monday, July 21 2025 15:24:44 DPDK git baseline: Repo:dpdk Branch: master CommitID:2f4cd1b4dbaec6633da510da67c2213cfd2bd359 155393-155394 --> testing pass Upstream job id: Generic-DPDK-Compile-ABI#135110 Test environment and result as below: +-------------------------------+----------+ | Environment | abi_test | +===============================+==========+ | CentOS Stream 10 | PASS | +-------------------------------+----------+ | Fedora Linux 41 | PASS | +-------------------------------+----------+ | Fedora Linux 40 | PASS | +-------------------------------+----------+ | Debian GNU/Linux 12 | PASS | +-------------------------------+----------+ | openSUSE Leap 15.6 | PASS | +-------------------------------+----------+ | Ubuntu 24.04 | PASS | +-------------------------------+----------+ | Ubuntu 22.04 | PASS | +-------------------------------+----------+ | Red Hat Enterprise Linux 8.10 | PASS | +-------------------------------+----------+ | Red Hat Enterprise Linux 9.5 | PASS | +-------------------------------+----------+ | CentOS Stream 9 | PASS | +-------------------------------+----------+ CentOS Stream 10 Kernel: 5.15 Compiler: gcc gcc (GCC) 14.2.1 20250110 (Red Hat 14.2.1-8) Fedora Linux 41 Kernel: 5.15 Compiler: gcc gcc (GCC) 14.3.1 20250523 (Red Hat 14.3.1-1) Fedora Linux 40 Kernel: 5.15 Compiler: clang gcc (GCC) 14.2.1 20240912 (Red Hat 14.2.1-3) Debian GNU/Linux 12 Kernel: 5.15 Compiler: gcc gcc (Debian 12.2.0-14+deb12u1) 12.2.0 openSUSE Leap 15.6 Kernel: 5.15 Compiler: gcc gcc (SUSE Linux) 7.5.0 Ubuntu 24.04 Kernel: 5.15 Compiler: gcc gcc (Ubuntu 13.3.0-6ubuntu2~24.04) 13.3.0 Ubuntu 22.04 Kernel: 5.15 Compiler: gcc gcc (Ubuntu 11.4.0-1ubuntu1~22.04) 11.4.0 Red Hat Enterprise Linux 8.10 Kernel: 5.15 Compiler: gcc gcc (GCC) 8.5.0 20210514 (Red Hat 8.5.0-22) Red Hat Enterprise Linux 9.5 Kernel: 5.15 Compiler: gcc gcc (GCC) 11.5.0 20240719 (Red Hat 11.5.0-2) CentOS Stream 9 Kernel: 5.15 Compiler: gcc gcc (GCC) 11.5.0 20240719 (Red Hat 11.5.0-7) To view detailed results, visit: https://lab.dpdk.org/results/dashboard/patchsets/33712/ UNH-IOL DPDK Community Lab To manage your email subscriptions, visit: https://lab.dpdk.org/results/dashboard/preferences/subscriptions/