From mboxrd@z Thu Jan 1 00:00:00 1970 Return-Path: Received: from mails.dpdk.org (mails.dpdk.org [217.70.189.124]) by inbox.dpdk.org (Postfix) with ESMTP id D90FD46BDA for ; Mon, 21 Jul 2025 20:13:41 +0200 (CEST) Received: from mails.dpdk.org (localhost [127.0.0.1]) by mails.dpdk.org (Postfix) with ESMTP id D44844021E; Mon, 21 Jul 2025 20:13:41 +0200 (CEST) Received: from mail-qv1-f98.google.com (mail-qv1-f98.google.com [209.85.219.98]) by mails.dpdk.org (Postfix) with ESMTP id 54FC04021E for ; Mon, 21 Jul 2025 20:13:40 +0200 (CEST) Received: by mail-qv1-f98.google.com with SMTP id 6a1803df08f44-6fafd3cc8f9so60275246d6.3 for ; Mon, 21 Jul 2025 11:13:40 -0700 (PDT) DKIM-Signature: v=1; a=rsa-sha256; c=relaxed/relaxed; d=iol.unh.edu; s=unh-iol; t=1753121620; x=1753726420; darn=dpdk.org; h=references:in-reply-to:cc:to:from:subject:message-id:date:from:to :cc:subject:date:message-id:reply-to; bh=7CuP2+FTB43bEBvcZV5+pHXHbodLCoCXSoTioA52fxM=; b=j0PIaOlOaXnL6bocr5VJXKwerPY0lXOWCoEMnThtIBwLw2dTyxNqT7zcYB/CHMZyzY 6H7fXlXQaqzY3ZN7oGyJm5LDtNZGj12SokNeNnj6Ez8X/nqlg2OLi08Wc/DMSNhStFNc ogXmHQQAIAn5JosvjulGktd+5CZksVYngb9XI= X-Google-DKIM-Signature: v=1; a=rsa-sha256; c=relaxed/relaxed; d=1e100.net; s=20230601; t=1753121620; x=1753726420; h=references:in-reply-to:cc:to:from:subject:message-id:date :x-gm-message-state:from:to:cc:subject:date:message-id:reply-to; bh=7CuP2+FTB43bEBvcZV5+pHXHbodLCoCXSoTioA52fxM=; b=lfZMDAm7qjxice5D6jhWjhHgPunIuR/EkHxx4cgWH9g74s5qfCsdpglcadZ47rYLwE 8gKZ42s0mB/tZfRCE9Tm47cRfO0l64+HnW3UpKCtAnKodpzpAdH2KCd6cQ4qOuOr39lt FHkmSQ8RadOZKZ/m71IwCWIZS1XeUjAZ0z/n4JJflBFoGZd7MPirCgnILEFM/zOY7UbI nKWwrdQ4wVQlLlppL7o2i1jxzU6VsSJH4Z39kY5pt26PWwUJ0Tj/WcdFq1W4d3gO5HEI 4eYx6ow7xWpC91xxzwG8XBM/yCFLKPBrS1EzmHM14WQaqcyEvKSwrDKQY6QqrekKn1TX md3g== X-Gm-Message-State: AOJu0YwRL4PG3QbnftlRL7UjwAodOxCM9ibW553WW581AwsLA11DqAUw BQpAZjzTicuquhLmpCHw0XkLF/SEAn7bB1L0o5C37V96zPZeW+jxuOFhDKcT2YWoVfCcY97eLjX wlC2P1JKaNIyKFVGvzYL61iWlHBAbvaDakCvXJfFl1ITF X-Gm-Gg: ASbGncuDTi67Dt3XDftXgu/j6P+w0kVr5ZmuGe1/NVdFh7mpzZ6qRG2axEh5TOMGPYS lbt1BHy3z8ZHu4NBMsa2fJ0xm13dN9R/BBJ0P4As0S9ImxNOEsy6iWDMKEdXA2V0nDd3Pr9XdJj Rnm59/oU3MTHcaGkgQXBzVvxTPIloVLi/zky4i5lhkMBa+vk1HCgMffmR/oBRuesTFRenKVY5sD ku/3GmNBI0xJdpVbSv7UkSELewMHOy/LBjAQbB6r1oUo7w+nGQW4zSuUwMavf8Zz2Quu2dGXDV6 kjmXnC6quAaxi3QiI+W3xrwJz23SoaSllou1OS6APMj7I8VQwaljzVgVCI/xIzQZv520GPsH X-Google-Smtp-Source: AGHT+IGMwlZ1SWcg1dY73VDvHnwFSanB1RsPYaVL7sFBQRBW8n+iAcfJfFlrDPgwQXzDOyBqh/sWXFbrlFFc X-Received: by 2002:a05:6214:ac6:b0:704:f7d8:703a with SMTP id 6a1803df08f44-704f7d889a3mr296033356d6.46.1753121619662; Mon, 21 Jul 2025 11:13:39 -0700 (PDT) Received: from postal.iol.unh.edu (postal.iol.unh.edu. [132.177.123.84]) by smtp-relay.gmail.com with ESMTPS id 6a1803df08f44-7051ba79ec8sm4353866d6.25.2025.07.21.11.13.39 (version=TLS1_2 cipher=ECDHE-ECDSA-AES128-GCM-SHA256 bits=128/128); Mon, 21 Jul 2025 11:13:39 -0700 (PDT) X-Relaying-Domain: iol.unh.edu Date: Mon, 21 Jul 2025 11:13:39 -0700 (PDT) Message-ID: <687e8353.d40a0220.2d543c.6052SMTPIN_ADDED_MISSING@mx.google.com> Received: from [172.21.0.2] (unknown [172.18.0.240]) by postal.iol.unh.edu (Postfix) with ESMTP id 66877604D420; Mon, 21 Jul 2025 14:13:39 -0400 (EDT) Subject: |SUCCESS| pw155393-155394 [PATCH] [v4,3/3] drivers: enable drivers t From: dpdklab@iol.unh.edu To: Test Report Cc: dpdk-test-reports@iol.unh.edu In-Reply-To: <1753111484-27021-4-git-send-email-andremue@linux.microsoft.com> References: <1753111484-27021-4-git-send-email-andremue@linux.microsoft.com> Content-Type: text/plain X-BeenThere: test-report@dpdk.org X-Mailman-Version: 2.1.29 Precedence: list List-Id: automatic DPDK test reports List-Unsubscribe: , List-Archive: List-Post: List-Help: List-Subscribe: , Errors-To: test-report-bounces@dpdk.org Test-Label: iol-abi-testing Test-Status: SUCCESS http://dpdk.org/patch/155394 _Testing PASS_ Submitter: Andre Muezerie Date: Monday, July 21 2025 15:24:44 DPDK git baseline: Repo:dpdk Branch: master CommitID:2f4cd1b4dbaec6633da510da67c2213cfd2bd359 155393-155394 --> testing pass Upstream job id: Generic-DPDK-Compile-ABI#135108 Test environment and result as below: +-------------------------------+----------+ | Environment | abi_test | +===============================+==========+ | CentOS Stream 10 | PASS | +-------------------------------+----------+ | Fedora Linux 41 | PASS | +-------------------------------+----------+ | Fedora Linux 40 | PASS | +-------------------------------+----------+ | Debian GNU/Linux 12 | PASS | +-------------------------------+----------+ | openSUSE Leap 15.6 | PASS | +-------------------------------+----------+ | Ubuntu 24.04 | PASS | +-------------------------------+----------+ | Ubuntu 22.04 | PASS | +-------------------------------+----------+ | Red Hat Enterprise Linux 8.10 | PASS | +-------------------------------+----------+ | Red Hat Enterprise Linux 9.5 | PASS | +-------------------------------+----------+ | CentOS Stream 9 | PASS | +-------------------------------+----------+ CentOS Stream 10 Kernel: 5.15 Compiler: gcc gcc (GCC) 14.2.1 20250110 (Red Hat 14.2.1-8) Fedora Linux 41 Kernel: 5.15 Compiler: gcc gcc (GCC) 14.3.1 20250523 (Red Hat 14.3.1-1) Fedora Linux 40 Kernel: 5.15 Compiler: clang gcc (GCC) 14.2.1 20240912 (Red Hat 14.2.1-3) Debian GNU/Linux 12 Kernel: 5.15 Compiler: gcc gcc (Debian 12.2.0-14+deb12u1) 12.2.0 openSUSE Leap 15.6 Kernel: 5.15 Compiler: gcc gcc (SUSE Linux) 7.5.0 Ubuntu 24.04 Kernel: 5.15 Compiler: gcc gcc (Ubuntu 13.3.0-6ubuntu2~24.04) 13.3.0 Ubuntu 22.04 Kernel: 5.15 Compiler: gcc gcc (Ubuntu 11.4.0-1ubuntu1~22.04) 11.4.0 Red Hat Enterprise Linux 8.10 Kernel: 5.15 Compiler: gcc gcc (GCC) 8.5.0 20210514 (Red Hat 8.5.0-22) Red Hat Enterprise Linux 9.5 Kernel: 5.15 Compiler: gcc gcc (GCC) 11.5.0 20240719 (Red Hat 11.5.0-2) CentOS Stream 9 Kernel: 5.15 Compiler: gcc gcc (GCC) 11.5.0 20240719 (Red Hat 11.5.0-7) To view detailed results, visit: https://lab.dpdk.org/results/dashboard/patchsets/33712/ UNH-IOL DPDK Community Lab To manage your email subscriptions, visit: https://lab.dpdk.org/results/dashboard/preferences/subscriptions/