From mboxrd@z Thu Jan 1 00:00:00 1970 Return-Path: Received: from mails.dpdk.org (mails.dpdk.org [217.70.189.124]) by inbox.dpdk.org (Postfix) with ESMTP id 00AF546BDA for ; Mon, 21 Jul 2025 20:14:05 +0200 (CEST) Received: from mails.dpdk.org (localhost [127.0.0.1]) by mails.dpdk.org (Postfix) with ESMTP id EB8A04021E; Mon, 21 Jul 2025 20:14:05 +0200 (CEST) Received: from mail-pl1-f228.google.com (mail-pl1-f228.google.com [209.85.214.228]) by mails.dpdk.org (Postfix) with ESMTP id 0882B4021E for ; Mon, 21 Jul 2025 20:14:04 +0200 (CEST) Received: by mail-pl1-f228.google.com with SMTP id d9443c01a7336-235ef62066eso54206085ad.3 for ; Mon, 21 Jul 2025 11:14:03 -0700 (PDT) DKIM-Signature: v=1; a=rsa-sha256; c=relaxed/relaxed; d=iol.unh.edu; s=unh-iol; t=1753121643; x=1753726443; darn=dpdk.org; h=references:in-reply-to:cc:to:from:subject:message-id:date:from:to :cc:subject:date:message-id:reply-to; bh=qXThwBgoqa8RvcytgEwYNb0xQKxtDD+5Rz/S2axKLlE=; b=ABe1gGBypKbo3Vr9uwQPT1TPGnJpkeR4OvM4kkcG0NFKI+ExgqVEC4ZaAAUnA1Hrqv PYzLIbb4queK1DUNr5WLZkRHq2BqoB0LCxZbDQdQc5qBkqUs+qs5M7WQw2NgkFg6LUgu o8BZEJqdJxxnQntSBkVDZhhKtbgb9K8GhT2wI= X-Google-DKIM-Signature: v=1; a=rsa-sha256; c=relaxed/relaxed; d=1e100.net; s=20230601; t=1753121643; x=1753726443; h=references:in-reply-to:cc:to:from:subject:message-id:date :x-gm-message-state:from:to:cc:subject:date:message-id:reply-to; bh=qXThwBgoqa8RvcytgEwYNb0xQKxtDD+5Rz/S2axKLlE=; b=B/vKGgVigNrfIJpDzshNDqE/ot7dUQWOEtB8wOy0WijAxK4JU3AO8IXEnkwASOdB/0 RNSh//jBJP5loArX5Eu6eaEdSg4n6frYlwkILTzdYSqhm/dV5hjJ8+hnmfDWjlhHxWJK VjntA0+Jyv+HRXWJWb31SYJhXiu9uUGE+NeMQZK/nTG2G2tpyGEvWRfX9veLRl+5Liya BS0c12XYaX9KAGVDVymigyKmN+zJ/xNmFSFYe3gSP96bObLUOe0C5uDXmY54ytJqqeEW CEXeR+kLLd6xXRcDM/W2c+VthedlKyIOCU2jXPHrTDoRP824HqLG7A28zAptcEpxEsER FgRw== X-Gm-Message-State: AOJu0YxTsQb4VzAPgdydST7UvgcWH6TJPqmcdrwhNhKLdybv3Gf6x+ji CueWZn9Gum4VZdv63fSzAiPf2qeEr6HPHr9+fnB6jCU5DeWrd/rqgPcWNKbp6py12Boww6FDzz/ IVj6fuy97ofrFbT8/gmfvF/NNBdCYM5rx28HI3BUcVhi3Zid19NQfyagavAj7 X-Gm-Gg: ASbGncs+v096/DG4aKUlprMhvkMFlvQRz0IYiDgLypKEkRaknRvwFiOAmdHmvVS34to evyoBXeB/eR5XRHwASo4uMBoVnGxeyPPUHn/49Zcjit9nm+45GYuvT+h5hMi/RHJF/90YTSXDCI 7aeEe/T8oKNLK9Z1wk/gHtxawI4ZtJ+cXxiM1E8z3ZaOvbDUYN12xB+cXYC1/Hv6Gufk8R+x7LG 8lEmDD/J0/MoXra4okR81/VElc31SDHrImUQglX29CKBpH8LWXvlYdBO0BhZGOSf898SdqMa/ms b8ROmi65kM5abJUmKSD5EqUhLjWKwvzKOHr6K8oKhvncnfMzGA== X-Google-Smtp-Source: AGHT+IFJ3bobsGA3d7gB/1efKNp8LyZnrZrrL9GK1/6HZOz5+LLqv8YzTHvq2DPIjt6+cTHge1P/2s54aBkH X-Received: by 2002:a17:903:98b:b0:23c:863d:2989 with SMTP id d9443c01a7336-23e30281549mr247893965ad.3.1753121643074; Mon, 21 Jul 2025 11:14:03 -0700 (PDT) Received: from postal.iol.unh.edu (postal.iol.unh.edu. [2606:4100:3880:1234::84]) by smtp-relay.gmail.com with ESMTPS id d9443c01a7336-23e3b6b7837sm4503605ad.64.2025.07.21.11.14.02 (version=TLS1_2 cipher=ECDHE-ECDSA-AES128-GCM-SHA256 bits=128/128); Mon, 21 Jul 2025 11:14:03 -0700 (PDT) X-Relaying-Domain: iol.unh.edu Date: Mon, 21 Jul 2025 11:14:03 -0700 (PDT) Message-ID: <687e836b.170a0220.14190a.6507SMTPIN_ADDED_MISSING@mx.google.com> Received: from [172.21.0.4] (unknown [172.18.0.240]) by postal.iol.unh.edu (Postfix) with ESMTP id 927CF604D420; Mon, 21 Jul 2025 14:14:02 -0400 (EDT) Subject: |SUCCESS| pw155393-155394 [PATCH] [v4,3/3] drivers: enable drivers t From: dpdklab@iol.unh.edu To: Test Report Cc: dpdk-test-reports@iol.unh.edu In-Reply-To: <1753111484-27021-4-git-send-email-andremue@linux.microsoft.com> References: <1753111484-27021-4-git-send-email-andremue@linux.microsoft.com> Content-Type: text/plain X-BeenThere: test-report@dpdk.org X-Mailman-Version: 2.1.29 Precedence: list List-Id: automatic DPDK test reports List-Unsubscribe: , List-Archive: List-Post: List-Help: List-Subscribe: , Errors-To: test-report-bounces@dpdk.org Test-Label: iol-abi-testing Test-Status: SUCCESS http://dpdk.org/patch/155394 _Testing PASS_ Submitter: Andre Muezerie Date: Monday, July 21 2025 15:24:44 DPDK git baseline: Repo:dpdk Branch: master CommitID:2f4cd1b4dbaec6633da510da67c2213cfd2bd359 155393-155394 --> testing pass Upstream job id: Generic-DPDK-Compile-ABI#135101 Test environment and result as below: +-------------------------------+----------+ | Environment | abi_test | +===============================+==========+ | CentOS Stream 10 | PASS | +-------------------------------+----------+ | Fedora Linux 41 | PASS | +-------------------------------+----------+ | Fedora Linux 40 | PASS | +-------------------------------+----------+ | Debian GNU/Linux 12 | PASS | +-------------------------------+----------+ | openSUSE Leap 15.6 | PASS | +-------------------------------+----------+ | Ubuntu 24.04 | PASS | +-------------------------------+----------+ | Ubuntu 22.04 | PASS | +-------------------------------+----------+ | Red Hat Enterprise Linux 8.10 | PASS | +-------------------------------+----------+ | Red Hat Enterprise Linux 9.5 | PASS | +-------------------------------+----------+ | CentOS Stream 9 | PASS | +-------------------------------+----------+ CentOS Stream 10 Kernel: 5.15 Compiler: gcc gcc (GCC) 14.2.1 20250110 (Red Hat 14.2.1-8) Fedora Linux 41 Kernel: 5.15 Compiler: gcc gcc (GCC) 14.3.1 20250523 (Red Hat 14.3.1-1) Fedora Linux 40 Kernel: 5.15 Compiler: clang gcc (GCC) 14.2.1 20240912 (Red Hat 14.2.1-3) Debian GNU/Linux 12 Kernel: 5.15 Compiler: gcc gcc (Debian 12.2.0-14+deb12u1) 12.2.0 openSUSE Leap 15.6 Kernel: 5.15 Compiler: gcc gcc (SUSE Linux) 7.5.0 Ubuntu 24.04 Kernel: 5.15 Compiler: gcc gcc (Ubuntu 13.3.0-6ubuntu2~24.04) 13.3.0 Ubuntu 22.04 Kernel: 5.15 Compiler: gcc gcc (Ubuntu 11.4.0-1ubuntu1~22.04) 11.4.0 Red Hat Enterprise Linux 8.10 Kernel: 5.15 Compiler: gcc gcc (GCC) 8.5.0 20210514 (Red Hat 8.5.0-22) Red Hat Enterprise Linux 9.5 Kernel: 5.15 Compiler: gcc gcc (GCC) 11.5.0 20240719 (Red Hat 11.5.0-2) CentOS Stream 9 Kernel: 5.15 Compiler: gcc gcc (GCC) 11.5.0 20240719 (Red Hat 11.5.0-7) To view detailed results, visit: https://lab.dpdk.org/results/dashboard/patchsets/33712/ UNH-IOL DPDK Community Lab To manage your email subscriptions, visit: https://lab.dpdk.org/results/dashboard/preferences/subscriptions/