From mboxrd@z Thu Jan 1 00:00:00 1970 Return-Path: Received: from mails.dpdk.org (mails.dpdk.org [217.70.189.124]) by inbox.dpdk.org (Postfix) with ESMTP id 1C7C546BDA for ; Mon, 21 Jul 2025 20:14:39 +0200 (CEST) Received: from mails.dpdk.org (localhost [127.0.0.1]) by mails.dpdk.org (Postfix) with ESMTP id 1194C4021E; Mon, 21 Jul 2025 20:14:39 +0200 (CEST) Received: from mail-pl1-f226.google.com (mail-pl1-f226.google.com [209.85.214.226]) by mails.dpdk.org (Postfix) with ESMTP id D97804021E for ; Mon, 21 Jul 2025 20:14:37 +0200 (CEST) Received: by mail-pl1-f226.google.com with SMTP id d9443c01a7336-235f9ea8d08so38337435ad.1 for ; Mon, 21 Jul 2025 11:14:37 -0700 (PDT) DKIM-Signature: v=1; a=rsa-sha256; c=relaxed/relaxed; d=iol.unh.edu; s=unh-iol; t=1753121677; x=1753726477; darn=dpdk.org; h=references:in-reply-to:cc:to:from:subject:message-id:date:from:to :cc:subject:date:message-id:reply-to; bh=nS74zaora6QegRfyTd8FFfkaenu+LDnSEEgZAkLlLa8=; b=L/bFPvwa4ZyynpA+3XaNlohMdEE3EHZKV0pHhbB/AHJyrvyX5yVG0pfAKDT6TR6Cz3 MJAsTwFuqQovR3ln9ikgxSh3QWtUqWm5/KmE3IRSoA+UGxMICd35mRRUj7BXner/I+SX IgFFXcxTdPRuS6LmjZeViECE5dEbtNUc5B6YE= X-Google-DKIM-Signature: v=1; a=rsa-sha256; c=relaxed/relaxed; d=1e100.net; s=20230601; t=1753121677; x=1753726477; h=references:in-reply-to:cc:to:from:subject:message-id:date :x-gm-message-state:from:to:cc:subject:date:message-id:reply-to; bh=nS74zaora6QegRfyTd8FFfkaenu+LDnSEEgZAkLlLa8=; b=vHVBlZANWdzBLsm+k7AsPhpybLln+aN/JD3qxTynZoyfK8ghq9Tubumk5jCiC9vtqV h2g2UA4fY2e46mc+Q7tLEvzaxuNDtexuM0PEZL7uiaEtgjGBFTSqfeq2fMlm+wlSyiSk byNOVpygtEJHjnFkPOPMZsqsqOV9SrPRQ/B9e+9uZHuchopyvoVZCBcqhJ7hrW2ErOmK 0Gp5QMZRxcRzUSo14/zGqIi+JHSjnbKhvAzEQqfyos33YZNnNjytvY4dErckGwrliag5 THucx3Sw2CgoFJ2coYd42Qp202bur7LzILfZRsmBH13+7OtQuPn2EdOPJInb9rkWwx5r bemQ== X-Gm-Message-State: AOJu0Yz9918DOt4ZQ4bydluo2ZZD5E9BHKlEl7sVkCyiYDsxV7edXJ83 z8ONXyqv30iXmIjjOGtq3acbA0dOQomdODh2df8XeaIq6TDZX0EaZtL2GicTHnmFOtk6wPUbf0O a964cRX7PpwFgeSATKX4fcqBNlQJpxuCBDxehm7pDmetD X-Gm-Gg: ASbGncvY8Z1zp9QBGnAoFlItz/ZYlnQfRABJf6MFRRI3DnmxFZmQi8lFwRn+ZroeyQs N6WORbfD37ezjknxXXwh4U8FJlvAV9/PIeynfdwAhIrVVqHEBICOCk9g44t26jKbVGb3ogL4Z6x 0FjUp6WJqel+3RaM1lm9/XwYktAHz/bion13COeQJz/zgV1sv5/0vY7N71KTSJYHC9MtsPZAfQx rziGBc4EBOffydjcImu8tAFUlg9uYL4CcTGF9UF3wQHYt970W3UzA+1P7hdVyhFepyG0stx8uto lX3C5Z1QsF153k2OR8fMb+X7GEtye1EXReaM8xNsE7TFwhgurjWxY0vQ6PLwGyXZiJHAHViW X-Google-Smtp-Source: AGHT+IHTEVC7JMuaCl6V/yIVhRWPxoBzsCYWtQb6tdXGjZ5hAnesL96stFWnDxaVC3f+gte+eDwn8Bvk659g X-Received: by 2002:a17:903:3d0b:b0:234:11f9:a72b with SMTP id d9443c01a7336-23e24f94aeemr309749135ad.50.1753121677082; Mon, 21 Jul 2025 11:14:37 -0700 (PDT) Received: from postal.iol.unh.edu (postal.iol.unh.edu. [132.177.123.84]) by smtp-relay.gmail.com with ESMTPS id d9443c01a7336-23e3b631c5asm4475955ad.52.2025.07.21.11.14.36 (version=TLS1_2 cipher=ECDHE-ECDSA-AES128-GCM-SHA256 bits=128/128); Mon, 21 Jul 2025 11:14:37 -0700 (PDT) X-Relaying-Domain: iol.unh.edu Date: Mon, 21 Jul 2025 11:14:37 -0700 (PDT) Message-ID: <687e838d.170a0220.38b27.6c70SMTPIN_ADDED_MISSING@mx.google.com> Received: from [172.21.0.3] (unknown [172.18.0.240]) by postal.iol.unh.edu (Postfix) with ESMTP id 8CB78604D420; Mon, 21 Jul 2025 14:14:36 -0400 (EDT) Subject: |SUCCESS| pw155393-155394 [PATCH] [v4,3/3] drivers: enable drivers t From: dpdklab@iol.unh.edu To: Test Report Cc: dpdk-test-reports@iol.unh.edu In-Reply-To: <1753111484-27021-4-git-send-email-andremue@linux.microsoft.com> References: <1753111484-27021-4-git-send-email-andremue@linux.microsoft.com> Content-Type: text/plain X-BeenThere: test-report@dpdk.org X-Mailman-Version: 2.1.29 Precedence: list List-Id: automatic DPDK test reports List-Unsubscribe: , List-Archive: List-Post: List-Help: List-Subscribe: , Errors-To: test-report-bounces@dpdk.org Test-Label: iol-abi-testing Test-Status: SUCCESS http://dpdk.org/patch/155394 _Testing PASS_ Submitter: Andre Muezerie Date: Monday, July 21 2025 15:24:44 DPDK git baseline: Repo:dpdk Branch: master CommitID:2f4cd1b4dbaec6633da510da67c2213cfd2bd359 155393-155394 --> testing pass Upstream job id: Generic-DPDK-Compile-ABI#135103 Test environment and result as below: +-------------------------------+----------+ | Environment | abi_test | +===============================+==========+ | CentOS Stream 10 | PASS | +-------------------------------+----------+ | Fedora Linux 41 | PASS | +-------------------------------+----------+ | Fedora Linux 40 | PASS | +-------------------------------+----------+ | Debian GNU/Linux 12 | PASS | +-------------------------------+----------+ | openSUSE Leap 15.6 | PASS | +-------------------------------+----------+ | Ubuntu 24.04 | PASS | +-------------------------------+----------+ | Ubuntu 22.04 | PASS | +-------------------------------+----------+ | Red Hat Enterprise Linux 8.10 | PASS | +-------------------------------+----------+ | Red Hat Enterprise Linux 9.5 | PASS | +-------------------------------+----------+ | CentOS Stream 9 | PASS | +-------------------------------+----------+ CentOS Stream 10 Kernel: 5.15 Compiler: gcc gcc (GCC) 14.2.1 20250110 (Red Hat 14.2.1-8) Fedora Linux 41 Kernel: 5.15 Compiler: gcc gcc (GCC) 14.3.1 20250523 (Red Hat 14.3.1-1) Fedora Linux 40 Kernel: 5.15 Compiler: clang gcc (GCC) 14.2.1 20240912 (Red Hat 14.2.1-3) Debian GNU/Linux 12 Kernel: 5.15 Compiler: gcc gcc (Debian 12.2.0-14+deb12u1) 12.2.0 openSUSE Leap 15.6 Kernel: 5.15 Compiler: gcc gcc (SUSE Linux) 7.5.0 Ubuntu 24.04 Kernel: 5.15 Compiler: gcc gcc (Ubuntu 13.3.0-6ubuntu2~24.04) 13.3.0 Ubuntu 22.04 Kernel: 5.15 Compiler: gcc gcc (Ubuntu 11.4.0-1ubuntu1~22.04) 11.4.0 Red Hat Enterprise Linux 8.10 Kernel: 5.15 Compiler: gcc gcc (GCC) 8.5.0 20210514 (Red Hat 8.5.0-22) Red Hat Enterprise Linux 9.5 Kernel: 5.15 Compiler: gcc gcc (GCC) 11.5.0 20240719 (Red Hat 11.5.0-2) CentOS Stream 9 Kernel: 5.15 Compiler: gcc gcc (GCC) 11.5.0 20240719 (Red Hat 11.5.0-7) To view detailed results, visit: https://lab.dpdk.org/results/dashboard/patchsets/33712/ UNH-IOL DPDK Community Lab To manage your email subscriptions, visit: https://lab.dpdk.org/results/dashboard/preferences/subscriptions/