From mboxrd@z Thu Jan 1 00:00:00 1970 Return-Path: Received: from mails.dpdk.org (mails.dpdk.org [217.70.189.124]) by inbox.dpdk.org (Postfix) with ESMTP id 422B646BCD for ; Mon, 21 Jul 2025 20:15:21 +0200 (CEST) Received: from mails.dpdk.org (localhost [127.0.0.1]) by mails.dpdk.org (Postfix) with ESMTP id 332574021E; Mon, 21 Jul 2025 20:15:21 +0200 (CEST) Received: from mail-io1-f99.google.com (mail-io1-f99.google.com [209.85.166.99]) by mails.dpdk.org (Postfix) with ESMTP id E704A4021E for ; Mon, 21 Jul 2025 20:15:19 +0200 (CEST) Received: by mail-io1-f99.google.com with SMTP id ca18e2360f4ac-873501d2ca1so85614339f.2 for ; Mon, 21 Jul 2025 11:15:19 -0700 (PDT) DKIM-Signature: v=1; a=rsa-sha256; c=relaxed/relaxed; d=iol.unh.edu; s=unh-iol; t=1753121719; x=1753726519; darn=dpdk.org; h=references:in-reply-to:cc:to:from:subject:message-id:date:from:to :cc:subject:date:message-id:reply-to; bh=Xia6cOS9eD7IByyRvwAZv4k4Ew9HYqGei6NXnzn7hvE=; b=RAB4gmCvSiauLf+GQ4+WHtYUicZRIYn3wN7MVcMlVTyVbXIHW+S52seeoDLz5UDmS7 sW07rDn5hzK5JIIhesdzDsGrPlh8ZshoOrbhFDcJjGIptAtWZ4naeFt9U5QPyfU4uy9U LHNY15HdT1HG7ipO1iPfSfgW62WYsIhG8Vzto= X-Google-DKIM-Signature: v=1; a=rsa-sha256; c=relaxed/relaxed; d=1e100.net; s=20230601; t=1753121719; x=1753726519; h=references:in-reply-to:cc:to:from:subject:message-id:date :x-gm-message-state:from:to:cc:subject:date:message-id:reply-to; bh=Xia6cOS9eD7IByyRvwAZv4k4Ew9HYqGei6NXnzn7hvE=; b=aldZ90SFdfw1tng6idVp2E542PbwyTl4+b8xl9LRhO9QmMq1AX1rNtp7Pm8yg+KMsZ 3EpqOKPPHMYZ9EZYAkfzl0atiwOvVzWcq57/kVWDqREyW0OnAfmmg+f/vjynBgzP11Ua pIMhuS+p/Hxo7j37XchbyZcurs6lSo+17abXL9DmywtiNCDzzoQZCFSlnP0w72unGZ/t 9GngUQpelMlnbcQuC2+s1AqUKeOQtp9wsWSCORFdbtesAvfdnLCT2rQUzriyqJEgL9TD 1fg7RVaoyBGexyLU0Y8IJ/KnOPkGDb/sbpyNVEZ0U1frTT/xsfN8vbY6PncOijL/GFBT VyAQ== X-Gm-Message-State: AOJu0YxbIR65AeKPVoUt0N3lXyGxQxLcP1MZaEqc022oNBnCXQc+CEr4 lvMLpiuk4ccFnyMQq+T+9a17s0GAE1+TUJZkunuJ/yn8qIS8tY7UUDIwZklgWjfeQHOwBfnGG9Z X+xVmwKAjRiLJMOVaSUcQvWSgj78ejvhjRu7bya5/0IBg X-Gm-Gg: ASbGncvgYCk06JDvQ0N5F8lKT5/iHAQMlY2KonS1OzfKuNXaUEENiFmz2qbXVaxC3O9 jimBguEjEi8/CyaTDm+9TiBGkWMHimW3qQbwf0DR83QwLqrdw1PZP5G6OjxyZZV9qIPLzAAT/BF TqbdVAhZcMEn5tQ6NkWntmA6DIJyeASzd8qn0t5PdtAuklGmndeVz6EYCf4f1TSHOXp9aEFtnzm 7BYJv+9UtM3QWY4j4HzfMRbxMR5KBEwdNjR3QTC399iqKpV09muk70FOC6/E2e5fNC53GKBbXKk PsYcSBLUR4JUM5EUtI6Q3VXbrLeViAzjxjA3TbG4rdC+6DFkok6usaHDUNh3PF3r0zMFEeO6 X-Google-Smtp-Source: AGHT+IGur0nPn8nRwE7rSNvMHBfo9n+8Efyz20Aqn81JWAxdMPSWiXqZhjmPAWHe7von59PNNAJ5NcNQVc37 X-Received: by 2002:a05:6e02:3c05:b0:3e2:8c7a:30fa with SMTP id e9e14a558f8ab-3e28c7a3be2mr192427605ab.10.1753121718487; Mon, 21 Jul 2025 11:15:18 -0700 (PDT) Received: from postal.iol.unh.edu (postal.iol.unh.edu. [132.177.123.84]) by smtp-relay.gmail.com with ESMTPS id 8926c6da1cb9f-5084c7b0c5esm166977173.20.2025.07.21.11.15.18 (version=TLS1_2 cipher=ECDHE-ECDSA-AES128-GCM-SHA256 bits=128/128); Mon, 21 Jul 2025 11:15:18 -0700 (PDT) X-Relaying-Domain: iol.unh.edu Date: Mon, 21 Jul 2025 11:15:18 -0700 (PDT) Message-ID: <687e83b6.050a0220.302024.6814SMTPIN_ADDED_MISSING@mx.google.com> Received: from [172.21.0.4] (unknown [172.18.0.240]) by postal.iol.unh.edu (Postfix) with ESMTP id 22A10604D420; Mon, 21 Jul 2025 14:15:18 -0400 (EDT) Subject: |SUCCESS| pw155393-155394 [PATCH] [v4,3/3] drivers: enable drivers t From: dpdklab@iol.unh.edu To: Test Report Cc: dpdk-test-reports@iol.unh.edu In-Reply-To: <1753111484-27021-4-git-send-email-andremue@linux.microsoft.com> References: <1753111484-27021-4-git-send-email-andremue@linux.microsoft.com> Content-Type: text/plain X-BeenThere: test-report@dpdk.org X-Mailman-Version: 2.1.29 Precedence: list List-Id: automatic DPDK test reports List-Unsubscribe: , List-Archive: List-Post: List-Help: List-Subscribe: , Errors-To: test-report-bounces@dpdk.org Test-Label: iol-compile-amd64-testing Test-Status: SUCCESS http://dpdk.org/patch/155394 _Testing PASS_ Submitter: Andre Muezerie Date: Monday, July 21 2025 15:24:44 DPDK git baseline: Repo:dpdk Branch: master CommitID:2f4cd1b4dbaec6633da510da67c2213cfd2bd359 155393-155394 --> testing pass Upstream job id: Generic-DPDK-Compile-Meson#410555 Test environment and result as below: +-------------------------------+--------------------+-------------------+------------------+-------------------+-------------------------+----------------------+ | Environment | dpdk_meson_compile | dpdk_compile_spdk | dpdk_compile_ovs | dpdk_msvc_compile | dpdk_llvm_clang_compile | dpdk_mingw64_compile | +===============================+====================+===================+==================+===================+=========================+======================+ | CentOS Stream 10 | PASS | SKIPPED | SKIPPED | SKIPPED | SKIPPED | SKIPPED | +-------------------------------+--------------------+-------------------+------------------+-------------------+-------------------------+----------------------+ | CentOS Stream 9 | PASS | PASS | SKIPPED | SKIPPED | SKIPPED | SKIPPED | +-------------------------------+--------------------+-------------------+------------------+-------------------+-------------------------+----------------------+ | Red Hat Enterprise Linux 8.10 | PASS | SKIPPED | SKIPPED | SKIPPED | SKIPPED | SKIPPED | +-------------------------------+--------------------+-------------------+------------------+-------------------+-------------------------+----------------------+ | Fedora Linux 41 | PASS | PASS | PASS | SKIPPED | SKIPPED | SKIPPED | +-------------------------------+--------------------+-------------------+------------------+-------------------+-------------------------+----------------------+ | openSUSE Leap 15.6 | PASS | SKIPPED | SKIPPED | SKIPPED | SKIPPED | SKIPPED | +-------------------------------+--------------------+-------------------+------------------+-------------------+-------------------------+----------------------+ | Fedora Linux 40 | PASS | PASS | SKIPPED | SKIPPED | SKIPPED | SKIPPED | +-------------------------------+--------------------+-------------------+------------------+-------------------+-------------------------+----------------------+ | Debian GNU/Linux 12 | PASS | PASS | SKIPPED | SKIPPED | SKIPPED | SKIPPED | +-------------------------------+--------------------+-------------------+------------------+-------------------+-------------------------+----------------------+ | Ubuntu 24.04 | PASS | PASS | PASS | SKIPPED | SKIPPED | SKIPPED | +-------------------------------+--------------------+-------------------+------------------+-------------------+-------------------------+----------------------+ | Alpine Linux 3.22.0 | PASS | SKIPPED | SKIPPED | SKIPPED | SKIPPED | SKIPPED | +-------------------------------+--------------------+-------------------+------------------+-------------------+-------------------------+----------------------+ | Ubuntu 20.04 | PASS | SKIPPED | SKIPPED | SKIPPED | SKIPPED | SKIPPED | +-------------------------------+--------------------+-------------------+------------------+-------------------+-------------------------+----------------------+ | Ubuntu 22.04 | PASS | PASS | SKIPPED | SKIPPED | SKIPPED | SKIPPED | +-------------------------------+--------------------+-------------------+------------------+-------------------+-------------------------+----------------------+ | Red Hat Enterprise Linux 9.5 | PASS | SKIPPED | SKIPPED | SKIPPED | SKIPPED | SKIPPED | +-------------------------------+--------------------+-------------------+------------------+-------------------+-------------------------+----------------------+ | FreeBSD 14.2 | PASS | SKIPPED | SKIPPED | SKIPPED | SKIPPED | SKIPPED | +-------------------------------+--------------------+-------------------+------------------+-------------------+-------------------------+----------------------+ | Windows Server 2022 | SKIPPED | SKIPPED | SKIPPED | PASS | PASS | PASS | +-------------------------------+--------------------+-------------------+------------------+-------------------+-------------------------+----------------------+ CentOS Stream 10 Kernel: 5.15 Compiler: gcc gcc (GCC) 14.2.1 20250110 (Red Hat 14.2.1-8) CentOS Stream 9 Kernel: 5.15 Compiler: gcc gcc (GCC) 11.5.0 20240719 (Red Hat 11.5.0-7) Red Hat Enterprise Linux 8.10 Kernel: 5.15 Compiler: gcc gcc (GCC) 8.5.0 20210514 (Red Hat 8.5.0-22) Fedora Linux 41 Kernel: 5.15 Compiler: gcc gcc (GCC) 14.3.1 20250523 (Red Hat 14.3.1-1) openSUSE Leap 15.6 Kernel: 5.15 Compiler: gcc gcc (SUSE Linux) 7.5.0 Fedora Linux 40 Kernel: 5.15 Compiler: clang gcc (GCC) 14.2.1 20240912 (Red Hat 14.2.1-3) Debian GNU/Linux 12 Kernel: 5.15 Compiler: gcc gcc (Debian 12.2.0-14+deb12u1) 12.2.0 Ubuntu 24.04 Kernel: 5.15 Compiler: gcc gcc (Ubuntu 13.3.0-6ubuntu2~24.04) 13.3.0 Alpine Linux 3.22.0 Kernel: 5.15 Compiler: gcc gcc (Alpine 14.2.0) 14.2.0 Ubuntu 20.04 Kernel: 5.15 Compiler: gcc gcc (Ubuntu 9.4.0-1ubuntu1~20.04.2) 9.4.0 Ubuntu 22.04 Kernel: 5.15 Compiler: gcc gcc (Ubuntu 11.4.0-1ubuntu1~22.04) 11.4.0 Red Hat Enterprise Linux 9.5 Kernel: 5.15 Compiler: gcc gcc (GCC) 11.5.0 20240719 (Red Hat 11.5.0-2) FreeBSD 14.2 Kernel: 14.2-RELEASE Compiler: clang 18.1.6 Windows Server 2022 Kernel: 10.0.20348.2031 Compiler: clang 15.0.7, gcc 14.1.0 (MinGW), and MSVC VS 19.39.33521 To view detailed results, visit: https://lab.dpdk.org/results/dashboard/patchsets/33712/ UNH-IOL DPDK Community Lab To manage your email subscriptions, visit: https://lab.dpdk.org/results/dashboard/preferences/subscriptions/