From mboxrd@z Thu Jan 1 00:00:00 1970 Return-Path: Received: from mails.dpdk.org (mails.dpdk.org [217.70.189.124]) by inbox.dpdk.org (Postfix) with ESMTP id 559A246BCD for ; Mon, 21 Jul 2025 20:15:24 +0200 (CEST) Received: from mails.dpdk.org (localhost [127.0.0.1]) by mails.dpdk.org (Postfix) with ESMTP id 4D6604021E; Mon, 21 Jul 2025 20:15:24 +0200 (CEST) Received: from mail-io1-f99.google.com (mail-io1-f99.google.com [209.85.166.99]) by mails.dpdk.org (Postfix) with ESMTP id E84FF4021E for ; Mon, 21 Jul 2025 20:15:20 +0200 (CEST) Received: by mail-io1-f99.google.com with SMTP id ca18e2360f4ac-87c28e9e7ddso178163239f.1 for ; Mon, 21 Jul 2025 11:15:20 -0700 (PDT) DKIM-Signature: v=1; a=rsa-sha256; c=relaxed/relaxed; d=iol.unh.edu; s=unh-iol; t=1753121720; x=1753726520; darn=dpdk.org; h=references:in-reply-to:cc:to:from:subject:message-id:date:from:to :cc:subject:date:message-id:reply-to; bh=F7J4osngJq/5IzeUIMYkXWrIO6s2vqMoAITuFpTsHeA=; b=i0nV+HPSXlWeVnlHm0HHnx/QxiJpt18BNkv3FCm7LdIuOn6EYAhrs2cEADGN98d6el 219r9nmUo15fjsMexmEugDMt/qQMWxoBx87Lw99wBC5fIwTmmniIg0Ewu5k9keRGR6Lz AAmwdRob7T0cfn9McU8/y+C6J0lD5tokgcEU8= X-Google-DKIM-Signature: v=1; a=rsa-sha256; c=relaxed/relaxed; d=1e100.net; s=20230601; t=1753121720; x=1753726520; h=references:in-reply-to:cc:to:from:subject:message-id:date :x-gm-message-state:from:to:cc:subject:date:message-id:reply-to; bh=F7J4osngJq/5IzeUIMYkXWrIO6s2vqMoAITuFpTsHeA=; b=xMXNZ2JDdxeRrUYT1wr8+CTDd+iT8pmTOVD8rW5k7da49t00l5bSU8kSXF9DHjNeBw 1LLn+xLH1rCAzcYTa9vJ0MHwG3b4uR75GdJHsMkzk0uEBwJSZvbYEP9XKjj8aw9MwdEZ +jpsaKtU95QaJEGIiUGPNWQDBiXzy+kaQPqyyaUKj/AF8hRkiKIUB6mTly1FTlDJwdWj sfy/f9A67NMQxJMkdsJqE4qG7uh2arAXyfE14TDiDENybFAdube27LCcwfqy2m9YRJ8h KHvM9Fj8S1/J3chjH5Utz0YoLnh6hTSEa0g72HcTtt+oloA/wAz3UZ3DY2js3LROhxPV wNZw== X-Gm-Message-State: AOJu0Yx5DVOc7bdftoO6knxs/iITwHwsj7+uTeHuUk9bhYfBL5covni/ yQiNA2eISIRUpxinvQaAysv+8KUUMAUK81LaamuerkA+mJmmVBuMYrSpi6QiYBjOn2dGju5PwDL NoFm4FPOZOCsdq4PaOSejS6XM5gxZtdhZOawAM4mWmJ46 X-Gm-Gg: ASbGncuDbxC9MAA1JX621ipvrTccrfUDwzCRSLQ0TRB2Zz5oU0oqM1oUhkn/HIj+jCL lrRstpASjT+etHXhC458pNsoN/LccsvPMYrDkmLI2vHGAj6Nzm9nMsas30dbAyeMrKGVGJpcOm2 zUEtLiPmTAwAJrYZSU/edxw6zMH8W/AZv7ErRNLV+XZCksLJSCQ80q5mvSW60BaRbfPUgebgCRI hZ4katiWwb5AQ4D5ES0slvUabkRXxBUSUNvuqUJg54sDLGkBKI640VsfTvhwIyvphUWVFJAKazX tlsaB3DbGW/4DuzGVj1PDLYpdRnKUnavncwgoEvEWSFHo33AoXIC9R0sd1kJfbanDebwwdiy X-Google-Smtp-Source: AGHT+IHKxkv4SfI/chx4QCqbttTBmUoIkJ8uaMzr0qKkf6aPx2aiU3NlEecexF97rEPlgBCg50obYDGiTYky X-Received: by 2002:a05:6e02:4515:10b0:3df:2cb4:56cc with SMTP id e9e14a558f8ab-3e2822fcb2dmr181350615ab.4.1753121720168; Mon, 21 Jul 2025 11:15:20 -0700 (PDT) Received: from postal.iol.unh.edu (postal.iol.unh.edu. [132.177.123.84]) by smtp-relay.gmail.com with ESMTPS id 8926c6da1cb9f-5084c7b10a0sm381223173.19.2025.07.21.11.15.20 (version=TLS1_2 cipher=ECDHE-ECDSA-AES128-GCM-SHA256 bits=128/128); Mon, 21 Jul 2025 11:15:20 -0700 (PDT) X-Relaying-Domain: iol.unh.edu Date: Mon, 21 Jul 2025 11:15:20 -0700 (PDT) Message-ID: <687e83b8.050a0220.3837f1.3208SMTPIN_ADDED_MISSING@mx.google.com> Received: from [172.21.0.5] (unknown [172.18.0.240]) by postal.iol.unh.edu (Postfix) with ESMTP id A83DE604D420; Mon, 21 Jul 2025 14:15:19 -0400 (EDT) Subject: |SUCCESS| pw155393-155394 [PATCH] [v4,3/3] drivers: enable drivers t From: dpdklab@iol.unh.edu To: Test Report Cc: dpdk-test-reports@iol.unh.edu In-Reply-To: <1753111484-27021-4-git-send-email-andremue@linux.microsoft.com> References: <1753111484-27021-4-git-send-email-andremue@linux.microsoft.com> Content-Type: text/plain X-BeenThere: test-report@dpdk.org X-Mailman-Version: 2.1.29 Precedence: list List-Id: automatic DPDK test reports List-Unsubscribe: , List-Archive: List-Post: List-Help: List-Subscribe: , Errors-To: test-report-bounces@dpdk.org Test-Label: iol-compile-amd64-testing Test-Status: SUCCESS http://dpdk.org/patch/155394 _Testing PASS_ Submitter: Andre Muezerie Date: Monday, July 21 2025 15:24:44 DPDK git baseline: Repo:dpdk Branch: master CommitID:2f4cd1b4dbaec6633da510da67c2213cfd2bd359 155393-155394 --> testing pass Upstream job id: Generic-DPDK-Compile-Meson#410566 Test environment and result as below: +-------------------------------+--------------------+-------------------+------------------+-------------------+-------------------------+----------------------+ | Environment | dpdk_meson_compile | dpdk_compile_spdk | dpdk_compile_ovs | dpdk_msvc_compile | dpdk_llvm_clang_compile | dpdk_mingw64_compile | +===============================+====================+===================+==================+===================+=========================+======================+ | CentOS Stream 10 | PASS | SKIPPED | SKIPPED | SKIPPED | SKIPPED | SKIPPED | +-------------------------------+--------------------+-------------------+------------------+-------------------+-------------------------+----------------------+ | CentOS Stream 9 | PASS | PASS | SKIPPED | SKIPPED | SKIPPED | SKIPPED | +-------------------------------+--------------------+-------------------+------------------+-------------------+-------------------------+----------------------+ | Red Hat Enterprise Linux 8.10 | PASS | SKIPPED | SKIPPED | SKIPPED | SKIPPED | SKIPPED | +-------------------------------+--------------------+-------------------+------------------+-------------------+-------------------------+----------------------+ | Fedora Linux 41 | PASS | PASS | PASS | SKIPPED | SKIPPED | SKIPPED | +-------------------------------+--------------------+-------------------+------------------+-------------------+-------------------------+----------------------+ | openSUSE Leap 15.6 | PASS | SKIPPED | SKIPPED | SKIPPED | SKIPPED | SKIPPED | +-------------------------------+--------------------+-------------------+------------------+-------------------+-------------------------+----------------------+ | Fedora Linux 40 | PASS | PASS | SKIPPED | SKIPPED | SKIPPED | SKIPPED | +-------------------------------+--------------------+-------------------+------------------+-------------------+-------------------------+----------------------+ | Debian GNU/Linux 12 | PASS | PASS | SKIPPED | SKIPPED | SKIPPED | SKIPPED | +-------------------------------+--------------------+-------------------+------------------+-------------------+-------------------------+----------------------+ | Ubuntu 24.04 | PASS | PASS | PASS | SKIPPED | SKIPPED | SKIPPED | +-------------------------------+--------------------+-------------------+------------------+-------------------+-------------------------+----------------------+ | Alpine Linux 3.22.0 | PASS | SKIPPED | SKIPPED | SKIPPED | SKIPPED | SKIPPED | +-------------------------------+--------------------+-------------------+------------------+-------------------+-------------------------+----------------------+ | Ubuntu 20.04 | PASS | SKIPPED | SKIPPED | SKIPPED | SKIPPED | SKIPPED | +-------------------------------+--------------------+-------------------+------------------+-------------------+-------------------------+----------------------+ | Ubuntu 22.04 | PASS | PASS | SKIPPED | SKIPPED | SKIPPED | SKIPPED | +-------------------------------+--------------------+-------------------+------------------+-------------------+-------------------------+----------------------+ | Red Hat Enterprise Linux 9.5 | PASS | SKIPPED | SKIPPED | SKIPPED | SKIPPED | SKIPPED | +-------------------------------+--------------------+-------------------+------------------+-------------------+-------------------------+----------------------+ | FreeBSD 14.2 | PASS | SKIPPED | SKIPPED | SKIPPED | SKIPPED | SKIPPED | +-------------------------------+--------------------+-------------------+------------------+-------------------+-------------------------+----------------------+ | Windows Server 2022 | SKIPPED | SKIPPED | SKIPPED | PASS | PASS | PASS | +-------------------------------+--------------------+-------------------+------------------+-------------------+-------------------------+----------------------+ CentOS Stream 10 Kernel: 5.15 Compiler: gcc gcc (GCC) 14.2.1 20250110 (Red Hat 14.2.1-8) CentOS Stream 9 Kernel: 5.15 Compiler: gcc gcc (GCC) 11.5.0 20240719 (Red Hat 11.5.0-7) Red Hat Enterprise Linux 8.10 Kernel: 5.15 Compiler: gcc gcc (GCC) 8.5.0 20210514 (Red Hat 8.5.0-22) Fedora Linux 41 Kernel: 5.15 Compiler: gcc gcc (GCC) 14.3.1 20250523 (Red Hat 14.3.1-1) openSUSE Leap 15.6 Kernel: 5.15 Compiler: gcc gcc (SUSE Linux) 7.5.0 Fedora Linux 40 Kernel: 5.15 Compiler: clang gcc (GCC) 14.2.1 20240912 (Red Hat 14.2.1-3) Debian GNU/Linux 12 Kernel: 5.15 Compiler: gcc gcc (Debian 12.2.0-14+deb12u1) 12.2.0 Ubuntu 24.04 Kernel: 5.15 Compiler: gcc gcc (Ubuntu 13.3.0-6ubuntu2~24.04) 13.3.0 Alpine Linux 3.22.0 Kernel: 5.15 Compiler: gcc gcc (Alpine 14.2.0) 14.2.0 Ubuntu 20.04 Kernel: 5.15 Compiler: gcc gcc (Ubuntu 9.4.0-1ubuntu1~20.04.2) 9.4.0 Ubuntu 22.04 Kernel: 5.15 Compiler: gcc gcc (Ubuntu 11.4.0-1ubuntu1~22.04) 11.4.0 Red Hat Enterprise Linux 9.5 Kernel: 5.15 Compiler: gcc gcc (GCC) 11.5.0 20240719 (Red Hat 11.5.0-2) FreeBSD 14.2 Kernel: 14.2-RELEASE Compiler: clang 18.1.6 Windows Server 2022 Kernel: 10.0.20348.2031 Compiler: clang 15.0.7, gcc 14.1.0 (MinGW), and MSVC VS 19.39.33521 To view detailed results, visit: https://lab.dpdk.org/results/dashboard/patchsets/33712/ UNH-IOL DPDK Community Lab To manage your email subscriptions, visit: https://lab.dpdk.org/results/dashboard/preferences/subscriptions/