From mboxrd@z Thu Jan 1 00:00:00 1970 Return-Path: Received: from mails.dpdk.org (mails.dpdk.org [217.70.189.124]) by inbox.dpdk.org (Postfix) with ESMTP id 605D346BCD for ; Mon, 21 Jul 2025 20:15:28 +0200 (CEST) Received: from mails.dpdk.org (localhost [127.0.0.1]) by mails.dpdk.org (Postfix) with ESMTP id 5BE1F4021E; Mon, 21 Jul 2025 20:15:28 +0200 (CEST) Received: from mail-io1-f98.google.com (mail-io1-f98.google.com [209.85.166.98]) by mails.dpdk.org (Postfix) with ESMTP id BE00140654 for ; Mon, 21 Jul 2025 20:15:24 +0200 (CEST) Received: by mail-io1-f98.google.com with SMTP id ca18e2360f4ac-873501d2ca1so85617439f.2 for ; Mon, 21 Jul 2025 11:15:24 -0700 (PDT) DKIM-Signature: v=1; a=rsa-sha256; c=relaxed/relaxed; d=iol.unh.edu; s=unh-iol; t=1753121724; x=1753726524; darn=dpdk.org; h=references:in-reply-to:cc:to:from:subject:message-id:date:from:to :cc:subject:date:message-id:reply-to; bh=EdyNDlcdzOURrwbOqvoo5+NAzDqjUCyd6PUZvmjdPXc=; b=hgyqWfUNRUs9awxRNA0Ocqa+Yux6NCBfwNzb4mU5MnMk3zI9NO2NHzkZ0j+AvMgyQr /Kp4+Nnmv4WiuC9jteGxMkKCHhwSHvf8XTg869bHPF32mOYPkeK03mrk5qUQdJF6RVgu QjZkhQgBNO7CKC3Q2OX40TblL/fKMge5KKnAc= X-Google-DKIM-Signature: v=1; a=rsa-sha256; c=relaxed/relaxed; d=1e100.net; s=20230601; t=1753121724; x=1753726524; h=references:in-reply-to:cc:to:from:subject:message-id:date :x-gm-message-state:from:to:cc:subject:date:message-id:reply-to; bh=EdyNDlcdzOURrwbOqvoo5+NAzDqjUCyd6PUZvmjdPXc=; b=H1BRQbcopMEnRCMvNSdrAFqwoTYNOuTjMxQJ6dU6NRPgLuy7FSFzj4iB81wGCsIYpt ZEcqNIJfyrYLLmYEqw0KtV2sC2EM7hjF15Iz5TXvTpyTaCCTonm9U6sM+VOaAuw0oAGL SQhvALcgaqAHqdzkLk5rACOnFihnJfDTrcUYlreuCc4+4XXJXmTxvaFHNO/V5x22HpAO qM0F99TqHkAvreg0FjeraVVKk4Eixm7yzeW1Rlja8yk5DBucIUR7WaOQ0dYAHcGJ6OaE tfetHnmGvndP7UysZ6gtp73yfIYoUlx4hNJyoHKtYcPqAiHEQibFbJPI25zdp0ID2XEB HYXw== X-Gm-Message-State: AOJu0YxCVP3+wU4ZQKRz+lrBrREL1fbPgy4ymiK6rxK4UfsqLmx8vdOC J1ga64JKqLM7jD40SX2SsTf+C+XTZ7GiXPu1YMFEvgQYZv6v7EpAb/5ab6nFc6XoHVBTlhNI58x v9w5yY8MWKFqdNPRkhsyvGNlxlEwYQEYoW+0SjFIjsgngDz+mLi2/mkwxp4J2 X-Gm-Gg: ASbGncvROVHb3QMVloNrGJ51cvKFzryDdHGQ/E28Cmfl+ZjWvo+ji2LGMm1k83iRVHF Uh81MK5AFyw+eDDT+j4WxmSbsenF8rT/dovJlGYmyvF8ANaiFvv9BjSvtzdEIjUAQtKnWn4/C7v hEboxJo6XU2vPkCLtRLynzpQw9OhF1OPGO1Qok2x3gAXyOGsafqKM2y7nYxGfyyEu+ICitVaFCR IYhB2Onxa5hg8BlkgtIeETwpuBuYCv4fmlIg/BWtoaADU/CktjEf5lENHolktHcLU1PU5cBterG Flr4BipJtAjkC7TQbt1PtAaDH8Ig/dDjTr/gBwwLDmLgm8UR+A== X-Google-Smtp-Source: AGHT+IFcmqvjP6Jm1RD+URxhHk8TRuJSDoRoa2BN3AdcJ64tKaGbgul2NF01PES+tBAWzozvyz3EDBDBFo1c X-Received: by 2002:a05:6602:490f:b0:86c:efdb:6eb9 with SMTP id ca18e2360f4ac-879c29477d0mr1567743939f.10.1753121723919; Mon, 21 Jul 2025 11:15:23 -0700 (PDT) Received: from postal.iol.unh.edu (postal.iol.unh.edu. [2606:4100:3880:1234::84]) by smtp-relay.gmail.com with ESMTPS id 8926c6da1cb9f-5084c8f6ec2sm389908173.44.2025.07.21.11.15.23 (version=TLS1_2 cipher=ECDHE-ECDSA-AES128-GCM-SHA256 bits=128/128); Mon, 21 Jul 2025 11:15:23 -0700 (PDT) X-Relaying-Domain: iol.unh.edu Date: Mon, 21 Jul 2025 11:15:23 -0700 (PDT) Message-ID: <687e83bb.050a0220.5467c.3acaSMTPIN_ADDED_MISSING@mx.google.com> Received: from [172.21.0.2] (unknown [172.18.0.240]) by postal.iol.unh.edu (Postfix) with ESMTP id 6E8B2604D420; Mon, 21 Jul 2025 14:15:23 -0400 (EDT) Subject: |SUCCESS| pw155393-155394 [PATCH] [v4,3/3] drivers: enable drivers t From: dpdklab@iol.unh.edu To: Test Report Cc: dpdk-test-reports@iol.unh.edu In-Reply-To: <1753111484-27021-4-git-send-email-andremue@linux.microsoft.com> References: <1753111484-27021-4-git-send-email-andremue@linux.microsoft.com> Content-Type: text/plain X-BeenThere: test-report@dpdk.org X-Mailman-Version: 2.1.29 Precedence: list List-Id: automatic DPDK test reports List-Unsubscribe: , List-Archive: List-Post: List-Help: List-Subscribe: , Errors-To: test-report-bounces@dpdk.org Test-Label: iol-compile-amd64-testing Test-Status: SUCCESS http://dpdk.org/patch/155394 _Testing PASS_ Submitter: Andre Muezerie Date: Monday, July 21 2025 15:24:44 DPDK git baseline: Repo:dpdk Branch: master CommitID:2f4cd1b4dbaec6633da510da67c2213cfd2bd359 155393-155394 --> testing pass Upstream job id: Generic-DPDK-Compile-Meson#410554 Test environment and result as below: +-------------------------------+--------------------+-------------------+------------------+-------------------+-------------------------+----------------------+ | Environment | dpdk_meson_compile | dpdk_compile_spdk | dpdk_compile_ovs | dpdk_msvc_compile | dpdk_llvm_clang_compile | dpdk_mingw64_compile | +===============================+====================+===================+==================+===================+=========================+======================+ | CentOS Stream 10 | PASS | SKIPPED | SKIPPED | SKIPPED | SKIPPED | SKIPPED | +-------------------------------+--------------------+-------------------+------------------+-------------------+-------------------------+----------------------+ | CentOS Stream 9 | PASS | PASS | SKIPPED | SKIPPED | SKIPPED | SKIPPED | +-------------------------------+--------------------+-------------------+------------------+-------------------+-------------------------+----------------------+ | Red Hat Enterprise Linux 8.10 | PASS | SKIPPED | SKIPPED | SKIPPED | SKIPPED | SKIPPED | +-------------------------------+--------------------+-------------------+------------------+-------------------+-------------------------+----------------------+ | Fedora Linux 41 | PASS | PASS | PASS | SKIPPED | SKIPPED | SKIPPED | +-------------------------------+--------------------+-------------------+------------------+-------------------+-------------------------+----------------------+ | openSUSE Leap 15.6 | PASS | SKIPPED | SKIPPED | SKIPPED | SKIPPED | SKIPPED | +-------------------------------+--------------------+-------------------+------------------+-------------------+-------------------------+----------------------+ | Fedora Linux 40 | PASS | PASS | SKIPPED | SKIPPED | SKIPPED | SKIPPED | +-------------------------------+--------------------+-------------------+------------------+-------------------+-------------------------+----------------------+ | Debian GNU/Linux 12 | PASS | PASS | SKIPPED | SKIPPED | SKIPPED | SKIPPED | +-------------------------------+--------------------+-------------------+------------------+-------------------+-------------------------+----------------------+ | Ubuntu 24.04 | PASS | PASS | PASS | SKIPPED | SKIPPED | SKIPPED | +-------------------------------+--------------------+-------------------+------------------+-------------------+-------------------------+----------------------+ | Alpine Linux 3.22.0 | PASS | SKIPPED | SKIPPED | SKIPPED | SKIPPED | SKIPPED | +-------------------------------+--------------------+-------------------+------------------+-------------------+-------------------------+----------------------+ | Ubuntu 20.04 | PASS | SKIPPED | SKIPPED | SKIPPED | SKIPPED | SKIPPED | +-------------------------------+--------------------+-------------------+------------------+-------------------+-------------------------+----------------------+ | Ubuntu 22.04 | PASS | PASS | SKIPPED | SKIPPED | SKIPPED | SKIPPED | +-------------------------------+--------------------+-------------------+------------------+-------------------+-------------------------+----------------------+ | Red Hat Enterprise Linux 9.5 | PASS | SKIPPED | SKIPPED | SKIPPED | SKIPPED | SKIPPED | +-------------------------------+--------------------+-------------------+------------------+-------------------+-------------------------+----------------------+ | FreeBSD 14.2 | PASS | SKIPPED | SKIPPED | SKIPPED | SKIPPED | SKIPPED | +-------------------------------+--------------------+-------------------+------------------+-------------------+-------------------------+----------------------+ | Windows Server 2022 | SKIPPED | SKIPPED | SKIPPED | PASS | PASS | PASS | +-------------------------------+--------------------+-------------------+------------------+-------------------+-------------------------+----------------------+ CentOS Stream 10 Kernel: 5.15 Compiler: gcc gcc (GCC) 14.2.1 20250110 (Red Hat 14.2.1-8) CentOS Stream 9 Kernel: 5.15 Compiler: gcc gcc (GCC) 11.5.0 20240719 (Red Hat 11.5.0-7) Red Hat Enterprise Linux 8.10 Kernel: 5.15 Compiler: gcc gcc (GCC) 8.5.0 20210514 (Red Hat 8.5.0-22) Fedora Linux 41 Kernel: 5.15 Compiler: gcc gcc (GCC) 14.3.1 20250523 (Red Hat 14.3.1-1) openSUSE Leap 15.6 Kernel: 5.15 Compiler: gcc gcc (SUSE Linux) 7.5.0 Fedora Linux 40 Kernel: 5.15 Compiler: clang gcc (GCC) 14.2.1 20240912 (Red Hat 14.2.1-3) Debian GNU/Linux 12 Kernel: 5.15 Compiler: gcc gcc (Debian 12.2.0-14+deb12u1) 12.2.0 Ubuntu 24.04 Kernel: 5.15 Compiler: gcc gcc (Ubuntu 13.3.0-6ubuntu2~24.04) 13.3.0 Alpine Linux 3.22.0 Kernel: 5.15 Compiler: gcc gcc (Alpine 14.2.0) 14.2.0 Ubuntu 20.04 Kernel: 5.15 Compiler: gcc gcc (Ubuntu 9.4.0-1ubuntu1~20.04.2) 9.4.0 Ubuntu 22.04 Kernel: 5.15 Compiler: gcc gcc (Ubuntu 11.4.0-1ubuntu1~22.04) 11.4.0 Red Hat Enterprise Linux 9.5 Kernel: 5.15 Compiler: gcc gcc (GCC) 11.5.0 20240719 (Red Hat 11.5.0-2) FreeBSD 14.2 Kernel: 14.2-RELEASE Compiler: clang 18.1.6 Windows Server 2022 Kernel: 10.0.20348.2031 Compiler: clang 15.0.7, gcc 14.1.0 (MinGW), and MSVC VS 19.39.33521 To view detailed results, visit: https://lab.dpdk.org/results/dashboard/patchsets/33712/ UNH-IOL DPDK Community Lab To manage your email subscriptions, visit: https://lab.dpdk.org/results/dashboard/preferences/subscriptions/