From mboxrd@z Thu Jan 1 00:00:00 1970 Return-Path: Received: from mails.dpdk.org (mails.dpdk.org [217.70.189.124]) by inbox.dpdk.org (Postfix) with ESMTP id 9E8F246BDA for ; Mon, 21 Jul 2025 20:16:04 +0200 (CEST) Received: from mails.dpdk.org (localhost [127.0.0.1]) by mails.dpdk.org (Postfix) with ESMTP id 938824021E; Mon, 21 Jul 2025 20:16:04 +0200 (CEST) Received: from mail-yb1-f228.google.com (mail-yb1-f228.google.com [209.85.219.228]) by mails.dpdk.org (Postfix) with ESMTP id ABDFE4021E for ; Mon, 21 Jul 2025 20:16:03 +0200 (CEST) Received: by mail-yb1-f228.google.com with SMTP id 3f1490d57ef6-e8986a25cbfso3191767276.0 for ; Mon, 21 Jul 2025 11:16:03 -0700 (PDT) DKIM-Signature: v=1; a=rsa-sha256; c=relaxed/relaxed; d=iol.unh.edu; s=unh-iol; t=1753121763; x=1753726563; darn=dpdk.org; h=references:in-reply-to:cc:to:from:subject:message-id:date:from:to :cc:subject:date:message-id:reply-to; bh=vUeOcagovBtXL1V+y3yLdij8VPEDFu7J7MYn8Ncabk0=; b=ikv/898T3oNrP2SWCgSb7ehWhsl00v5b/7elyXFZZUcHfQ5FwPkgpPMcrtqrDcfRrf r2RcwEozNqjvu2Ovw9H7GGGTEILR5TD1PM0Kh3c+UXEUH/BjL89O9b6VeTU4/13ZgJYG j0lNtI5wwfLbumZNTUV3WVAMVeG91k8vKms6Q= X-Google-DKIM-Signature: v=1; a=rsa-sha256; c=relaxed/relaxed; d=1e100.net; s=20230601; t=1753121763; x=1753726563; h=references:in-reply-to:cc:to:from:subject:message-id:date :x-gm-message-state:from:to:cc:subject:date:message-id:reply-to; bh=vUeOcagovBtXL1V+y3yLdij8VPEDFu7J7MYn8Ncabk0=; b=Ap0MWhn0sJlYJkRLXFoCYKebTwJYH/K5dYg57c0i5+e5KFri1EgElPDgtv7qbVVrSf E/N7iT1dYq5pHZTRBX5Kpkh9YdD1w4v7YIOr94Pji9Cy3E6vbNAGq9ulU9A675KyziCf vOf79KqZhbmf2JgRtyqPizY+OAqxFfwkbNymtJnI1Tk9qCQZm27DhXMZ+b5cMiAFGq2r 1oUTYtfKJ1XwHC1JayvXK7okfd3NJtQSnZGPBC8BsfKI7/cLsuNfXbN1TD4eiWGLpwFj hNN9yEevkXj3A7MNvF6BV1pMzAr0rrTUWaUGO2KKlolOqCSZ2MTQZV7ZTjl69+fO1N3i tlfw== X-Gm-Message-State: AOJu0Yz8tNQvkrUsoPqz4F0I28B0jBqKBOBmMjymf90lct7bF5Iv86A8 dAuQ9GB+4/Bcjn4dF5TDU7MDMLr+bF8GvoomUI3pz6vXIcM8h0QAVny+qIBpMpV5rM4eXfhQ11P EYql0JGsUIcV5ykXU6hH0HFRdVAgysgqdf+be/bT2zaMlYYgLZVpHddGCZQEj X-Gm-Gg: ASbGncsFOLf2R14l6OYzGFbwtcoyK+7vejI5YAYpn/93sWdNsJczsrGBIk0UroWepud hqU6smggaINyk+CiCQ9LNSwUOGSCYjo+lwWTwQ7fiaoql0Qh/T7aXBnIsydYNuyiOreMKfIn0iM 0EwjblAXJ60TDzlAYB1ZZuYPSZkDtJpkLhJc1NkYcfKRUHUJoc3z1HKQPbn4kL2lKqSPpfajDwi 3tVx/2NVodJ6YZPt+PzJLaJMQEMcqKXGlxZHjtTDQzsi/km7/yeMOYITo8J7ppd6BSN8xYDRL5z KwbO5tQDtixyrym7uyhLArI1IRUClxsitz5fPGCzg+wYehFFpw== X-Google-Smtp-Source: AGHT+IGjfbAfhk3WeMPfRqx7jjDoyZc5/U81LcjAEo44Jn6QnmcmW316fGajFowL+Q5yOgdDMY/BLf0F2lpa X-Received: by 2002:a05:6902:1104:b0:e87:a83d:9448 with SMTP id 3f1490d57ef6-e8bc261d8dfmr21850535276.29.1753121762775; Mon, 21 Jul 2025 11:16:02 -0700 (PDT) Received: from postal.iol.unh.edu (postal.iol.unh.edu. [2606:4100:3880:1234::84]) by smtp-relay.gmail.com with ESMTPS id 3f1490d57ef6-e8d7cc0f1fbsm464567276.2.2025.07.21.11.16.02 (version=TLS1_2 cipher=ECDHE-ECDSA-AES128-GCM-SHA256 bits=128/128); Mon, 21 Jul 2025 11:16:02 -0700 (PDT) X-Relaying-Domain: iol.unh.edu Date: Mon, 21 Jul 2025 11:16:02 -0700 (PDT) Message-ID: <687e83e2.050a0220.1f2e4b.77b9SMTPIN_ADDED_MISSING@mx.google.com> Received: from [172.21.0.3] (unknown [172.18.0.240]) by postal.iol.unh.edu (Postfix) with ESMTP id 6F674604D420; Mon, 21 Jul 2025 14:16:02 -0400 (EDT) Subject: |SUCCESS| pw155393-155394 [PATCH] [v4,3/3] drivers: enable drivers t From: dpdklab@iol.unh.edu To: Test Report Cc: dpdk-test-reports@iol.unh.edu In-Reply-To: <1753111484-27021-4-git-send-email-andremue@linux.microsoft.com> References: <1753111484-27021-4-git-send-email-andremue@linux.microsoft.com> Content-Type: text/plain X-BeenThere: test-report@dpdk.org X-Mailman-Version: 2.1.29 Precedence: list List-Id: automatic DPDK test reports List-Unsubscribe: , List-Archive: List-Post: List-Help: List-Subscribe: , Errors-To: test-report-bounces@dpdk.org Test-Label: iol-compile-amd64-testing Test-Status: SUCCESS http://dpdk.org/patch/155394 _Testing PASS_ Submitter: Andre Muezerie Date: Monday, July 21 2025 15:24:44 DPDK git baseline: Repo:dpdk Branch: master CommitID:2f4cd1b4dbaec6633da510da67c2213cfd2bd359 155393-155394 --> testing pass Upstream job id: Generic-DPDK-Compile-Meson#410564 Test environment and result as below: +-------------------------------+--------------------+-------------------+------------------+-------------------+-------------------------+----------------------+ | Environment | dpdk_meson_compile | dpdk_compile_spdk | dpdk_compile_ovs | dpdk_msvc_compile | dpdk_llvm_clang_compile | dpdk_mingw64_compile | +===============================+====================+===================+==================+===================+=========================+======================+ | CentOS Stream 10 | PASS | SKIPPED | SKIPPED | SKIPPED | SKIPPED | SKIPPED | +-------------------------------+--------------------+-------------------+------------------+-------------------+-------------------------+----------------------+ | CentOS Stream 9 | PASS | PASS | SKIPPED | SKIPPED | SKIPPED | SKIPPED | +-------------------------------+--------------------+-------------------+------------------+-------------------+-------------------------+----------------------+ | Red Hat Enterprise Linux 8.10 | PASS | SKIPPED | SKIPPED | SKIPPED | SKIPPED | SKIPPED | +-------------------------------+--------------------+-------------------+------------------+-------------------+-------------------------+----------------------+ | Fedora Linux 41 | PASS | PASS | PASS | SKIPPED | SKIPPED | SKIPPED | +-------------------------------+--------------------+-------------------+------------------+-------------------+-------------------------+----------------------+ | openSUSE Leap 15.6 | PASS | SKIPPED | SKIPPED | SKIPPED | SKIPPED | SKIPPED | +-------------------------------+--------------------+-------------------+------------------+-------------------+-------------------------+----------------------+ | Fedora Linux 40 | PASS | PASS | SKIPPED | SKIPPED | SKIPPED | SKIPPED | +-------------------------------+--------------------+-------------------+------------------+-------------------+-------------------------+----------------------+ | Debian GNU/Linux 12 | PASS | PASS | SKIPPED | SKIPPED | SKIPPED | SKIPPED | +-------------------------------+--------------------+-------------------+------------------+-------------------+-------------------------+----------------------+ | Ubuntu 24.04 | PASS | PASS | PASS | SKIPPED | SKIPPED | SKIPPED | +-------------------------------+--------------------+-------------------+------------------+-------------------+-------------------------+----------------------+ | Alpine Linux 3.22.0 | PASS | SKIPPED | SKIPPED | SKIPPED | SKIPPED | SKIPPED | +-------------------------------+--------------------+-------------------+------------------+-------------------+-------------------------+----------------------+ | Ubuntu 20.04 | PASS | SKIPPED | SKIPPED | SKIPPED | SKIPPED | SKIPPED | +-------------------------------+--------------------+-------------------+------------------+-------------------+-------------------------+----------------------+ | Ubuntu 22.04 | PASS | PASS | SKIPPED | SKIPPED | SKIPPED | SKIPPED | +-------------------------------+--------------------+-------------------+------------------+-------------------+-------------------------+----------------------+ | Red Hat Enterprise Linux 9.5 | PASS | SKIPPED | SKIPPED | SKIPPED | SKIPPED | SKIPPED | +-------------------------------+--------------------+-------------------+------------------+-------------------+-------------------------+----------------------+ | FreeBSD 14.2 | PASS | SKIPPED | SKIPPED | SKIPPED | SKIPPED | SKIPPED | +-------------------------------+--------------------+-------------------+------------------+-------------------+-------------------------+----------------------+ | Windows Server 2022 | SKIPPED | SKIPPED | SKIPPED | PASS | PASS | PASS | +-------------------------------+--------------------+-------------------+------------------+-------------------+-------------------------+----------------------+ CentOS Stream 10 Kernel: 5.15 Compiler: gcc gcc (GCC) 14.2.1 20250110 (Red Hat 14.2.1-8) CentOS Stream 9 Kernel: 5.15 Compiler: gcc gcc (GCC) 11.5.0 20240719 (Red Hat 11.5.0-7) Red Hat Enterprise Linux 8.10 Kernel: 5.15 Compiler: gcc gcc (GCC) 8.5.0 20210514 (Red Hat 8.5.0-22) Fedora Linux 41 Kernel: 5.15 Compiler: gcc gcc (GCC) 14.3.1 20250523 (Red Hat 14.3.1-1) openSUSE Leap 15.6 Kernel: 5.15 Compiler: gcc gcc (SUSE Linux) 7.5.0 Fedora Linux 40 Kernel: 5.15 Compiler: clang gcc (GCC) 14.2.1 20240912 (Red Hat 14.2.1-3) Debian GNU/Linux 12 Kernel: 5.15 Compiler: gcc gcc (Debian 12.2.0-14+deb12u1) 12.2.0 Ubuntu 24.04 Kernel: 5.15 Compiler: gcc gcc (Ubuntu 13.3.0-6ubuntu2~24.04) 13.3.0 Alpine Linux 3.22.0 Kernel: 5.15 Compiler: gcc gcc (Alpine 14.2.0) 14.2.0 Ubuntu 20.04 Kernel: 5.15 Compiler: gcc gcc (Ubuntu 9.4.0-1ubuntu1~20.04.2) 9.4.0 Ubuntu 22.04 Kernel: 5.15 Compiler: gcc gcc (Ubuntu 11.4.0-1ubuntu1~22.04) 11.4.0 Red Hat Enterprise Linux 9.5 Kernel: 5.15 Compiler: gcc gcc (GCC) 11.5.0 20240719 (Red Hat 11.5.0-2) FreeBSD 14.2 Kernel: 14.2-RELEASE Compiler: clang 18.1.6 Windows Server 2022 Kernel: 10.0.20348.2031 Compiler: clang 15.0.7, gcc 14.1.0 (MinGW), and MSVC VS 19.39.33521 To view detailed results, visit: https://lab.dpdk.org/results/dashboard/patchsets/33712/ UNH-IOL DPDK Community Lab To manage your email subscriptions, visit: https://lab.dpdk.org/results/dashboard/preferences/subscriptions/