From mboxrd@z Thu Jan 1 00:00:00 1970 Return-Path: Received: from mails.dpdk.org (mails.dpdk.org [217.70.189.124]) by inbox.dpdk.org (Postfix) with ESMTP id 027E546BDA for ; Mon, 21 Jul 2025 20:24:54 +0200 (CEST) Received: from mails.dpdk.org (localhost [127.0.0.1]) by mails.dpdk.org (Postfix) with ESMTP id DBF7D4021E; Mon, 21 Jul 2025 20:24:54 +0200 (CEST) Received: from mail-io1-f97.google.com (mail-io1-f97.google.com [209.85.166.97]) by mails.dpdk.org (Postfix) with ESMTP id B44334021E for ; Mon, 21 Jul 2025 20:24:52 +0200 (CEST) Received: by mail-io1-f97.google.com with SMTP id ca18e2360f4ac-87c09672708so116309539f.3 for ; Mon, 21 Jul 2025 11:24:52 -0700 (PDT) DKIM-Signature: v=1; a=rsa-sha256; c=relaxed/relaxed; d=iol.unh.edu; s=unh-iol; t=1753122292; x=1753727092; darn=dpdk.org; h=references:in-reply-to:cc:to:from:subject:message-id:date:from:to :cc:subject:date:message-id:reply-to; bh=ChB2NDqOkSwvXfGbI/2LMDLuw6GSaOvArhkV4whUyzI=; b=aQSW1C1LFkbw84kv7LSbS3X+Xfglq/6fKZVaqvB1KmVd5AGVOgjqqQGMo5zHvZqMOK 9cd7ZyaTlfvy0MJZTFrSJrtPCMsxed+l89jAP4rf2wUyDnUiiD2bhSLE4+dlaPxtkdc+ nZf/tFzJX7szk4IVllsjqJSXFvjW+juBKtLQc= X-Google-DKIM-Signature: v=1; a=rsa-sha256; c=relaxed/relaxed; d=1e100.net; s=20230601; t=1753122292; x=1753727092; h=references:in-reply-to:cc:to:from:subject:message-id:date :x-gm-message-state:from:to:cc:subject:date:message-id:reply-to; bh=ChB2NDqOkSwvXfGbI/2LMDLuw6GSaOvArhkV4whUyzI=; b=NjEpS7A+A5dEPkX+f3YtnePMWIBWKh7osNeb9iqOqWxc0dnLRodrzEKR7w17VnnSn0 vxIJoADBqRs2ywfvzIhbRGG/Mlj0vgjX3fw2T1SZ/Ys9Il1G+66AN8lCFs0qFeIE6T9J 8KjHLJ/5vCCHrad2XFmqq5b4P4Ie/9+VHMNaUWx9U14JT72ehIK+avNbMs9BqUOYs7yj gLFKLxn8tDvOEtRYVWfFvXJf0CSQMo4CoXXpoe5Q7H+nb4VGpj6QvWc3nQt1UhUHCrQ1 kR0bCztx6uhaRviQWqABbgBIqKw2TGQDK/Kw3uIftecyWjQWL2voCM2NMT7T6q4hgwVS jKFQ== X-Gm-Message-State: AOJu0Yyh3iTxVkRG89onP+1g+QAKNJO/QTF19Etc+YCxUk3Uo7r3MzKf 73+mtFeUVMrjLxYOpeC6neHdlGesibznjkWvrwtUqL9/yrJ5k8VQWOBkv2TcdANZNYgkysgJwxY c06G9tT5IPhAKYyQLo/Wy5aPoIQDPM6viLvaQhf+r20Q1 X-Gm-Gg: ASbGncvsb8Fx2yiYBz4GWw4Ijt4iMwk7VNEe12QXQ3lDZdAtHyKc8Gy8wusntzZzHwI sRI3LNCt7plH0BNE+8Oddvp5SAXi7J14IDVkc6k0uqS/v6vhEOBu56wkxvSYBJ7v3OwHcHo4e0D uUSrt015n0UmtBejaTKfmyYeNQcU115CIExjkzFT5Lnrn9WM/mZlHiTrFZeK4+0qGTeY8xE8uRp Sr488nLKTrAdmaMLA+cVJsLI+iBfrkXEYSGVcY2tPIfUon/ZSpiVorLYaJ7H1USOVyT/lwr5B1i /fb1i49Zt5DoOc8iki4ILJy7PPjevDDzGmZD+bZ1IMjDsXVr/qiQOcNKneouMY+T8b3FlhRD X-Google-Smtp-Source: AGHT+IFh73FLelC+V2I3La4SegIOgDUjTjIQyKsZIE6PtlYqf+IVZUC5GlQeNoFNKfWrTF6AM6EnNxSaEWzK X-Received: by 2002:a05:6e02:216f:b0:3e2:ac27:6ba with SMTP id e9e14a558f8ab-3e2ac2707eamr113898865ab.19.1753122291882; Mon, 21 Jul 2025 11:24:51 -0700 (PDT) Received: from postal.iol.unh.edu (postal.iol.unh.edu. [132.177.123.84]) by smtp-relay.gmail.com with ESMTPS id e9e14a558f8ab-3e29839eb89sm5237905ab.66.2025.07.21.11.24.51 (version=TLS1_2 cipher=ECDHE-ECDSA-AES128-GCM-SHA256 bits=128/128); Mon, 21 Jul 2025 11:24:51 -0700 (PDT) X-Relaying-Domain: iol.unh.edu Date: Mon, 21 Jul 2025 11:24:51 -0700 (PDT) Message-ID: <687e85f3.050a0220.20c11f.a41dSMTPIN_ADDED_MISSING@mx.google.com> Received: from [172.21.0.2] (unknown [172.18.0.240]) by postal.iol.unh.edu (Postfix) with ESMTP id 719356050A61; Mon, 21 Jul 2025 14:24:51 -0400 (EDT) Subject: |SUCCESS| pw155396 [PATCH] mailmap: keep only one name per contribut From: dpdklab@iol.unh.edu To: Test Report Cc: dpdk-test-reports@iol.unh.edu In-Reply-To: <20250721154403.2688034-1-david.marchand@redhat.com> References: <20250721154403.2688034-1-david.marchand@redhat.com> Content-Type: text/plain X-BeenThere: test-report@dpdk.org X-Mailman-Version: 2.1.29 Precedence: list List-Id: automatic DPDK test reports List-Unsubscribe: , List-Archive: List-Post: List-Help: List-Subscribe: , Errors-To: test-report-bounces@dpdk.org Test-Label: iol-abi-testing Test-Status: SUCCESS http://dpdk.org/patch/155396 _Testing PASS_ Submitter: David Marchand Date: Monday, July 21 2025 15:44:01 DPDK git baseline: Repo:dpdk Branch: master CommitID:2f4cd1b4dbaec6633da510da67c2213cfd2bd359 155396 --> testing pass Upstream job id: Generic-DPDK-Compile-ABI#135114 Test environment and result as below: +-------------------------------+----------+ | Environment | abi_test | +===============================+==========+ | CentOS Stream 9 | PASS | +-------------------------------+----------+ | Fedora Linux 41 | PASS | +-------------------------------+----------+ | Fedora Linux 40 | PASS | +-------------------------------+----------+ | CentOS Stream 10 | PASS | +-------------------------------+----------+ | openSUSE Leap 15.6 | PASS | +-------------------------------+----------+ | Debian GNU/Linux 12 | PASS | +-------------------------------+----------+ | Ubuntu 24.04 | PASS | +-------------------------------+----------+ | Red Hat Enterprise Linux 9.5 | PASS | +-------------------------------+----------+ | Ubuntu 22.04 | PASS | +-------------------------------+----------+ | Red Hat Enterprise Linux 8.10 | PASS | +-------------------------------+----------+ CentOS Stream 9 Kernel: 5.15 Compiler: gcc gcc (GCC) 11.5.0 20240719 (Red Hat 11.5.0-7) Fedora Linux 41 Kernel: 5.15 Compiler: clang gcc (GCC) 14.3.1 20250523 (Red Hat 14.3.1-1) Fedora Linux 40 Kernel: 5.15 Compiler: clang gcc (GCC) 14.2.1 20240912 (Red Hat 14.2.1-3) CentOS Stream 10 Kernel: 5.15 Compiler: gcc gcc (GCC) 14.2.1 20250110 (Red Hat 14.2.1-8) openSUSE Leap 15.6 Kernel: 5.15 Compiler: gcc gcc (SUSE Linux) 7.5.0 Debian GNU/Linux 12 Kernel: 5.15 Compiler: gcc gcc (Debian 12.2.0-14+deb12u1) 12.2.0 Ubuntu 24.04 Kernel: 5.15 Compiler: gcc gcc (Ubuntu 13.3.0-6ubuntu2~24.04) 13.3.0 Red Hat Enterprise Linux 9.5 Kernel: 5.15 Compiler: gcc gcc (GCC) 11.5.0 20240719 (Red Hat 11.5.0-2) Ubuntu 22.04 Kernel: 5.15 Compiler: gcc gcc (Ubuntu 11.4.0-1ubuntu1~22.04) 11.4.0 Red Hat Enterprise Linux 8.10 Kernel: 5.15 Compiler: gcc gcc (GCC) 8.5.0 20210514 (Red Hat 8.5.0-22) To view detailed results, visit: https://lab.dpdk.org/results/dashboard/patchsets/33713/ UNH-IOL DPDK Community Lab To manage your email subscriptions, visit: https://lab.dpdk.org/results/dashboard/preferences/subscriptions/