From mboxrd@z Thu Jan 1 00:00:00 1970 Return-Path: Received: from mails.dpdk.org (mails.dpdk.org [217.70.189.124]) by inbox.dpdk.org (Postfix) with ESMTP id 9E2B046BDA for ; Mon, 21 Jul 2025 20:42:12 +0200 (CEST) Received: from mails.dpdk.org (localhost [127.0.0.1]) by mails.dpdk.org (Postfix) with ESMTP id 961884021E; Mon, 21 Jul 2025 20:42:12 +0200 (CEST) Received: from mail-yw1-f228.google.com (mail-yw1-f228.google.com [209.85.128.228]) by mails.dpdk.org (Postfix) with ESMTP id 877B94021E for ; Mon, 21 Jul 2025 20:42:11 +0200 (CEST) Received: by mail-yw1-f228.google.com with SMTP id 00721157ae682-70f862dbeaeso43589347b3.1 for ; Mon, 21 Jul 2025 11:42:11 -0700 (PDT) DKIM-Signature: v=1; a=rsa-sha256; c=relaxed/relaxed; d=iol.unh.edu; s=unh-iol; t=1753123331; x=1753728131; darn=dpdk.org; h=references:in-reply-to:cc:to:from:subject:message-id:date:from:to :cc:subject:date:message-id:reply-to; bh=8r/l+2i0AZHC0/Tjtnb5riVqhlVwoNHNDibO2fiqJ7Q=; b=NgdLZwGqJDynBKmxuGcL6BT5+RUCubNv8LnnoFLgsJ4A1PUERjv08TT2tsHODnmfHH K6ozqt38NWvShJz4hRe1cD4Cu7YxwS5qY0MIdAhPMqlm46JoyknqmAiYsy5/Mqihlukv cteA0exnIhDppRIWab9SEuIAITyV7YOzNPZoo= X-Google-DKIM-Signature: v=1; a=rsa-sha256; c=relaxed/relaxed; d=1e100.net; s=20230601; t=1753123331; x=1753728131; h=references:in-reply-to:cc:to:from:subject:message-id:date :x-gm-message-state:from:to:cc:subject:date:message-id:reply-to; bh=8r/l+2i0AZHC0/Tjtnb5riVqhlVwoNHNDibO2fiqJ7Q=; b=RbiQ0//MfU6Vw/yckRiXiii5qGAVfbkETKSHpzIFFygDLHiOypVRQmwl+fG50iqljx rSGmZIqhSJ41X2xFAFlU2SriTLyfMj4ulrAnmfKNHtB+FEG5LyvrsoDPI7mG6ZtnBGgT KlO8ROoBe3JiCQtELloizk/fGJRUZk0Wyo0Cv+7Oyxfy6L+xXc2OFBD47FeAY7Kla/EQ T7UxCQOUta5Dn+244I/djEpQDSofKmWt0oN5CRm8RAYSgjVweWIRjrZlXODua2jfklEz yx+Q0/xH0rDrcgfjQ8dAlSopr//UDlsGAAnWNWoOI3+LI2k1PTgJITbogSoUTPW4RVWo 5Jrg== X-Gm-Message-State: AOJu0YxE9cr2SPr1WbVlT+KRe1vYZOFP8O2KfB9zUpTCj5uXQ4ROWVPN 2UC9E0RholitJEI6wRaQMLCmdhRlOkqU+idYEQOeFPStUGtaCfHieXpg3b9qPsUqU2Q0vLpGcI2 VmS5pRQv0ltyEAANn55moX4yJoIYAuYkLg89e59dNOy8h X-Gm-Gg: ASbGncts0GaPqtyGNkVT4eDXxR30OcmfGvfu0greR3+Vyq51+cRqsg3u7GUe+i913Mk y+E61GdFlBdUiqo74j8vRDpdJJlMjKhzuLFcCahxRKgce4PyDd91N2VTYFRSGK9VQRwZ8Xn1rYS 3qt9Ouy6ZEr9dv+0vczmsNRkT4N530uyqbncKKMZwdxmfUCI494/RW+mADX/aFJqyOHGukyw6bJ mHptaY9uEO2Kofb1vECcElerJEHTKjTBxcrfaL0QlrKudxtY4zd+GihfOZXZBaUlPc+0MdS+69s e7uE2RY/YoER7cRDei1CwS2pEJjR9h/KKoRI+YOWvxzn3H82Rs5KlvJvem/eLK/Yzc+VPhCK X-Google-Smtp-Source: AGHT+IEfU7a/WB+bQlDuLjpL19W4WuhDFxWS/sBrXEvwacOWyncHb0AgIaLUXatPGR+54k4AQg5XRTAjFQ+k X-Received: by 2002:a05:690c:4b87:b0:717:9e9b:a076 with SMTP id 00721157ae682-718368c8b6dmr281132667b3.0.1753123330831; Mon, 21 Jul 2025 11:42:10 -0700 (PDT) Received: from postal.iol.unh.edu (postal.iol.unh.edu. [132.177.123.84]) by smtp-relay.gmail.com with ESMTPS id 3f1490d57ef6-e8d894ecfaesm116070276.21.2025.07.21.11.42.10 (version=TLS1_2 cipher=ECDHE-ECDSA-AES128-GCM-SHA256 bits=128/128); Mon, 21 Jul 2025 11:42:10 -0700 (PDT) X-Relaying-Domain: iol.unh.edu Date: Mon, 21 Jul 2025 11:42:10 -0700 (PDT) Message-ID: <687e8a02.050a0220.3a2454.431bSMTPIN_ADDED_MISSING@mx.google.com> Received: from [172.21.0.3] (unknown [172.18.0.240]) by postal.iol.unh.edu (Postfix) with ESMTP id 8766F604D420; Mon, 21 Jul 2025 14:42:10 -0400 (EDT) Subject: |SUCCESS| pw155396 [PATCH] mailmap: keep only one name per contribut From: dpdklab@iol.unh.edu To: Test Report Cc: dpdk-test-reports@iol.unh.edu In-Reply-To: <20250721154403.2688034-1-david.marchand@redhat.com> References: <20250721154403.2688034-1-david.marchand@redhat.com> Content-Type: text/plain X-BeenThere: test-report@dpdk.org X-Mailman-Version: 2.1.29 Precedence: list List-Id: automatic DPDK test reports List-Unsubscribe: , List-Archive: List-Post: List-Help: List-Subscribe: , Errors-To: test-report-bounces@dpdk.org Test-Label: iol-compile-amd64-testing Test-Status: SUCCESS http://dpdk.org/patch/155396 _Testing PASS_ Submitter: David Marchand Date: Monday, July 21 2025 15:44:01 DPDK git baseline: Repo:dpdk Branch: master CommitID:2f4cd1b4dbaec6633da510da67c2213cfd2bd359 155396 --> testing pass Upstream job id: Generic-DPDK-Compile-Meson#410588 Test environment and result as below: +-------------------------------+--------------------+-------------------+------------------+-------------------+-------------------------+----------------------+ | Environment | dpdk_meson_compile | dpdk_compile_spdk | dpdk_compile_ovs | dpdk_msvc_compile | dpdk_llvm_clang_compile | dpdk_mingw64_compile | +===============================+====================+===================+==================+===================+=========================+======================+ | CentOS Stream 9 | PASS | PASS | SKIPPED | SKIPPED | SKIPPED | SKIPPED | +-------------------------------+--------------------+-------------------+------------------+-------------------+-------------------------+----------------------+ | CentOS Stream 10 | PASS | SKIPPED | SKIPPED | SKIPPED | SKIPPED | SKIPPED | +-------------------------------+--------------------+-------------------+------------------+-------------------+-------------------------+----------------------+ | Debian GNU/Linux 12 | PASS | PASS | SKIPPED | SKIPPED | SKIPPED | SKIPPED | +-------------------------------+--------------------+-------------------+------------------+-------------------+-------------------------+----------------------+ | Fedora Linux 40 | PASS | PASS | SKIPPED | SKIPPED | SKIPPED | SKIPPED | +-------------------------------+--------------------+-------------------+------------------+-------------------+-------------------------+----------------------+ | Fedora Linux 41 | PASS | PASS | PASS | SKIPPED | SKIPPED | SKIPPED | +-------------------------------+--------------------+-------------------+------------------+-------------------+-------------------------+----------------------+ | openSUSE Leap 15.6 | PASS | SKIPPED | SKIPPED | SKIPPED | SKIPPED | SKIPPED | +-------------------------------+--------------------+-------------------+------------------+-------------------+-------------------------+----------------------+ | Ubuntu 22.04 | PASS | PASS | SKIPPED | SKIPPED | SKIPPED | SKIPPED | +-------------------------------+--------------------+-------------------+------------------+-------------------+-------------------------+----------------------+ | Ubuntu 20.04 | PASS | SKIPPED | SKIPPED | SKIPPED | SKIPPED | SKIPPED | +-------------------------------+--------------------+-------------------+------------------+-------------------+-------------------------+----------------------+ | Red Hat Enterprise Linux 8.10 | PASS | SKIPPED | SKIPPED | SKIPPED | SKIPPED | SKIPPED | +-------------------------------+--------------------+-------------------+------------------+-------------------+-------------------------+----------------------+ | Red Hat Enterprise Linux 9.5 | PASS | SKIPPED | SKIPPED | SKIPPED | SKIPPED | SKIPPED | +-------------------------------+--------------------+-------------------+------------------+-------------------+-------------------------+----------------------+ | Ubuntu 24.04 | PASS | PASS | PASS | SKIPPED | SKIPPED | SKIPPED | +-------------------------------+--------------------+-------------------+------------------+-------------------+-------------------------+----------------------+ | FreeBSD 14.2 | PASS | SKIPPED | SKIPPED | SKIPPED | SKIPPED | SKIPPED | +-------------------------------+--------------------+-------------------+------------------+-------------------+-------------------------+----------------------+ | Alpine Linux 3.22.0 | PASS | SKIPPED | SKIPPED | SKIPPED | SKIPPED | SKIPPED | +-------------------------------+--------------------+-------------------+------------------+-------------------+-------------------------+----------------------+ | Windows Server 2022 | SKIPPED | SKIPPED | SKIPPED | PASS | PASS | PASS | +-------------------------------+--------------------+-------------------+------------------+-------------------+-------------------------+----------------------+ CentOS Stream 9 Kernel: 5.15 Compiler: gcc gcc (GCC) 11.5.0 20240719 (Red Hat 11.5.0-7) CentOS Stream 10 Kernel: 5.15 Compiler: gcc gcc (GCC) 14.2.1 20250110 (Red Hat 14.2.1-8) Debian GNU/Linux 12 Kernel: 5.15 Compiler: gcc gcc (Debian 12.2.0-14+deb12u1) 12.2.0 Fedora Linux 40 Kernel: 5.15 Compiler: clang gcc (GCC) 14.2.1 20240912 (Red Hat 14.2.1-3) Fedora Linux 41 Kernel: 5.15 Compiler: gcc gcc (GCC) 14.3.1 20250523 (Red Hat 14.3.1-1) openSUSE Leap 15.6 Kernel: 5.15 Compiler: gcc gcc (SUSE Linux) 7.5.0 Ubuntu 22.04 Kernel: 5.15 Compiler: gcc gcc (Ubuntu 11.4.0-1ubuntu1~22.04) 11.4.0 Ubuntu 20.04 Kernel: 5.15 Compiler: gcc gcc (Ubuntu 9.4.0-1ubuntu1~20.04.2) 9.4.0 Red Hat Enterprise Linux 8.10 Kernel: 5.15 Compiler: gcc gcc (GCC) 8.5.0 20210514 (Red Hat 8.5.0-22) Red Hat Enterprise Linux 9.5 Kernel: 5.15 Compiler: gcc gcc (GCC) 11.5.0 20240719 (Red Hat 11.5.0-2) Ubuntu 24.04 Kernel: 5.15 Compiler: gcc gcc (Ubuntu 13.3.0-6ubuntu2~24.04) 13.3.0 FreeBSD 14.2 Kernel: 14.2-RELEASE Compiler: clang 18.1.6 Alpine Linux 3.22.0 Kernel: 5.15 Compiler: gcc gcc (Alpine 14.2.0) 14.2.0 Windows Server 2022 Kernel: 10.0.20348.2031 Compiler: clang 15.0.7, gcc 14.1.0 (MinGW), and MSVC VS 19.39.33521 To view detailed results, visit: https://lab.dpdk.org/results/dashboard/patchsets/33713/ UNH-IOL DPDK Community Lab To manage your email subscriptions, visit: https://lab.dpdk.org/results/dashboard/preferences/subscriptions/