From mboxrd@z Thu Jan 1 00:00:00 1970 Return-Path: Received: from mails.dpdk.org (mails.dpdk.org [217.70.189.124]) by inbox.dpdk.org (Postfix) with ESMTP id D5B9346BDA for ; Mon, 21 Jul 2025 21:24:01 +0200 (CEST) Received: from mails.dpdk.org (localhost [127.0.0.1]) by mails.dpdk.org (Postfix) with ESMTP id CF5C74021E; Mon, 21 Jul 2025 21:24:01 +0200 (CEST) Received: from mail-pl1-f227.google.com (mail-pl1-f227.google.com [209.85.214.227]) by mails.dpdk.org (Postfix) with ESMTP id 9977C4021E for ; Mon, 21 Jul 2025 21:24:00 +0200 (CEST) Received: by mail-pl1-f227.google.com with SMTP id d9443c01a7336-23636167b30so42696805ad.1 for ; Mon, 21 Jul 2025 12:24:00 -0700 (PDT) DKIM-Signature: v=1; a=rsa-sha256; c=relaxed/relaxed; d=iol.unh.edu; s=unh-iol; t=1753125840; x=1753730640; darn=dpdk.org; h=references:in-reply-to:cc:to:from:subject:message-id:date:from:to :cc:subject:date:message-id:reply-to; bh=0q7pKlDY+obSiYmvkA98bgXgdpjPmo4Hw/Japf6f7VM=; b=eXcWEtVfdf2eziNysWvruM+C8uUe9Z58eiZf6XvZ6U7vag+fKxcLrXS902bvPlvIdE 2oUAFaYpHVDDIRFeRqHnX8PBhTwokfoOzkE4aRwZBowl0AiEV0jjZnejUmWPlH31Cgx2 LB0KVKin2Qk2CwAcwbZWtVRU+RKW+1ePFx9SY= X-Google-DKIM-Signature: v=1; a=rsa-sha256; c=relaxed/relaxed; d=1e100.net; s=20230601; t=1753125840; x=1753730640; h=references:in-reply-to:cc:to:from:subject:message-id:date :x-gm-message-state:from:to:cc:subject:date:message-id:reply-to; bh=0q7pKlDY+obSiYmvkA98bgXgdpjPmo4Hw/Japf6f7VM=; b=l9Q+E2EMxgU2E6qDVViCMn9IAI7hp+sQz0K8hfl/ZsESgtBhr+AilRv5n54rve3NYD rs8VYSZ/aPDqnf8R+f0Pd3+UP+/6Ubj3IEB5Tn8HDgzlOLQ79f6ReDW4jL5cyTiajZLf OHRTbUXCKVm9LzNfC0re1dwKxUfHJ2zBHuwOKYRsEAtEwJBSRbrJ/n5juvolpYOKMK4H AYqMle2djrnegcgMQ8S/f10kUjsfYGMXMSRxe7aHC9by07/5kIm4G6zDPJ0koUg0Ld9D P4pZ6yVqWlFFhZ0Ih+Ffdb30CXcqqqDKzGS9IfHTwYKUYVKlDUbuAMHA7Q4d3auHjrec n+LA== X-Gm-Message-State: AOJu0Ywkcju8inxi7zAjZ7dny9UoMEY+el/q2nKYWMj/RRYVSUzQL+zw 2qsADsLce/9klU7h9OBttEdoHhgav72HmU/NHrJKJe3PPBLMVK9Mwycgddwtbu6mrgkslIJgzjC 0UFgSrQAMwrpIGO4MYGjJUBPpo/4ZW444+TOIHsj7o7J8Tb0WMTAHeM3CPyO1 X-Gm-Gg: ASbGnctDmSSNhzFyEOI6dumvn2k12kuuBWO/SaKvQusBaXfC8BoTuroF5lsrL0T8g3Y 77cUbGTBNt53wsbRlTCcvW9rEZRMyNKR3bvFGxTbODLgXGkNqyvMM2cwNIGHJwNwUR6dSF8+55W e60Owr29p4pgO61TnhDaeto/2fUPJXPAMiIApxVU5gV8J4kcqEjobGMB2cRKCP3TAEK9GReFld2 lRJWMcTpuIq4aaB3IdxtItDLRvtUqwtSB+0E/U+iUyDaIwJkpfQ70My6tOExbI9GwLxvZqeWsFB oEC/VKpBQQRnc0HBD63OngeLj5CVmDlcLVUbc3gHwJJd+hoqpw== X-Google-Smtp-Source: AGHT+IHaMntoVEpC2NPSLQ0BFt06vjbSNhPY5o3N/CTKdik/rDHoXi97n7E0p7lM5k+WPugsVsg2bLRCxdPO X-Received: by 2002:a17:902:da8b:b0:238:2990:6382 with SMTP id d9443c01a7336-23e25522cd7mr348503835ad.0.1753125839763; Mon, 21 Jul 2025 12:23:59 -0700 (PDT) Received: from postal.iol.unh.edu (postal.iol.unh.edu. [2606:4100:3880:1234::84]) by smtp-relay.gmail.com with ESMTPS id d9443c01a7336-23e3b6b73b8sm4483635ad.54.2025.07.21.12.23.59 (version=TLS1_2 cipher=ECDHE-ECDSA-AES128-GCM-SHA256 bits=128/128); Mon, 21 Jul 2025 12:23:59 -0700 (PDT) X-Relaying-Domain: iol.unh.edu Date: Mon, 21 Jul 2025 12:23:59 -0700 (PDT) Message-ID: <687e93cf.170a0220.fa539.709dSMTPIN_ADDED_MISSING@mx.google.com> Received: from [172.21.0.3] (unknown [172.18.0.240]) by postal.iol.unh.edu (Postfix) with ESMTP id 04EBB6051830; Mon, 21 Jul 2025 15:23:59 -0400 (EDT) Subject: |SUCCESS| pw155397 [PATCH] [v2] app/test-cmdline: add test to Window From: dpdklab@iol.unh.edu To: Test Report Cc: dpdk-test-reports@iol.unh.edu In-Reply-To: <1753121912-31321-1-git-send-email-andremue@linux.microsoft.com> References: <1753121912-31321-1-git-send-email-andremue@linux.microsoft.com> Content-Type: text/plain X-BeenThere: test-report@dpdk.org X-Mailman-Version: 2.1.29 Precedence: list List-Id: automatic DPDK test reports List-Unsubscribe: , List-Archive: List-Post: List-Help: List-Subscribe: , Errors-To: test-report-bounces@dpdk.org Test-Label: iol-unit-amd64-testing Test-Status: SUCCESS http://dpdk.org/patch/155397 _Testing PASS_ Submitter: Andre Muezerie Date: Monday, July 21 2025 18:18:32 DPDK git baseline: Repo:dpdk Branch: master CommitID:3795e96fc862e2b65aa8951f6661420510c87328 155397 --> testing pass Upstream job id: Generic-VM-Unit-Test-DPDK#30072 Test environment and result as below: +-------------------------------+----------------+ | Environment | dpdk_unit_test | +===============================+================+ | CentOS Stream 9 | PASS | +-------------------------------+----------------+ | CentOS Stream 10 | PASS | +-------------------------------+----------------+ | Fedora Linux 40 | PASS | +-------------------------------+----------------+ | Debian GNU/Linux 12 | PASS | +-------------------------------+----------------+ | Fedora Linux 41 | PASS | +-------------------------------+----------------+ | Ubuntu 20.04 | PASS | +-------------------------------+----------------+ | Red Hat Enterprise Linux 8.10 | PASS | +-------------------------------+----------------+ | Red Hat Enterprise Linux 9.5 | PASS | +-------------------------------+----------------+ | Ubuntu 22.04 | PASS | +-------------------------------+----------------+ | Ubuntu 24.04 | PASS | +-------------------------------+----------------+ | Windows Server 2022 | PASS | +-------------------------------+----------------+ CentOS Stream 9 Kernel: 5.15 Compiler: gcc gcc (GCC) 11.5.0 20240719 (Red Hat 11.5.0-7) CentOS Stream 10 Kernel: 5.15 Compiler: gcc gcc (GCC) 14.2.1 20250110 (Red Hat 14.2.1-8) Fedora Linux 40 Kernel: 5.15 Compiler: gcc gcc (GCC) 14.2.1 20240912 (Red Hat 14.2.1-3) Debian GNU/Linux 12 Kernel: 5.15 Compiler: gcc gcc (Debian 12.2.0-14+deb12u1) 12.2.0 Fedora Linux 41 Kernel: 5.15 Compiler: gcc gcc (GCC) 14.3.1 20250523 (Red Hat 14.3.1-1) Ubuntu 20.04 Kernel: 5.15 Compiler: gcc gcc (Ubuntu 9.4.0-1ubuntu1~20.04.2) 9.4.0 Red Hat Enterprise Linux 8.10 Kernel: 5.15 Compiler: gcc gcc (GCC) 8.5.0 20210514 (Red Hat 8.5.0-22) Red Hat Enterprise Linux 9.5 Kernel: 5.15 Compiler: gcc gcc (GCC) 11.5.0 20240719 (Red Hat 11.5.0-2) Ubuntu 22.04 Kernel: 5.15 Compiler: gcc gcc (Ubuntu 11.4.0-1ubuntu1~22.04) 11.4.0 Ubuntu 24.04 Kernel: 5.15 Compiler: gcc gcc (Ubuntu 13.3.0-6ubuntu2~24.04) 13.3.0 Windows Server 2022 Kernel: 10.0.20348.2031 Compiler: clang 15.0.7, gcc 14.1.0 (MinGW), and MSVC VS 19.39.33521 To view detailed results, visit: https://lab.dpdk.org/results/dashboard/patchsets/33714/ UNH-IOL DPDK Community Lab To manage your email subscriptions, visit: https://lab.dpdk.org/results/dashboard/preferences/subscriptions/