From mboxrd@z Thu Jan 1 00:00:00 1970 Return-Path: Received: from mails.dpdk.org (mails.dpdk.org [217.70.189.124]) by inbox.dpdk.org (Postfix) with ESMTP id 75BDD46BDA for ; Mon, 21 Jul 2025 21:30:16 +0200 (CEST) Received: from mails.dpdk.org (localhost [127.0.0.1]) by mails.dpdk.org (Postfix) with ESMTP id 6F5004021E; Mon, 21 Jul 2025 21:30:16 +0200 (CEST) Received: from mail-oo1-f99.google.com (mail-oo1-f99.google.com [209.85.161.99]) by mails.dpdk.org (Postfix) with ESMTP id 701164021E for ; Mon, 21 Jul 2025 21:30:15 +0200 (CEST) Received: by mail-oo1-f99.google.com with SMTP id 006d021491bc7-61585dfc8f8so1213917eaf.0 for ; Mon, 21 Jul 2025 12:30:15 -0700 (PDT) DKIM-Signature: v=1; a=rsa-sha256; c=relaxed/relaxed; d=iol.unh.edu; s=unh-iol; t=1753126214; x=1753731014; darn=dpdk.org; h=references:in-reply-to:cc:to:from:subject:message-id:date:from:to :cc:subject:date:message-id:reply-to; bh=kQQ8RxDUio00G8IolPZyPlYQu8rkWyUxh9HhZ2GUaeU=; b=WrdD53zXuHck4Ov1cE9k1PkAUuksa7ALRXjlpwGvJvtJCyUHSA2c+9YC0xh0rPOmGd X87MtLNjDebNV1F9+Gvoy7FlDI5Xrfhwf54hpdSAppC88RnoNW6ueWCI0Hi8ARlUyNam W54b9blbImMS4CCc/fEu+pX0OPkcUF5GEcAIQ= X-Google-DKIM-Signature: v=1; a=rsa-sha256; c=relaxed/relaxed; d=1e100.net; s=20230601; t=1753126214; x=1753731014; h=references:in-reply-to:cc:to:from:subject:message-id:date :x-gm-message-state:from:to:cc:subject:date:message-id:reply-to; bh=kQQ8RxDUio00G8IolPZyPlYQu8rkWyUxh9HhZ2GUaeU=; b=IvXUV/hh1KFBA1ZgKYS5F1w8B6WkP4rGJ0CBo+5f6IznGatKcYaa2HtAIRLBGM2ICp Rp/1aoh1WwZoqISjU7gNVvnFDmG2RLsanbm9bIXQ+dXHEEfcr1dYm8Fd4XEGPQXBK2oE U0jUNtfEwSvJ9Se1XNXU7tRDKH7FNTWrBASgVErTW5YZGbjUQBMI3hEEN2BUxn7WeI59 f6zy0zEIO72D0G5Xl5waVEidWAKyfPFfi1tbEJFPbu4aygvkJjSsc0q3tjN/u3buUD+V d+NkaNX+iML1+TW8oYm/r4kl9E18/o0/j6vi2fYdY+9si7af8aLCeMBEN78myJlrYJWU wSxg== X-Gm-Message-State: AOJu0Yxg0hpIbat937+b0onSZvrh55NNyVfaLu3X5UaqA8jIOmAy+6T1 eaxrvrMimqliw3CbG6LX6sw5ycTJKD815h48uY8F8QuYcMk/3Aj6tmlqTUO4HmlxO5JeBaL9l/U sVnPJBXvuYIS8QEUB4ELCP4laXHhcPRXXUa33TFs5BWgDBSi4EWEZRIHbTqfz X-Gm-Gg: ASbGncvPfqze+0pgpTGv2tldGUB2VpMR9/qGQWaDO3j3iZDqIkVe2ZE0/VoBoJIvvCO vrcZL0VitvCqPU9IIayTm8VyE9Kg2rMMCPzQlDCop6O/GiLyspr6Re5lEq1ULHhbGwrY6eCfwAl 1/EUvi099Ava7ce3lgeYXjowZvEFG8d1lntklVeRA775OPPfmFkhavM3k/VLgs7OmvjFrHgUnR1 euwjhWsFx3ikPB680+pRzdDwvXpJn5dQdY647QIipWSXnrMeOZHrlChKzyZUuwjGJ8QEjTjf31N BaJzvoGOaxV1c1D0SdKMVKHjku7ZFs+hVj78R2wifnK2lxmxMg== X-Google-Smtp-Source: AGHT+IHH7A9rb57RRu0JvGFrkrD8cv3zte4pjMwRo7y7IeQBV17idVmoaqzCAztzGH/3HbE2qQ/V4AsXn1WU X-Received: by 2002:a05:6870:b0f:b0:2c2:4d76:f1ad with SMTP id 586e51a60fabf-2ffaf2a3c53mr16012243fac.16.1753126214480; Mon, 21 Jul 2025 12:30:14 -0700 (PDT) Received: from postal.iol.unh.edu (postal.iol.unh.edu. [2606:4100:3880:1234::84]) by smtp-relay.gmail.com with ESMTPS id 586e51a60fabf-301b02724ecsm552595fac.9.2025.07.21.12.30.14 (version=TLS1_2 cipher=ECDHE-ECDSA-AES128-GCM-SHA256 bits=128/128); Mon, 21 Jul 2025 12:30:14 -0700 (PDT) X-Relaying-Domain: iol.unh.edu Date: Mon, 21 Jul 2025 12:30:14 -0700 (PDT) Message-ID: <687e9546.050a0220.3aa1a5.bb53SMTPIN_ADDED_MISSING@mx.google.com> Received: from [172.21.0.3] (unknown [172.18.0.240]) by postal.iol.unh.edu (Postfix) with ESMTP id F07F86051830; Mon, 21 Jul 2025 15:30:13 -0400 (EDT) Subject: |SUCCESS| pw155396 [PATCH] mailmap: keep only one name per contribut From: dpdklab@iol.unh.edu To: Test Report Cc: dpdk-test-reports@iol.unh.edu In-Reply-To: <20250721154403.2688034-1-david.marchand@redhat.com> References: <20250721154403.2688034-1-david.marchand@redhat.com> Content-Type: text/plain X-BeenThere: test-report@dpdk.org X-Mailman-Version: 2.1.29 Precedence: list List-Id: automatic DPDK test reports List-Unsubscribe: , List-Archive: List-Post: List-Help: List-Subscribe: , Errors-To: test-report-bounces@dpdk.org Test-Label: iol-unit-arm64-testing Test-Status: SUCCESS http://dpdk.org/patch/155396 _Testing PASS_ Submitter: David Marchand Date: Monday, July 21 2025 15:44:01 DPDK git baseline: Repo:dpdk Branch: master CommitID:2f4cd1b4dbaec6633da510da67c2213cfd2bd359 155396 --> testing pass Upstream job id: Generic-Unit-Test-DPDK#356936 Test environment and result as below: +------------------------------+--------------+------------------------------+---------------------------+----------------+ | Environment | lpm_autotest | cryptodev_sw_snow3g_autotest | cryptodev_sw_zuc_autotest | dpdk_unit_test | +==============================+==============+==============================+===========================+================+ | Ubuntu 20.04 | PASS | SKIPPED | SKIPPED | PASS | +------------------------------+--------------+------------------------------+---------------------------+----------------+ | Debian 12 (arm) | SKIPPED | PASS | PASS | SKIPPED | +------------------------------+--------------+------------------------------+---------------------------+----------------+ | Fedora Linux 40 | SKIPPED | SKIPPED | SKIPPED | PASS | +------------------------------+--------------+------------------------------+---------------------------+----------------+ | CentOS Stream 10 | SKIPPED | SKIPPED | SKIPPED | PASS | +------------------------------+--------------+------------------------------+---------------------------+----------------+ | CentOS Stream 9 | SKIPPED | SKIPPED | SKIPPED | PASS | +------------------------------+--------------+------------------------------+---------------------------+----------------+ | Debian GNU/Linux 12 | SKIPPED | SKIPPED | SKIPPED | PASS | +------------------------------+--------------+------------------------------+---------------------------+----------------+ | Fedora Linux 41 | SKIPPED | SKIPPED | SKIPPED | PASS | +------------------------------+--------------+------------------------------+---------------------------+----------------+ | Red Hat Enterprise Linux 9.5 | SKIPPED | SKIPPED | SKIPPED | PASS | +------------------------------+--------------+------------------------------+---------------------------+----------------+ | Ubuntu 22.04 | SKIPPED | SKIPPED | SKIPPED | PASS | +------------------------------+--------------+------------------------------+---------------------------+----------------+ | Ubuntu 24.04 | SKIPPED | SKIPPED | SKIPPED | PASS | +------------------------------+--------------+------------------------------+---------------------------+----------------+ Ubuntu 20.04 Kernel: 5.4 Compiler: gcc gcc (Ubuntu 9.4.0-1ubuntu1~20.04.2) 9.4.0 Debian 12 (arm) Kernel: Depends on container host Compiler: gcc (Debian 12.2.0-14) 12.2.0 Fedora Linux 40 Kernel: 5.4 Compiler: clang gcc (GCC) 14.2.1 20240912 (Red Hat 14.2.1-3) CentOS Stream 10 Kernel: 5.4 Compiler: gcc gcc (GCC) 14.2.1 20250110 (Red Hat 14.2.1-8) CentOS Stream 9 Kernel: 5.4 Compiler: gcc gcc (GCC) 11.5.0 20240719 (Red Hat 11.5.0-7) Debian GNU/Linux 12 Kernel: 5.4 Compiler: gcc gcc (Debian 12.2.0-14+deb12u1) 12.2.0 Fedora Linux 41 Kernel: 5.4 Compiler: gcc gcc (GCC) 14.3.1 20250523 (Red Hat 14.3.1-1) Red Hat Enterprise Linux 9.5 Kernel: 5.4 Compiler: gcc gcc (GCC) 11.5.0 20240719 (Red Hat 11.5.0-2) Ubuntu 22.04 Kernel: 5.4 Compiler: gcc gcc (Ubuntu 11.4.0-1ubuntu1~22.04) 11.4.0 Ubuntu 24.04 Kernel: 5.4 Compiler: gcc gcc (Ubuntu 13.3.0-6ubuntu2~24.04) 13.3.0 To view detailed results, visit: https://lab.dpdk.org/results/dashboard/patchsets/33713/ UNH-IOL DPDK Community Lab To manage your email subscriptions, visit: https://lab.dpdk.org/results/dashboard/preferences/subscriptions/