automatic DPDK test reports
 help / color / mirror / Atom feed
From: dpdklab@iol.unh.edu
To: Test Report <test-report@dpdk.org>
Cc: dpdk-test-reports@iol.unh.edu
Subject: |SUCCESS| pw155397 [PATCH] [v2] app/test-cmdline: add test to Window
Date: Mon, 21 Jul 2025 12:53:21 -0700 (PDT)	[thread overview]
Message-ID: <687e9ab1.050a0220.293a84.ae8eSMTPIN_ADDED_MISSING@mx.google.com> (raw)
In-Reply-To: <1753121912-31321-1-git-send-email-andremue@linux.microsoft.com>

Test-Label: iol-unit-amd64-testing
Test-Status: SUCCESS
http://dpdk.org/patch/155397

_Testing PASS_

Submitter: Andre Muezerie <andremue@linux.microsoft.com>
Date: Monday, July 21 2025 18:18:32 
DPDK git baseline: Repo:dpdk
  Branch: master
  CommitID:3795e96fc862e2b65aa8951f6661420510c87328

155397 --> testing pass

Upstream job id: Generic-VM-Unit-Test-DPDK#30073

Test environment and result as below:

+-------------------------------+----------------+
|          Environment          | dpdk_unit_test |
+===============================+================+
| CentOS Stream 9               | PASS           |
+-------------------------------+----------------+
| CentOS Stream 10              | PASS           |
+-------------------------------+----------------+
| Fedora Linux 40               | PASS           |
+-------------------------------+----------------+
| Debian GNU/Linux 12           | PASS           |
+-------------------------------+----------------+
| Fedora Linux 41               | PASS           |
+-------------------------------+----------------+
| Ubuntu 20.04                  | PASS           |
+-------------------------------+----------------+
| Red Hat Enterprise Linux 8.10 | PASS           |
+-------------------------------+----------------+
| Red Hat Enterprise Linux 9.5  | PASS           |
+-------------------------------+----------------+
| Ubuntu 22.04                  | PASS           |
+-------------------------------+----------------+
| Ubuntu 24.04                  | PASS           |
+-------------------------------+----------------+
| Windows Server 2022           | PASS           |
+-------------------------------+----------------+


CentOS Stream 9
	Kernel: 5.15
	Compiler: gcc gcc (GCC) 11.5.0 20240719 (Red Hat 11.5.0-7)

CentOS Stream 10
	Kernel: 5.15
	Compiler: gcc gcc (GCC) 14.2.1 20250110 (Red Hat 14.2.1-8)

Fedora Linux 40
	Kernel: 5.15
	Compiler: gcc gcc (GCC) 14.2.1 20240912 (Red Hat 14.2.1-3)

Debian GNU/Linux 12
	Kernel: 5.15
	Compiler: gcc gcc (Debian 12.2.0-14+deb12u1) 12.2.0

Fedora Linux 41
	Kernel: 5.15
	Compiler: gcc gcc (GCC) 14.3.1 20250523 (Red Hat 14.3.1-1)

Ubuntu 20.04
	Kernel: 5.15
	Compiler: gcc gcc (Ubuntu 9.4.0-1ubuntu1~20.04.2) 9.4.0

Red Hat Enterprise Linux 8.10
	Kernel: 5.15
	Compiler: gcc gcc (GCC) 8.5.0 20210514 (Red Hat 8.5.0-22)

Red Hat Enterprise Linux 9.5
	Kernel: 5.15
	Compiler: gcc gcc (GCC) 11.5.0 20240719 (Red Hat 11.5.0-2)

Ubuntu 22.04
	Kernel: 5.15
	Compiler: gcc gcc (Ubuntu 11.4.0-1ubuntu1~22.04) 11.4.0

Ubuntu 24.04
	Kernel: 5.15
	Compiler: gcc gcc (Ubuntu 13.3.0-6ubuntu2~24.04) 13.3.0

Windows Server 2022
	Kernel: 10.0.20348.2031
	Compiler: clang 15.0.7, gcc 14.1.0 (MinGW), and MSVC VS 19.39.33521

To view detailed results, visit:
https://lab.dpdk.org/results/dashboard/patchsets/33714/

UNH-IOL DPDK Community Lab

To manage your email subscriptions, visit: 
https://lab.dpdk.org/results/dashboard/preferences/subscriptions/

  parent reply	other threads:[~2025-07-21 19:53 UTC|newest]

Thread overview: 23+ messages / expand[flat|nested]  mbox.gz  Atom feed  top
     [not found] <1753121912-31321-1-git-send-email-andremue@linux.microsoft.com>
2025-07-21 17:45 ` |SUCCESS| pw155397 [PATCH v2] app/test-cmdline: add test to Windows build qemudev
2025-07-21 17:50 ` qemudev
2025-07-21 18:17 ` checkpatch
2025-07-21 18:45 ` |SUCCESS| pw155397 [PATCH] [v2] app/test-cmdline: add test to Window dpdklab
2025-07-21 18:49 ` |PENDING| " dpdklab
2025-07-21 18:50 ` dpdklab
2025-07-21 18:52 ` |SUCCESS| " dpdklab
2025-07-21 18:56 ` |PENDING| " dpdklab
2025-07-21 18:57 ` dpdklab
2025-07-21 18:57 ` |SUCCESS| " dpdklab
2025-07-21 18:59 ` |PENDING| " dpdklab
2025-07-21 19:06 ` |SUCCESS| " dpdklab
2025-07-21 19:08 ` dpdklab
2025-07-21 19:08 ` dpdklab
2025-07-21 19:23 ` |SUCCESS| pw155397 [PATCH v2] app/test-cmdline: add test to Windows build 0-day Robot
2025-07-21 19:23 ` |SUCCESS| pw155397 [PATCH] [v2] app/test-cmdline: add test to Window dpdklab
2025-07-21 19:25 ` dpdklab
2025-07-21 19:53 ` dpdklab [this message]
2025-07-21 19:57 ` dpdklab
2025-07-21 20:16 ` dpdklab
2025-07-21 20:17 ` dpdklab
2025-07-21 22:42 ` dpdklab
2025-07-21 23:00 ` dpdklab

Reply instructions:

You may reply publicly to this message via plain-text email
using any one of the following methods:

* Save the following mbox file, import it into your mail client,
  and reply-to-all from there: mbox

  Avoid top-posting and favor interleaved quoting:
  https://en.wikipedia.org/wiki/Posting_style#Interleaved_style

* Reply using the --to, --cc, and --in-reply-to
  switches of git-send-email(1):

  git send-email \
    --in-reply-to=687e9ab1.050a0220.293a84.ae8eSMTPIN_ADDED_MISSING@mx.google.com \
    --to=dpdklab@iol.unh.edu \
    --cc=dpdk-test-reports@iol.unh.edu \
    --cc=test-report@dpdk.org \
    /path/to/YOUR_REPLY

  https://kernel.org/pub/software/scm/git/docs/git-send-email.html

* If your mail client supports setting the In-Reply-To header
  via mailto: links, try the mailto: link
Be sure your reply has a Subject: header at the top and a blank line before the message body.
This is a public inbox, see mirroring instructions
for how to clone and mirror all data and code used for this inbox;
as well as URLs for NNTP newsgroup(s).