From mboxrd@z Thu Jan 1 00:00:00 1970 Return-Path: Received: from mails.dpdk.org (mails.dpdk.org [217.70.189.124]) by inbox.dpdk.org (Postfix) with ESMTP id A182346BDA for ; Mon, 21 Jul 2025 21:53:22 +0200 (CEST) Received: from mails.dpdk.org (localhost [127.0.0.1]) by mails.dpdk.org (Postfix) with ESMTP id 9D3204021E; Mon, 21 Jul 2025 21:53:22 +0200 (CEST) Received: from mail-il1-f226.google.com (mail-il1-f226.google.com [209.85.166.226]) by mails.dpdk.org (Postfix) with ESMTP id B6D794021E for ; Mon, 21 Jul 2025 21:53:21 +0200 (CEST) Received: by mail-il1-f226.google.com with SMTP id e9e14a558f8ab-3df2f937370so18812945ab.3 for ; Mon, 21 Jul 2025 12:53:21 -0700 (PDT) DKIM-Signature: v=1; a=rsa-sha256; c=relaxed/relaxed; d=iol.unh.edu; s=unh-iol; t=1753127601; x=1753732401; darn=dpdk.org; h=references:in-reply-to:cc:to:from:subject:message-id:date:from:to :cc:subject:date:message-id:reply-to; bh=uXWIFD2Ejnt5y/kK5SVmsdW/p4O7NoORLojfFY8qAS8=; b=RlYdpx7oMxCiXQWbJbOU2dMv2Bx3sWb9Ob8qTQHFK5A/Xj5EBB74NllVd1aiqk/FlD s9LQua1EBh/Tj5wh0z4ohbEImHGHCP9MBO0hRCMdmS9HtRqihYeIziSC9iJm3tP3R9j5 CXGpne1gDqOowv4OYp1aV1655G+FLWnakcj50= X-Google-DKIM-Signature: v=1; a=rsa-sha256; c=relaxed/relaxed; d=1e100.net; s=20230601; t=1753127601; x=1753732401; h=references:in-reply-to:cc:to:from:subject:message-id:date :x-gm-message-state:from:to:cc:subject:date:message-id:reply-to; bh=uXWIFD2Ejnt5y/kK5SVmsdW/p4O7NoORLojfFY8qAS8=; b=IgMhXXSiOVGbbW5KrP26lJxt5+HOwkPNypCokMk5whVYUoriK8HwqgapuNGReWm9UW nXZ1xVuI/mJ1q0z5LkZwjQD9R5XejoI6nmRJmjWvcamPE+B1CElppikmRl7GKE/ypW8l Oti6cGmQK7KaNZqQtv8iEBgNQyhBeDAaPpZ3WdzHq+a9dCdyZSPYiPHvhVB++cg/eA4y ErR8/seafLGcREeH3gTh43CTgXZEv9a0v2J8Pz7tyJ3fwEnGwDV3OeX9G/7LFnla5N6q WE2xiGuVFcJEk2tOeMYCIiPaj+IpfT9Qhj8R/p8FxCtE5n9geOsqcJn3VTcUGvW3z61+ PomA== X-Gm-Message-State: AOJu0YzNAdFcCFqEr0RRTk2CUHu+CCol+YrbwozNrBusBUV9YbBkh5kt KilcInkvusPmbVgkaRYoNHlzOIMP9+RSvxZdjoXaWZUeRvW6PRielxe7BeG/nhM2sjsItVHXcIJ rPh7c9IFoEqzAZdBNn19iX3gWxMJK81G83l44S7/BjsCynXpZ5Jo5LtJYdBrr X-Gm-Gg: ASbGncuSInO2RH3u0lU9w9oy4ntnn7tkPJ9zPY5Jh68i2rOperIXbih/FmMTjhnUvhO S9e/aBgNwDG0sYzr08eUQftphK5ecLef3BwDoejf0FQ80Ysj2anuiQA/jAW+8N80J8op3WGFdLn FH3Vh7Rt9NmyNedXGFqylhmcHde91D/mm8bOmsKJoZuKvjFAVUh64U1QclcxUAruSWJbhIebaNy IhesP5Y5+HzxAwBxNGJ5Sjf2uFTkLQmxIHxMI+gKJ7it4EiWq1nf7N55yczNVyMM558gdSC2aJq EEVi9pKNvTKg24fEGOadB6EioGT1+FcfHEg5wbBcCPTdAYw+HQ== X-Google-Smtp-Source: AGHT+IFZhZwjSw5fmiuDtLfFViCKShd+kT/0BMLcUSl1KizB7hmc04dXG4wMh2L7jmmuX4x5sxaEDt8KLcyO X-Received: by 2002:a05:6e02:184d:b0:3df:4046:93a9 with SMTP id e9e14a558f8ab-3e28d38306bmr211811155ab.5.1753127601012; Mon, 21 Jul 2025 12:53:21 -0700 (PDT) Received: from postal.iol.unh.edu (postal.iol.unh.edu. [2606:4100:3880:1234::84]) by smtp-relay.gmail.com with ESMTPS id e9e14a558f8ab-3e298238c59sm5251525ab.21.2025.07.21.12.53.20 (version=TLS1_2 cipher=ECDHE-ECDSA-AES128-GCM-SHA256 bits=128/128); Mon, 21 Jul 2025 12:53:21 -0700 (PDT) X-Relaying-Domain: iol.unh.edu Date: Mon, 21 Jul 2025 12:53:21 -0700 (PDT) Message-ID: <687e9ab1.050a0220.293a84.ae8eSMTPIN_ADDED_MISSING@mx.google.com> Received: from [172.21.0.2] (unknown [172.18.0.240]) by postal.iol.unh.edu (Postfix) with ESMTP id A42D0604D420; Mon, 21 Jul 2025 15:53:20 -0400 (EDT) Subject: |SUCCESS| pw155397 [PATCH] [v2] app/test-cmdline: add test to Window From: dpdklab@iol.unh.edu To: Test Report Cc: dpdk-test-reports@iol.unh.edu In-Reply-To: <1753121912-31321-1-git-send-email-andremue@linux.microsoft.com> References: <1753121912-31321-1-git-send-email-andremue@linux.microsoft.com> Content-Type: text/plain X-BeenThere: test-report@dpdk.org X-Mailman-Version: 2.1.29 Precedence: list List-Id: automatic DPDK test reports List-Unsubscribe: , List-Archive: List-Post: List-Help: List-Subscribe: , Errors-To: test-report-bounces@dpdk.org Test-Label: iol-unit-amd64-testing Test-Status: SUCCESS http://dpdk.org/patch/155397 _Testing PASS_ Submitter: Andre Muezerie Date: Monday, July 21 2025 18:18:32 DPDK git baseline: Repo:dpdk Branch: master CommitID:3795e96fc862e2b65aa8951f6661420510c87328 155397 --> testing pass Upstream job id: Generic-VM-Unit-Test-DPDK#30073 Test environment and result as below: +-------------------------------+----------------+ | Environment | dpdk_unit_test | +===============================+================+ | CentOS Stream 9 | PASS | +-------------------------------+----------------+ | CentOS Stream 10 | PASS | +-------------------------------+----------------+ | Fedora Linux 40 | PASS | +-------------------------------+----------------+ | Debian GNU/Linux 12 | PASS | +-------------------------------+----------------+ | Fedora Linux 41 | PASS | +-------------------------------+----------------+ | Ubuntu 20.04 | PASS | +-------------------------------+----------------+ | Red Hat Enterprise Linux 8.10 | PASS | +-------------------------------+----------------+ | Red Hat Enterprise Linux 9.5 | PASS | +-------------------------------+----------------+ | Ubuntu 22.04 | PASS | +-------------------------------+----------------+ | Ubuntu 24.04 | PASS | +-------------------------------+----------------+ | Windows Server 2022 | PASS | +-------------------------------+----------------+ CentOS Stream 9 Kernel: 5.15 Compiler: gcc gcc (GCC) 11.5.0 20240719 (Red Hat 11.5.0-7) CentOS Stream 10 Kernel: 5.15 Compiler: gcc gcc (GCC) 14.2.1 20250110 (Red Hat 14.2.1-8) Fedora Linux 40 Kernel: 5.15 Compiler: gcc gcc (GCC) 14.2.1 20240912 (Red Hat 14.2.1-3) Debian GNU/Linux 12 Kernel: 5.15 Compiler: gcc gcc (Debian 12.2.0-14+deb12u1) 12.2.0 Fedora Linux 41 Kernel: 5.15 Compiler: gcc gcc (GCC) 14.3.1 20250523 (Red Hat 14.3.1-1) Ubuntu 20.04 Kernel: 5.15 Compiler: gcc gcc (Ubuntu 9.4.0-1ubuntu1~20.04.2) 9.4.0 Red Hat Enterprise Linux 8.10 Kernel: 5.15 Compiler: gcc gcc (GCC) 8.5.0 20210514 (Red Hat 8.5.0-22) Red Hat Enterprise Linux 9.5 Kernel: 5.15 Compiler: gcc gcc (GCC) 11.5.0 20240719 (Red Hat 11.5.0-2) Ubuntu 22.04 Kernel: 5.15 Compiler: gcc gcc (Ubuntu 11.4.0-1ubuntu1~22.04) 11.4.0 Ubuntu 24.04 Kernel: 5.15 Compiler: gcc gcc (Ubuntu 13.3.0-6ubuntu2~24.04) 13.3.0 Windows Server 2022 Kernel: 10.0.20348.2031 Compiler: clang 15.0.7, gcc 14.1.0 (MinGW), and MSVC VS 19.39.33521 To view detailed results, visit: https://lab.dpdk.org/results/dashboard/patchsets/33714/ UNH-IOL DPDK Community Lab To manage your email subscriptions, visit: https://lab.dpdk.org/results/dashboard/preferences/subscriptions/