From mboxrd@z Thu Jan 1 00:00:00 1970 Return-Path: Received: from mails.dpdk.org (mails.dpdk.org [217.70.189.124]) by inbox.dpdk.org (Postfix) with ESMTP id 3BE5346BDA for ; Mon, 21 Jul 2025 21:57:38 +0200 (CEST) Received: from mails.dpdk.org (localhost [127.0.0.1]) by mails.dpdk.org (Postfix) with ESMTP id 3290A4021E; Mon, 21 Jul 2025 21:57:38 +0200 (CEST) Received: from mail-yw1-f228.google.com (mail-yw1-f228.google.com [209.85.128.228]) by mails.dpdk.org (Postfix) with ESMTP id 9ECCA4021E for ; Mon, 21 Jul 2025 21:57:36 +0200 (CEST) Received: by mail-yw1-f228.google.com with SMTP id 00721157ae682-718389fb988so45961577b3.1 for ; Mon, 21 Jul 2025 12:57:36 -0700 (PDT) DKIM-Signature: v=1; a=rsa-sha256; c=relaxed/relaxed; d=iol.unh.edu; s=unh-iol; t=1753127856; x=1753732656; darn=dpdk.org; h=references:in-reply-to:cc:to:from:subject:message-id:date:from:to :cc:subject:date:message-id:reply-to; bh=ATukfXQtlBU095nOIIQpxoKzO8AxFJfle8R8PNfp9rM=; b=T/fX+VwzUBySJk2lAOY9qUqtDwRZxGvRPL0jDz4Lu/pbK4PRmRBlrFu0MsRva+QAMN LL/1CbN8ErFrqLsNaVgJTjkVOLmaH3+U4lldwDUrRFssNbIYL1AdCdJz0k6zEd4HBb0W AQaa4a1BJPUxdZQFD+SkeR5ssScTMw0BR++Jg= X-Google-DKIM-Signature: v=1; a=rsa-sha256; c=relaxed/relaxed; d=1e100.net; s=20230601; t=1753127856; x=1753732656; h=references:in-reply-to:cc:to:from:subject:message-id:date :x-gm-message-state:from:to:cc:subject:date:message-id:reply-to; bh=ATukfXQtlBU095nOIIQpxoKzO8AxFJfle8R8PNfp9rM=; b=Gau7J5F4jAO22T62P/TbQOlSELT2yn227diPCQO/6JNBFXJPCpSV4ZrA6mZHtjRX7w 8l8cJsMoljPrjuuKy2k+dBjPxkf7thCie/cR+KFkL9QhWePMjc/+3CSpujYtnIAOcqEW AkPOLGUJLyhaKjZY5un3UC+h3hciYujugHYJYVvnzrxbDQQcqMJpQgwTRBOe/t2zvDIg PZW/DFY9gddIT+xgQrnnKbWcAOeLGJw2I6QtxGNOjBdq5RITE44c+6SaI5NfydmnFn5z 6C6uCLCFJ6lnkVcm4AeOy9Fpp4/wF6DwQlm20r9ndpjRiL5E1Ac/aZbzoIX/shfiUEnE ukug== X-Gm-Message-State: AOJu0YyEXWcuWl0FxHxF4QZngPrKXAL2RBS0iw8C2kxxrhIfBLloHGCU ZugT22aHFI+jyEaEkvnaDdjb7dCc/mHGCE6Wtdst/CKkxTtAuJ2REg3Iax9xo5Oeom7LckaeCZP 3/Jxh7rKjlwHgBFkEPkRj6SD4sIL268aF1JK+HHcqge4SEpbjNH42Fx/eS2TK X-Gm-Gg: ASbGncugg8ruygK/7e3hrWGnsaYkFRNd7aKe/XAE3ujT68+11N9n4OQI6HUzTJ2S67U kc+PCwz3upV1REnyDPKb0rSZ0LQZT06NrvUhRNLR95HKdyZZsl5wJv3xbJ61C9YEDI2P4VLPWrh 1IJcedTod9qudC1o4SVjDy6kAYyU0e7578xEuOYUKh0kHX9haNPMDK9g0ETIclc/+JQfSn2eGuf Jz+zGOIRDefw16ytpDUKBpqnJ9sfO5D0Ov03Lp/9F9DTt98co33wz2PwtMDeOK1dWhiQH3ZRaAz NWwlQPxAJrqbyYhs9LLUlma2h9UHCbgaZgD+Dj8bHM7FrzCAPg== X-Google-Smtp-Source: AGHT+IHeHidfxfkNTc+igiN+/MB4RZscmiYJM+9EF0hCX3DSMkBhzHqoi/oc378PUha2y5ygy3tQGzPezCAY X-Received: by 2002:a05:690c:64c3:b0:70f:88e2:c4ae with SMTP id 00721157ae682-7183517be47mr311447837b3.37.1753127855790; Mon, 21 Jul 2025 12:57:35 -0700 (PDT) Received: from postal.iol.unh.edu (postal.iol.unh.edu. [2606:4100:3880:1234::84]) by smtp-relay.gmail.com with ESMTPS id 00721157ae682-719533605dfsm2358697b3.54.2025.07.21.12.57.35 (version=TLS1_2 cipher=ECDHE-ECDSA-AES128-GCM-SHA256 bits=128/128); Mon, 21 Jul 2025 12:57:35 -0700 (PDT) X-Relaying-Domain: iol.unh.edu Date: Mon, 21 Jul 2025 12:57:35 -0700 (PDT) Message-ID: <687e9baf.050a0220.8384.b9e5SMTPIN_ADDED_MISSING@mx.google.com> Received: from [172.21.0.3] (unknown [172.18.0.240]) by postal.iol.unh.edu (Postfix) with ESMTP id 7681C604D420; Mon, 21 Jul 2025 15:57:35 -0400 (EDT) Subject: |SUCCESS| pw155397 [PATCH] [v2] app/test-cmdline: add test to Window From: dpdklab@iol.unh.edu To: Test Report Cc: dpdk-test-reports@iol.unh.edu In-Reply-To: <1753121912-31321-1-git-send-email-andremue@linux.microsoft.com> References: <1753121912-31321-1-git-send-email-andremue@linux.microsoft.com> Content-Type: text/plain X-BeenThere: test-report@dpdk.org X-Mailman-Version: 2.1.29 Precedence: list List-Id: automatic DPDK test reports List-Unsubscribe: , List-Archive: List-Post: List-Help: List-Subscribe: , Errors-To: test-report-bounces@dpdk.org Test-Label: iol-abi-testing Test-Status: SUCCESS http://dpdk.org/patch/155397 _Testing PASS_ Submitter: Andre Muezerie Date: Monday, July 21 2025 18:18:32 DPDK git baseline: Repo:dpdk Branch: master CommitID:3795e96fc862e2b65aa8951f6661420510c87328 155397 --> testing pass Upstream job id: Generic-DPDK-Compile-ABI#135132 Test environment and result as below: +-------------------------------+----------+ | Environment | abi_test | +===============================+==========+ | CentOS Stream 9 | PASS | +-------------------------------+----------+ | Fedora Linux 40 | PASS | +-------------------------------+----------+ | Debian GNU/Linux 12 | PASS | +-------------------------------+----------+ | CentOS Stream 10 | PASS | +-------------------------------+----------+ | Fedora Linux 41 | PASS | +-------------------------------+----------+ | Ubuntu 22.04 | PASS | +-------------------------------+----------+ | openSUSE Leap 15.6 | PASS | +-------------------------------+----------+ | Red Hat Enterprise Linux 8.10 | PASS | +-------------------------------+----------+ | Ubuntu 24.04 | PASS | +-------------------------------+----------+ | Red Hat Enterprise Linux 9.5 | PASS | +-------------------------------+----------+ CentOS Stream 9 Kernel: 5.15 Compiler: gcc gcc (GCC) 11.5.0 20240719 (Red Hat 11.5.0-7) Fedora Linux 40 Kernel: 5.15 Compiler: gcc gcc (GCC) 14.2.1 20240912 (Red Hat 14.2.1-3) Debian GNU/Linux 12 Kernel: 5.15 Compiler: gcc gcc (Debian 12.2.0-14+deb12u1) 12.2.0 CentOS Stream 10 Kernel: 5.15 Compiler: gcc gcc (GCC) 14.2.1 20250110 (Red Hat 14.2.1-8) Fedora Linux 41 Kernel: 5.15 Compiler: clang gcc (GCC) 14.3.1 20250523 (Red Hat 14.3.1-1) Ubuntu 22.04 Kernel: 5.15 Compiler: gcc gcc (Ubuntu 11.4.0-1ubuntu1~22.04) 11.4.0 openSUSE Leap 15.6 Kernel: 5.15 Compiler: gcc gcc (SUSE Linux) 7.5.0 Red Hat Enterprise Linux 8.10 Kernel: 5.15 Compiler: gcc gcc (GCC) 8.5.0 20210514 (Red Hat 8.5.0-22) Ubuntu 24.04 Kernel: 5.15 Compiler: gcc gcc (Ubuntu 13.3.0-6ubuntu2~24.04) 13.3.0 Red Hat Enterprise Linux 9.5 Kernel: 5.15 Compiler: gcc gcc (GCC) 11.5.0 20240719 (Red Hat 11.5.0-2) To view detailed results, visit: https://lab.dpdk.org/results/dashboard/patchsets/33714/ UNH-IOL DPDK Community Lab To manage your email subscriptions, visit: https://lab.dpdk.org/results/dashboard/preferences/subscriptions/