From mboxrd@z Thu Jan 1 00:00:00 1970 Return-Path: Received: from mails.dpdk.org (mails.dpdk.org [217.70.189.124]) by inbox.dpdk.org (Postfix) with ESMTP id 2A35246BDA for ; Mon, 21 Jul 2025 22:16:58 +0200 (CEST) Received: from mails.dpdk.org (localhost [127.0.0.1]) by mails.dpdk.org (Postfix) with ESMTP id 242DD4021E; Mon, 21 Jul 2025 22:16:58 +0200 (CEST) Received: from mail-qv1-f99.google.com (mail-qv1-f99.google.com [209.85.219.99]) by mails.dpdk.org (Postfix) with ESMTP id 816624021E for ; Mon, 21 Jul 2025 22:16:56 +0200 (CEST) Received: by mail-qv1-f99.google.com with SMTP id 6a1803df08f44-6faf66905adso29212346d6.2 for ; Mon, 21 Jul 2025 13:16:56 -0700 (PDT) DKIM-Signature: v=1; a=rsa-sha256; c=relaxed/relaxed; d=iol.unh.edu; s=unh-iol; t=1753129016; x=1753733816; darn=dpdk.org; h=references:in-reply-to:cc:to:from:subject:message-id:date:from:to :cc:subject:date:message-id:reply-to; bh=aF4MSt08VGU6hXmIMKWUuDmfWQXw1DxlBHsWLxUoFCQ=; b=B/EXFTi4g+UuvY/taUFSYRs9RXenH5H5CO3jlsIsLgHTG2iwH1x+S3Bhfv+wRXc4gZ qjWetf3FlO8RmIsZQJXXseF0sDxENSPBBJzKa0JVkz6zGEzMQjySaYKIze/6HyuBQ/kY tWMJBt45yMVu0RhVnjjlXisKYs/9f13omqDW8= X-Google-DKIM-Signature: v=1; a=rsa-sha256; c=relaxed/relaxed; d=1e100.net; s=20230601; t=1753129016; x=1753733816; h=references:in-reply-to:cc:to:from:subject:message-id:date :x-gm-message-state:from:to:cc:subject:date:message-id:reply-to; bh=aF4MSt08VGU6hXmIMKWUuDmfWQXw1DxlBHsWLxUoFCQ=; b=h1W0riF0HiXT+38VQ8P5hDljov58bFbaG8Ugqo2h6ZVv0kuMlK5/iX4qTfI+7XaomI tnIxzsccKzU4JJ2rkd3FtsCCeyuP2XnOTjaQipS42ssjb1cAebZ0U+jZ9aYlQkbdl8hr bPleXndZB59+Kinhy3IW2wxcR1eN4h6tZSlznG04mGvSHvyB9cOiou4hmKjgopKft30J S9nivm/CiHkKimHE7GwQfC9bd8sCSckZfR0p98gqLjMS1Z1v/9YZgjUKeWGABhtUPPk0 KGj6LdnMX13dSh8PKFaQ7922WcYuxcW2+/iPHAO86/H6uxnBY5tcfANLmppnLc0no01Y 1+0Q== X-Gm-Message-State: AOJu0Yyg7QjtRbsC1kp1MJ3osK/OF3dgYI4C8qRM2Z8J39OH8rS8u7WX ffKKy0HUCNkSyjKVjcjxVxgg7czy2Ewm1UsIifsbEka18hifgCpCNs7Tcdxs0a2GBMvv16dpdXG ZUenj85kHGeXIR5sp/Q5hOOSuec9E2FYKjTAUYGoELxXBKFoRL62RoF0x7+ga X-Gm-Gg: ASbGnctjommh8UAxzGvAzJbYeQtnGSmvREhAFUMyzTvTgb+CNeU6f0MSJD37LK098MQ cqvvCEhPZMHargxp2ZLF4XJz3nqBUkHTOXnmdMTkltxJA14mKr/cr4XOoyssjKeeBoa0eRKfiQr dbn+y6g1mJDqO81EVk9r9G+x27lxvjoliK9Q5ctDhR1WYL1YNe5+4WID0EPkTtLHF+NXiBQGNLX JUvnnPR+sLvSprOSyj7wd8rbD3revSYzDBgD9xy81ZVAnWeiYCOMMtdfYptnvnwmF61wkZeSQJg sBAXnO7pYRFKaeJ4PL+pA5RKxzq3hxdc0Yyf2yBZ7oLDbq9pJg== X-Google-Smtp-Source: AGHT+IFF2OeUFVG4kfbXU53nXQKwtEZi0gTzG4PqbgSjJmtz9TeFA42VARhz52Ia0S2UzQXe3/vkXnBNQSOs X-Received: by 2002:a05:6214:cca:b0:704:e0ab:a9bd with SMTP id 6a1803df08f44-704f6aa0c53mr294317686d6.24.1753129015847; Mon, 21 Jul 2025 13:16:55 -0700 (PDT) Received: from postal.iol.unh.edu (postal.iol.unh.edu. [2606:4100:3880:1234::84]) by smtp-relay.gmail.com with ESMTPS id 6a1803df08f44-7051ba78c70sm4274686d6.21.2025.07.21.13.16.55 (version=TLS1_2 cipher=ECDHE-ECDSA-AES128-GCM-SHA256 bits=128/128); Mon, 21 Jul 2025 13:16:55 -0700 (PDT) X-Relaying-Domain: iol.unh.edu Date: Mon, 21 Jul 2025 13:16:55 -0700 (PDT) Message-ID: <687ea037.050a0220.102118.59a3SMTPIN_ADDED_MISSING@mx.google.com> Received: from [172.21.0.4] (unknown [172.18.0.240]) by postal.iol.unh.edu (Postfix) with ESMTP id 191EF604D420; Mon, 21 Jul 2025 16:16:55 -0400 (EDT) Subject: |SUCCESS| pw155397 [PATCH] [v2] app/test-cmdline: add test to Window From: dpdklab@iol.unh.edu To: Test Report Cc: dpdk-test-reports@iol.unh.edu In-Reply-To: <1753121912-31321-1-git-send-email-andremue@linux.microsoft.com> References: <1753121912-31321-1-git-send-email-andremue@linux.microsoft.com> Content-Type: text/plain X-BeenThere: test-report@dpdk.org X-Mailman-Version: 2.1.29 Precedence: list List-Id: automatic DPDK test reports List-Unsubscribe: , List-Archive: List-Post: List-Help: List-Subscribe: , Errors-To: test-report-bounces@dpdk.org Test-Label: iol-unit-arm64-testing Test-Status: SUCCESS http://dpdk.org/patch/155397 _Testing PASS_ Submitter: Andre Muezerie Date: Monday, July 21 2025 18:18:32 DPDK git baseline: Repo:dpdk Branch: master CommitID:3795e96fc862e2b65aa8951f6661420510c87328 155397 --> testing pass Upstream job id: Generic-Unit-Test-DPDK#356977 Test environment and result as below: +------------------------------+----------------+--------------+---------------------------+------------------------------+ | Environment | dpdk_unit_test | lpm_autotest | cryptodev_sw_zuc_autotest | cryptodev_sw_snow3g_autotest | +==============================+================+==============+===========================+==============================+ | Debian GNU/Linux 12 | PASS | SKIPPED | SKIPPED | SKIPPED | +------------------------------+----------------+--------------+---------------------------+------------------------------+ | CentOS Stream 10 | PASS | SKIPPED | SKIPPED | SKIPPED | +------------------------------+----------------+--------------+---------------------------+------------------------------+ | CentOS Stream 9 | PASS | SKIPPED | SKIPPED | SKIPPED | +------------------------------+----------------+--------------+---------------------------+------------------------------+ | Fedora Linux 41 | PASS | SKIPPED | SKIPPED | SKIPPED | +------------------------------+----------------+--------------+---------------------------+------------------------------+ | Fedora Linux 40 | PASS | SKIPPED | SKIPPED | SKIPPED | +------------------------------+----------------+--------------+---------------------------+------------------------------+ | Red Hat Enterprise Linux 9.5 | PASS | SKIPPED | SKIPPED | SKIPPED | +------------------------------+----------------+--------------+---------------------------+------------------------------+ | Ubuntu 20.04 | PASS | PASS | SKIPPED | SKIPPED | +------------------------------+----------------+--------------+---------------------------+------------------------------+ | Ubuntu 22.04 | PASS | SKIPPED | SKIPPED | SKIPPED | +------------------------------+----------------+--------------+---------------------------+------------------------------+ | Ubuntu 24.04 | PASS | SKIPPED | SKIPPED | SKIPPED | +------------------------------+----------------+--------------+---------------------------+------------------------------+ | Debian 12 (arm) | SKIPPED | SKIPPED | PASS | PASS | +------------------------------+----------------+--------------+---------------------------+------------------------------+ Debian GNU/Linux 12 Kernel: 5.4 Compiler: gcc gcc (Debian 12.2.0-14+deb12u1) 12.2.0 CentOS Stream 10 Kernel: 5.4 Compiler: gcc gcc (GCC) 14.2.1 20250110 (Red Hat 14.2.1-8) CentOS Stream 9 Kernel: 5.4 Compiler: gcc gcc (GCC) 11.5.0 20240719 (Red Hat 11.5.0-7) Fedora Linux 41 Kernel: 5.4 Compiler: gcc gcc (GCC) 14.3.1 20250523 (Red Hat 14.3.1-1) Fedora Linux 40 Kernel: 5.4 Compiler: gcc gcc (GCC) 14.2.1 20240912 (Red Hat 14.2.1-3) Red Hat Enterprise Linux 9.5 Kernel: 5.4 Compiler: gcc gcc (GCC) 11.5.0 20240719 (Red Hat 11.5.0-2) Ubuntu 20.04 Kernel: 5.4 Compiler: gcc gcc (Ubuntu 9.4.0-1ubuntu1~20.04.2) 9.4.0 Ubuntu 22.04 Kernel: 5.4 Compiler: gcc gcc (Ubuntu 11.4.0-1ubuntu1~22.04) 11.4.0 Ubuntu 24.04 Kernel: 5.4 Compiler: gcc gcc (Ubuntu 13.3.0-6ubuntu2~24.04) 13.3.0 Debian 12 (arm) Kernel: Depends on container host Compiler: gcc (Debian 12.2.0-14) 12.2.0 To view detailed results, visit: https://lab.dpdk.org/results/dashboard/patchsets/33714/ UNH-IOL DPDK Community Lab To manage your email subscriptions, visit: https://lab.dpdk.org/results/dashboard/preferences/subscriptions/